BEGIN:VCALENDAR
VERSION:2.0
PRODID:-//Octagon Center for the Arts - ECPv6.15.18//NONSGML v1.0//EN
CALSCALE:GREGORIAN
METHOD:PUBLISH
X-WR-CALNAME:Octagon Center for the Arts
X-ORIGINAL-URL:https://octagonarts.org
X-WR-CALDESC:Events for Octagon Center for the Arts
REFRESH-INTERVAL;VALUE=DURATION:PT1H
X-Robots-Tag:noindex
X-PUBLISHED-TTL:PT1H
BEGIN:VTIMEZONE
TZID:America/Chicago
BEGIN:DAYLIGHT
TZOFFSETFROM:-0600
TZOFFSETTO:-0500
TZNAME:CDT
DTSTART:20250309T080000
END:DAYLIGHT
BEGIN:STANDARD
TZOFFSETFROM:-0500
TZOFFSETTO:-0600
TZNAME:CST
DTSTART:20251102T070000
END:STANDARD
BEGIN:DAYLIGHT
TZOFFSETFROM:-0600
TZOFFSETTO:-0500
TZNAME:CDT
DTSTART:20260308T080000
END:DAYLIGHT
BEGIN:STANDARD
TZOFFSETFROM:-0500
TZOFFSETTO:-0600
TZNAME:CST
DTSTART:20261101T070000
END:STANDARD
BEGIN:DAYLIGHT
TZOFFSETFROM:-0600
TZOFFSETTO:-0500
TZNAME:CDT
DTSTART:20270314T080000
END:DAYLIGHT
BEGIN:STANDARD
TZOFFSETFROM:-0500
TZOFFSETTO:-0600
TZNAME:CST
DTSTART:20271107T070000
END:STANDARD
END:VTIMEZONE
BEGIN:VEVENT
DTSTART;TZID=America/Chicago:20260513T100000
DTEND;TZID=America/Chicago:20260516T170000
DTSTAMP:20260423T061732
CREATED:20260113T211419Z
LAST-MODIFIED:20260422T222228Z
UID:17439-1778666400-1778950800@octagonarts.org
SUMMARY:Art From the Attic - Octagon Art Sale
DESCRIPTION:Art From the AtticArt Sale Event by Octagon ShopEvent Dates:Wednesday\, May 13th\, 2025 – Member’s Only Pre-SaleThursday\, May 14th\, 2025 – Event Public Opening DaySaturday\, May 16th\, 2025 – Event Closes \nAbout This Event:Art from the Attic begins Thursday\, May 14! Purchase art from members of the Octagon who have graciously donated original artwork\, and pieces we have gathered from our building that need a new home. We believe that art is for everyone\, so you will find a variety of styles and prices that are affordable. Stop by the gallery between 10AM and 7PM to browse through one-of-a-kind artworks that will fit perfectly in your space at incredibly low prices. The sale continues Friday\, 10AM to 7PM and Saturday\, 10AM to 5PM. \n  \nMembers Only Pre-Sale: \nMembers can join us Wednesday\, May 13 from 4:00-7:00 PM for a special pre-sale. Members have the first opportunity to browse and purchase work for sale. It’s our way of saying thank you for supporting the Octagon through your membership! \n \n \nDonating Artwork:\nIf you have quality art pieces that you no longer have room for or no longer fits with your décor\, we would love to have you consider donating it to our art sale. We provide incredible discounts on quality work to make it accessible to people from all walks of life. We are focused on original art and prints\, as opposed to items purchased from box stores or home décor businesses. All proceeds go to support classes and events at the Octagon.\n \nIf you choose to donate\, please make sure artwork is not damaged\, dirty or faded. If you have multiple or large pieces\, live in Ames\, and don’t have a way to transport them to the Octagon\, please contact office@octagonarts.org or admin@octagonarts.org and the Octagon staff will make arrangements for pick up. Also\, we are not able to accept jewelry for the sale. Once donated to the sale\, the Octagon has full ownership and discretion of any remaining\, unsold artwork. \n \nWe appreciate your commitment to the Octagon and our mission\, through your membership\, donations and attendance at events. If this is something you are interested in participating in\, you can bring your art pieces to the Octagon Monday through Thursday\, 10 AM to 5:30 PM. If those times don’t work for you\, give us a call and we can set up a time to meet you.\n \nNOTE: Per IRS guidelines\, the Octagon is not able to provide a donation receipt for artwork since it’s a noncash charitable contribution\, and the Octagon is unable to establish a cash value for donated artwork.
URL:https://octagonarts.org/event/art-from-the-attic-octagon-art-sale/
LOCATION:Octagon Center for the Arts\, 427 Douglas Avenue\, Ames\, IA\, 50010\, United States
CATEGORIES:Events
ATTACH;FMTTYPE=image/jpeg:https://octagonarts.org/wp-content/uploads/2025/01/IMG_2868.jpg
ORGANIZER;CN="Octagon Center for the Arts":MAILTO:info@octagonarts.org
GEO:42.0257584;-93.6123172
X-APPLE-STRUCTURED-LOCATION;VALUE=URI;X-ADDRESS=Octagon Center for the Arts 427 Douglas Avenue Ames IA 50010 United States;X-APPLE-RADIUS=500;X-TITLE=427 Douglas Avenue:geo:-93.6123172,42.0257584
END:VEVENT
END:VCALENDAR