BEGIN:VCALENDAR
VERSION:2.0
PRODID:-//Octagon Center for the Arts - ECPv6.15.18//NONSGML v1.0//EN
CALSCALE:GREGORIAN
METHOD:PUBLISH
X-ORIGINAL-URL:https://octagonarts.org
X-WR-CALDESC:Events for Octagon Center for the Arts
REFRESH-INTERVAL;VALUE=DURATION:PT1H
X-Robots-Tag:noindex
X-PUBLISHED-TTL:PT1H
BEGIN:VTIMEZONE
TZID:America/Chicago
BEGIN:DAYLIGHT
TZOFFSETFROM:-0600
TZOFFSETTO:-0500
TZNAME:CDT
DTSTART:20240310T080000
END:DAYLIGHT
BEGIN:STANDARD
TZOFFSETFROM:-0500
TZOFFSETTO:-0600
TZNAME:CST
DTSTART:20241103T070000
END:STANDARD
BEGIN:DAYLIGHT
TZOFFSETFROM:-0600
TZOFFSETTO:-0500
TZNAME:CDT
DTSTART:20250309T080000
END:DAYLIGHT
BEGIN:STANDARD
TZOFFSETFROM:-0500
TZOFFSETTO:-0600
TZNAME:CST
DTSTART:20251102T070000
END:STANDARD
BEGIN:DAYLIGHT
TZOFFSETFROM:-0600
TZOFFSETTO:-0500
TZNAME:CDT
DTSTART:20260308T080000
END:DAYLIGHT
BEGIN:STANDARD
TZOFFSETFROM:-0500
TZOFFSETTO:-0600
TZNAME:CST
DTSTART:20261101T070000
END:STANDARD
END:VTIMEZONE
BEGIN:VEVENT
DTSTART;TZID=America/Chicago:20250227T100000
DTEND;TZID=America/Chicago:20250329T170000
DTSTAMP:20260425T095458
CREATED:20250108T201957Z
LAST-MODIFIED:20250130T164235Z
UID:16696-1740650400-1743267600@octagonarts.org
SUMMARY:Octagonal: The All Media Show 2025
DESCRIPTION:February 27th – March 29th\, 2025 \nRECEPTION:\nFebruary 27th 5:30PM-7:30PM\nIn the Community Gallery\nAwards announced at 6:30PM\nALL ARE WELCOME TO ATTEND! \n \n\n\n\n\n\n\n\n\n \nOctagonal: The All-Media Show is the annual\, juried all-media exhibition at the Octagon Center for the Arts in Ames\, Iowa. Originally titled the Clay and Paper Show\, the exhibit opened in 1968 to provide an opportunity to the central Iowa arts community. Over the past 56 years\, the exhibit morphed over the decades to become the Clay\, Fiber\, Paper\, Glass\, Metal\, Wood Exhibit that has featured hundreds of artists from dozens of states. The newest version of the exhibit\, Octagonal: The All-Media Show\, launched in 2018 taking a note from the past while moving forward to continue to provide an exciting opportunity for artists across Iowa\, the Midwest\, and the nation. This exhibit features a regionally-recognized juror each year\, attracts artists from across the United States\, and provides significant cash awards.\n\n\n2025 Juror: Chris Vance\n\n\n \n\nClick Here to learn more \nArtist List:\nAlicia Wilkinson\, Amy Williams\, Angie Huffman\, Barb Thompson\, Carolyn Abbott\, Diana Friend\, Diane Michaud Lowry\, Emily Milewsky\, Geri Wolfe Boesen\, Hana Brock\, Isaac Prior\, Jerene Kruse\, Jess Quinn\, Joanne Alberda\, Joseph Wyckoff\, Josh Sorrell\, Kaitlin Harvey\, Kelly Devitt\, Kelsey Wilson\, Kimberlee Rocca\, Linda Lewis\, Lucy Watters\, Lydia Nong\, Maggie Douglas\, Mattea Whetstone\, Megan Hammer\, Meghan Flynn\, Melynda Van Zee\, Michele Hardy\, Natalie Deam\, Pam Hibbs\, Robert Wallace\, Sara Slee Brown\, Sean Thornton\, Sydney Thompson\, Tiffany Antone\, Tim Olson\, Trey Reis\, Will Hildebrandt\, Zack Bukovich
URL:https://octagonarts.org/event/octagonal-the-all-media-show-2025/
LOCATION:Octagon Center for the Arts\, 427 Douglas Avenue\, Ames\, IA\, 50010\, United States
CATEGORIES:Events,Exhibits
ATTACH;FMTTYPE=image/jpeg:https://octagonarts.org/wp-content/uploads/2023/01/octagonal-logo-cropped.jpg
ORGANIZER;CN="Octagon Center for the Arts":MAILTO:info@octagonarts.org
GEO:42.0257584;-93.6123172
X-APPLE-STRUCTURED-LOCATION;VALUE=URI;X-ADDRESS=Octagon Center for the Arts 427 Douglas Avenue Ames IA 50010 United States;X-APPLE-RADIUS=500;X-TITLE=427 Douglas Avenue:geo:-93.6123172,42.0257584
END:VEVENT
END:VCALENDAR