BEGIN:VCALENDAR
VERSION:2.0
PRODID:-//Octagon Center for the Arts - ECPv6.15.18//NONSGML v1.0//EN
CALSCALE:GREGORIAN
METHOD:PUBLISH
X-WR-CALNAME:Octagon Center for the Arts
X-ORIGINAL-URL:https://octagonarts.org
X-WR-CALDESC:Events for Octagon Center for the Arts
REFRESH-INTERVAL;VALUE=DURATION:PT1H
X-Robots-Tag:noindex
X-PUBLISHED-TTL:PT1H
BEGIN:VTIMEZONE
TZID:America/Chicago
BEGIN:DAYLIGHT
TZOFFSETFROM:-0600
TZOFFSETTO:-0500
TZNAME:CDT
DTSTART:20240310T080000
END:DAYLIGHT
BEGIN:STANDARD
TZOFFSETFROM:-0500
TZOFFSETTO:-0600
TZNAME:CST
DTSTART:20241103T070000
END:STANDARD
BEGIN:DAYLIGHT
TZOFFSETFROM:-0600
TZOFFSETTO:-0500
TZNAME:CDT
DTSTART:20250309T080000
END:DAYLIGHT
BEGIN:STANDARD
TZOFFSETFROM:-0500
TZOFFSETTO:-0600
TZNAME:CST
DTSTART:20251102T070000
END:STANDARD
BEGIN:DAYLIGHT
TZOFFSETFROM:-0600
TZOFFSETTO:-0500
TZNAME:CDT
DTSTART:20260308T080000
END:DAYLIGHT
BEGIN:STANDARD
TZOFFSETFROM:-0500
TZOFFSETTO:-0600
TZNAME:CST
DTSTART:20261101T070000
END:STANDARD
END:VTIMEZONE
BEGIN:VEVENT
DTSTART;TZID=America/Chicago:20250521T100000
DTEND;TZID=America/Chicago:20250627T170000
DTSTAMP:20260425T060420
CREATED:20260113T211807Z
LAST-MODIFIED:20260113T211807Z
UID:17443-1747821600-1751043600@octagonarts.org
SUMMARY:2026 Annual Members' Show
DESCRIPTION:2026 Annual Members’ Show\nGroup Exhibition by members of the Octagon Center for the Arts\nTBD in the Octagon Community Gallery \nAbout this group exhibition:\nThis non-juried show celebrates the skills\, creativity\, and lived experiences of the Octagon community! Let’s fill the gallery and surround ourselves with our own amazing work — established artists next to emerging artists\, all media.\nSubmission information to come!\n \nExhibition Dates:\nMay 21\, 2026 – Exhibition Opening Day\nTBD – Exhibition Reception\nJune 27\, 2026 – Exhibition Closes \nArtist List:\nTBD
URL:https://octagonarts.org/event/2026-annual-members-show/
LOCATION:Octagon Center for the Arts\, 427 Douglas Avenue\, Ames\, IA\, 50010\, United States
CATEGORIES:Events,Exhibits
ATTACH;FMTTYPE=image/jpeg:https://octagonarts.org/wp-content/uploads/2023/09/member-show-e1709837033870.jpg
ORGANIZER;CN="Octagon Center for the Arts":MAILTO:info@octagonarts.org
GEO:42.0257584;-93.6123172
X-APPLE-STRUCTURED-LOCATION;VALUE=URI;X-ADDRESS=Octagon Center for the Arts 427 Douglas Avenue Ames IA 50010 United States;X-APPLE-RADIUS=500;X-TITLE=427 Douglas Avenue:geo:-93.6123172,42.0257584
END:VEVENT
BEGIN:VEVENT
DTSTART;TZID=America/Chicago:20250527T100000
DTEND;TZID=America/Chicago:20250621T170000
DTSTAMP:20260425T060420
CREATED:20240307T184829Z
LAST-MODIFIED:20250528T185530Z
UID:16125-1748340000-1750525200@octagonarts.org
SUMMARY:2025 Annual Members' Show
DESCRIPTION:2025 Annual Members’ Show\nGroup Exhibition by members of the Octagon Center for the Arts\nMay 27th – June 21st\, 2025 in the Octagon Community Gallery \nAbout this group exhibition:\nThis non-juried show celebrates the skills\, creativity\, and lived experiences of the Octagon community! Let’s fill the gallery and surround ourselves with our own amazing work — established artists next to emerging artists\, all media.\n \nExhibition Dates:\nMay 27th\, 2025 – Exhibition Opening Day\nJune 21st\, 2025 – Exhibition Closes \nArtist List:\nCarolyn Abbott\, Sushila Anderson\, Abigail Badger\, Janice Bell\, Tina Campbell\, Vivian M. Cook\, Pamela Douglas\, Lisa Fontaine\, Jennifer Gauerke\, Joe Geha\, Raina Genaw\, Erik Gustafson\, Rex Heer\, Gary Hoard\, Denise Hoffman\, Laurie Hoifeldt\, Diane Holland Rickerl\, Evan Hoyt\, Summer Hoyt\, Sean Johnson\, Letitia Kenemer\, Nancy Lindsay\, Charissa Menefee\, Susan Norris\, Dori Patrick\, Clint Petersen\, Timothy F. Pross\, Kristin M. Roach\, Kimberlee Rocca\, Delayne Segar\, Robert Sunderman\, Kathy Svec\, Troy Thomas\, Barb Thompson\, Sean Thornton\, Karen Van Wert\, Rob Wallace\, Kelsey Wilson\, Jennifer Withers\, J Yang\, Thomas Zimmerman
URL:https://octagonarts.org/event/2025-annual-members-show/
LOCATION:Octagon Center for the Arts\, 427 Douglas Avenue\, Ames\, IA\, 50010\, United States
CATEGORIES:Events,Exhibits
ATTACH;FMTTYPE=image/jpeg:https://octagonarts.org/wp-content/uploads/2023/09/member-show-e1709837033870.jpg
ORGANIZER;CN="Octagon Center for the Arts":MAILTO:info@octagonarts.org
GEO:42.0257584;-93.6123172
X-APPLE-STRUCTURED-LOCATION;VALUE=URI;X-ADDRESS=Octagon Center for the Arts 427 Douglas Avenue Ames IA 50010 United States;X-APPLE-RADIUS=500;X-TITLE=427 Douglas Avenue:geo:-93.6123172,42.0257584
END:VEVENT
BEGIN:VEVENT
DTSTART;TZID=America/Chicago:20250630T100000
DTEND;TZID=America/Chicago:20250712T170000
DTSTAMP:20260425T060420
CREATED:20230921T203859Z
LAST-MODIFIED:20250625T174003Z
UID:15364-1751277600-1752339600@octagonarts.org
SUMMARY:Solo Art Exhibition: Raluca Iancu "Over + Under"
DESCRIPTION:Over + Under\nSolo Exhibition by Raluca Iancu\n\nExhibition Dates:\nJune 30th\, 2025 – Exhibition Opening Day\nJuly 10th\, 2025 – Exhibition Reception from 6pm – 7:30pm in the Community Gallery\nRaluca will be giving an Artist Talk at 6:30pm on July 10th!\nJuly 12th\, 2025 – Exhibition Closes \n \nArtist Statement:\nMy work explores disaster\, memory and vulnerability through different media\, ranging from printmaking to performance\, to edible art and printed objects. I question the way we look at tragedy as well as the way we deal with the aftermath. We depend on our technology (planes\, trains\, automobiles) and easily forget that it is just as fallible as our bodies. In our contemporary media driven culture\, catastrophes\, of all kinds\, are trivialized by their frequent appearances across the spectrum of information media\, especially as access to data is more widespread than ever before. We\, as a society\, have become desensitized to these events through constant exposure\, unable to understand the serious consequences of our actions. Separated from the outside world by our screens and windshields\, we create a culture of indifference as we learn to consume tragedy\, on all scales\, as entertainment. The automobile drastically changed the way that we experience the world\, physically\, as well as intellectually. We find ourselves with endless facets for the consideration of our impermanence\, as morbid curiosity pushes us to hyperextend our necks\, to the point of material transformation (skin\, bone\, and muscle\, into rubber). The work in this exhibition is centered on the role of automobiles in our lives and their impact on our environment. \n \nArtist Biography:\nRaluca Iancu is currently an Assistant Professor in Art & Visual Culture\, Printmaking\, at Iowa State University (ISU). She earned her MFA in Studio Art\, Printmaking\, from The University of Tennessee\, Knoxville (UTK)\, and her BFA in Printmaking from the Nova Scotia College of Art and Design University\, Halifax\, Nova Scotia. \nHer work investigates disaster\, memory\, and vulnerability through different media\, ranging from printmaking to performance\, to edible art and printed objects. She is interested in how our relationship with technology simultaneously enhances our lives\, while also leaving us vulnerable. \nShe has exhibited internationally\, at venues including the Art Museum of Cluj-Napoca (Romania)\, and the CICA Museum (Korea); and nationally at the International Print Center of New York (NY)\, the Bradbury Art Museum\, (AR)\, the Art Institute of Boston (MA)\, and the Hunterdon Museum (NJ)\, among others. She has been an artist in residence in the United States\, at the Hambidge Center for Creative Arts & Sciences (GA) and the Vermont Studio Center (VT)\, among others; and internationally Art Print Residence (Spain)\, the Eugeniusz Geppert Academy of Fine Arts (Poland)\, St Michael’s Printshop (Canada)\, Mi-LAB and Studio Kura (Japan)\, and\, most recently\, BetterPress Lab (Italy).
URL:https://octagonarts.org/event/overunder/
LOCATION:Octagon Center for the Arts\, 427 Douglas Avenue\, Ames\, IA\, 50010\, United States
CATEGORIES:Events,Exhibits
ATTACH;FMTTYPE=image/png:https://octagonarts.org/wp-content/uploads/2023/09/Raluca.png
ORGANIZER;CN="Octagon Center for the Arts":MAILTO:info@octagonarts.org
GEO:42.0257584;-93.6123172
X-APPLE-STRUCTURED-LOCATION;VALUE=URI;X-ADDRESS=Octagon Center for the Arts 427 Douglas Avenue Ames IA 50010 United States;X-APPLE-RADIUS=500;X-TITLE=427 Douglas Avenue:geo:-93.6123172,42.0257584
END:VEVENT
END:VCALENDAR