BEGIN:VCALENDAR
VERSION:2.0
PRODID:-//Octagon Center for the Arts - ECPv6.15.18//NONSGML v1.0//EN
CALSCALE:GREGORIAN
METHOD:PUBLISH
X-WR-CALNAME:Octagon Center for the Arts
X-ORIGINAL-URL:https://octagonarts.org
X-WR-CALDESC:Events for Octagon Center for the Arts
REFRESH-INTERVAL;VALUE=DURATION:PT1H
X-Robots-Tag:noindex
X-PUBLISHED-TTL:PT1H
BEGIN:VTIMEZONE
TZID:America/Chicago
BEGIN:DAYLIGHT
TZOFFSETFROM:-0600
TZOFFSETTO:-0500
TZNAME:CDT
DTSTART:20230312T080000
END:DAYLIGHT
BEGIN:STANDARD
TZOFFSETFROM:-0500
TZOFFSETTO:-0600
TZNAME:CST
DTSTART:20231105T070000
END:STANDARD
BEGIN:DAYLIGHT
TZOFFSETFROM:-0600
TZOFFSETTO:-0500
TZNAME:CDT
DTSTART:20240310T080000
END:DAYLIGHT
BEGIN:STANDARD
TZOFFSETFROM:-0500
TZOFFSETTO:-0600
TZNAME:CST
DTSTART:20241103T070000
END:STANDARD
BEGIN:DAYLIGHT
TZOFFSETFROM:-0600
TZOFFSETTO:-0500
TZNAME:CDT
DTSTART:20250309T080000
END:DAYLIGHT
BEGIN:STANDARD
TZOFFSETFROM:-0500
TZOFFSETTO:-0600
TZNAME:CST
DTSTART:20251102T070000
END:STANDARD
BEGIN:DAYLIGHT
TZOFFSETFROM:-0600
TZOFFSETTO:-0500
TZNAME:CDT
DTSTART:20260308T080000
END:DAYLIGHT
BEGIN:STANDARD
TZOFFSETFROM:-0500
TZOFFSETTO:-0600
TZNAME:CST
DTSTART:20261101T070000
END:STANDARD
END:VTIMEZONE
BEGIN:VEVENT
DTSTART;TZID=America/Chicago:20241216T100000
DTEND;TZID=America/Chicago:20250111T170000
DTSTAMP:20260425T185431
CREATED:20230921T204100Z
LAST-MODIFIED:20241218T195911Z
UID:15366-1734343200-1736614800@octagonarts.org
SUMMARY:The Faces I've Seen.
DESCRIPTION:The Faces I’ve Seen.\nSolo Exhibition by Karen Cooper\nDecember 16th\, 2024 – January 11th\, 2025 At The Octagon Community Gallery \nAbout this solo exhibition:\n \nExhibition Dates:\nDecember 16th\, 2024 – Exhibition Opening Day\nDecember 19th\, 2024 – Exhibition Reception 6PM – 7PM in the Community gallery\nJanuary 11th\, 2025 – Exhibition Closes \nArtist Biography:\n \nI am a watcher. \nIf someone with an interesting face\, or someone who looks like they might be great in a painting\, is out there on a sidewalk somewhere in the world\, then I say ‘game on’. It’s time to capture some reference material. Lots of these captures come via my camera. On a perfect day\, some of these random\, and often unknowing ‘models’ are stationary long enough to make it to my sketchbook. I have said the bottom line and always the focus\, is that the painting be a thing of substance and solidity and interest and beauty. But here’s something I am observing as my work matures – I no longer like playing it safe. I find it important and necessary to NOT paint safe – but rather to see the challenge\, accept it\, and give it my best shot. \nKaren was born and raised in Nebraska\, and then moved across the river to live in Iowa. From 2013 thru 2017\, Karen lived in Lipetsk\, Russia – long enough for the power and beauty of Russian impressionist art to make a potent impact. Study with a talented figurative artist while in Lipetsk\, increased the desire/need to draw with substance and clarity\, as part of the painting process. Karen has now returned to live\, and paint in Grinnell\, Iowa. \n 
URL:https://octagonarts.org/event/the-faces-ive-seen/
LOCATION:Octagon Center for the Arts\, 427 Douglas Avenue\, Ames\, IA\, 50010\, United States
CATEGORIES:Events,Exhibits
ATTACH;FMTTYPE=image/png:https://octagonarts.org/wp-content/uploads/2024/12/Faces-Ive-Seen-Karen-Cooper-Banner-1.png
ORGANIZER;CN="Octagon Center for the Arts":MAILTO:info@octagonarts.org
GEO:42.0257584;-93.6123172
X-APPLE-STRUCTURED-LOCATION;VALUE=URI;X-ADDRESS=Octagon Center for the Arts 427 Douglas Avenue Ames IA 50010 United States;X-APPLE-RADIUS=500;X-TITLE=427 Douglas Avenue:geo:-93.6123172,42.0257584
END:VEVENT
END:VCALENDAR