BEGIN:VCALENDAR
VERSION:2.0
PRODID:-//Octagon Center for the Arts - ECPv6.15.18//NONSGML v1.0//EN
CALSCALE:GREGORIAN
METHOD:PUBLISH
X-WR-CALNAME:Octagon Center for the Arts
X-ORIGINAL-URL:https://octagonarts.org
X-WR-CALDESC:Events for Octagon Center for the Arts
REFRESH-INTERVAL;VALUE=DURATION:PT1H
X-Robots-Tag:noindex
X-PUBLISHED-TTL:PT1H
BEGIN:VTIMEZONE
TZID:America/Chicago
BEGIN:DAYLIGHT
TZOFFSETFROM:-0600
TZOFFSETTO:-0500
TZNAME:CDT
DTSTART:20250309T080000
END:DAYLIGHT
BEGIN:STANDARD
TZOFFSETFROM:-0500
TZOFFSETTO:-0600
TZNAME:CST
DTSTART:20251102T070000
END:STANDARD
BEGIN:DAYLIGHT
TZOFFSETFROM:-0600
TZOFFSETTO:-0500
TZNAME:CDT
DTSTART:20260308T080000
END:DAYLIGHT
BEGIN:STANDARD
TZOFFSETFROM:-0500
TZOFFSETTO:-0600
TZNAME:CST
DTSTART:20261101T070000
END:STANDARD
BEGIN:DAYLIGHT
TZOFFSETFROM:-0600
TZOFFSETTO:-0500
TZNAME:CDT
DTSTART:20270314T080000
END:DAYLIGHT
BEGIN:STANDARD
TZOFFSETFROM:-0500
TZOFFSETTO:-0600
TZNAME:CST
DTSTART:20271107T070000
END:STANDARD
END:VTIMEZONE
BEGIN:VEVENT
DTSTART;TZID=America/Chicago:20260618T173000
DTEND;TZID=America/Chicago:20260618T200000
DTSTAMP:20260423T082203
CREATED:20260402T232617Z
LAST-MODIFIED:20260402T232809Z
UID:17989-1781803800-1781812800@octagonarts.org
SUMMARY:Third Thursday Paint & Plant
DESCRIPTION:We provide the flower pot and paint\, you create a beautiful home for your plants! We will have plants available for a small fee or give one of your own plants a new home. Open to all ages. Refreshments available for a donation.
URL:https://octagonarts.org/event/third-thursday-paint-plant/
LOCATION:Octagon Center for the Arts\, 427 Douglas Avenue\, Ames\, IA\, 50010\, United States
CATEGORIES:Events
ATTACH;FMTTYPE=image/png:https://octagonarts.org/wp-content/uploads/2026/04/Paint-Plant-TT-June-Carousel.png
ORGANIZER;CN="Octagon Center for the Arts":MAILTO:info@octagonarts.org
GEO:42.0257584;-93.6123172
X-APPLE-STRUCTURED-LOCATION;VALUE=URI;X-ADDRESS=Octagon Center for the Arts 427 Douglas Avenue Ames IA 50010 United States;X-APPLE-RADIUS=500;X-TITLE=427 Douglas Avenue:geo:-93.6123172,42.0257584
END:VEVENT
BEGIN:VEVENT
DTSTART;TZID=America/Chicago:20260831T100000
DTEND;TZID=America/Chicago:20261010T170000
DTSTAMP:20260423T082203
CREATED:20260113T212739Z
LAST-MODIFIED:20260113T212739Z
UID:17221-1788170400-1791651600@octagonarts.org
SUMMARY:Octagon 60th Birthday Hullabaloo
DESCRIPTION:Octagon 60th Birthday Hullabaloo\nOctagon History Exhibition by the Octagon Staff \n\nExhibition Dates:\nAugust 31\, 2026 – Exhibition Opening Day\nTBD – Exhibition Reception\nOctober 10\, 2026 – Exhibition Closes
URL:https://octagonarts.org/event/octagon-60th-birthday-hullabaloo/
LOCATION:Octagon Center for the Arts\, 427 Douglas Avenue\, Ames\, IA\, 50010\, United States
CATEGORIES:Events,Exhibits
ORGANIZER;CN="Octagon Center for the Arts":MAILTO:info@octagonarts.org
GEO:42.0257584;-93.6123172
X-APPLE-STRUCTURED-LOCATION;VALUE=URI;X-ADDRESS=Octagon Center for the Arts 427 Douglas Avenue Ames IA 50010 United States;X-APPLE-RADIUS=500;X-TITLE=427 Douglas Avenue:geo:-93.6123172,42.0257584
END:VEVENT
BEGIN:VEVENT
DTSTART;TZID=America/Chicago:20260927T100000
DTEND;TZID=America/Chicago:20260927T160000
DTSTAMP:20260423T082203
CREATED:20250821T200111Z
LAST-MODIFIED:20250821T200111Z
UID:17179-1790503200-1790524800@octagonarts.org
SUMMARY:55th Annual Octagon Art Festival
DESCRIPTION:The Octagon Art Festival takes place the fourth Sunday of September along Main Street in downtown Ames\, IA. The festival is held outdoors on pavement\, RAIN OR SHINE. Visual arts\, children’s art area\, food vendors and performing arts form the foundation of the Octagon Art Festival. Approximately 10\,000 people attend the festival.
URL:https://octagonarts.org/event/55th-annual-octagon-art-festival/
LOCATION:Octagon Center for the Arts\, 427 Douglas Avenue\, Ames\, IA\, 50010\, United States
CATEGORIES:General
ATTACH;FMTTYPE=image/jpeg:https://octagonarts.org/wp-content/uploads/2025/08/Festival_Logo-2-3-scaled.jpg
ORGANIZER;CN="Octagon Center for the Arts":MAILTO:info@octagonarts.org
GEO:42.0257584;-93.6123172
X-APPLE-STRUCTURED-LOCATION;VALUE=URI;X-ADDRESS=Octagon Center for the Arts 427 Douglas Avenue Ames IA 50010 United States;X-APPLE-RADIUS=500;X-TITLE=427 Douglas Avenue:geo:-93.6123172,42.0257584
END:VEVENT
BEGIN:VEVENT
DTSTART;TZID=America/Chicago:20261123T100000
DTEND;TZID=America/Chicago:20261224T170000
DTSTAMP:20260423T082203
CREATED:20260113T213001Z
LAST-MODIFIED:20260113T213001Z
UID:17451-1795428000-1798131600@octagonarts.org
SUMMARY:4th Annual Winter Market
DESCRIPTION:4th Annual Winter Market\nEvent by Octagon Shop \n\nEvent Dates:\nNovember 23\, 2026 – Event Opening Day\nDecember 24\, 2026 – Event Closes \n\nAbout This Event:\nThe Octagon will hold the 4rd annual Winter Market\, featuring great finds on holiday-themed artworks from local artists and week-by-week special deals.
URL:https://octagonarts.org/event/4th-annual-winter-market/
LOCATION:Octagon Center for the Arts\, 427 Douglas Avenue\, Ames\, IA\, 50010\, United States
CATEGORIES:Events,Shop
ATTACH;FMTTYPE=image/png:https://octagonarts.org/wp-content/uploads/2025/01/Winter-Market-Heading.png
ORGANIZER;CN="Octagon Center for the Arts":MAILTO:info@octagonarts.org
GEO:42.0257584;-93.6123172
X-APPLE-STRUCTURED-LOCATION;VALUE=URI;X-ADDRESS=Octagon Center for the Arts 427 Douglas Avenue Ames IA 50010 United States;X-APPLE-RADIUS=500;X-TITLE=427 Douglas Avenue:geo:-93.6123172,42.0257584
END:VEVENT
END:VCALENDAR