BEGIN:VCALENDAR
VERSION:2.0
PRODID:-//Octagon Center for the Arts - ECPv6.15.18//NONSGML v1.0//EN
CALSCALE:GREGORIAN
METHOD:PUBLISH
X-ORIGINAL-URL:https://octagonarts.org
X-WR-CALDESC:Events for Octagon Center for the Arts
REFRESH-INTERVAL;VALUE=DURATION:PT1H
X-Robots-Tag:noindex
X-PUBLISHED-TTL:PT1H
BEGIN:VTIMEZONE
TZID:America/Chicago
BEGIN:DAYLIGHT
TZOFFSETFROM:-0600
TZOFFSETTO:-0500
TZNAME:CDT
DTSTART:20240310T080000
END:DAYLIGHT
BEGIN:STANDARD
TZOFFSETFROM:-0500
TZOFFSETTO:-0600
TZNAME:CST
DTSTART:20241103T070000
END:STANDARD
BEGIN:DAYLIGHT
TZOFFSETFROM:-0600
TZOFFSETTO:-0500
TZNAME:CDT
DTSTART:20250309T080000
END:DAYLIGHT
BEGIN:STANDARD
TZOFFSETFROM:-0500
TZOFFSETTO:-0600
TZNAME:CST
DTSTART:20251102T070000
END:STANDARD
BEGIN:DAYLIGHT
TZOFFSETFROM:-0600
TZOFFSETTO:-0500
TZNAME:CDT
DTSTART:20260308T080000
END:DAYLIGHT
BEGIN:STANDARD
TZOFFSETFROM:-0500
TZOFFSETTO:-0600
TZNAME:CST
DTSTART:20261101T070000
END:STANDARD
END:VTIMEZONE
BEGIN:VEVENT
DTSTART;TZID=America/Chicago:20250407T100000
DTEND;TZID=America/Chicago:20250418T170000
DTSTAMP:20260425T231210
CREATED:20240307T173251Z
LAST-MODIFIED:20250130T163737Z
UID:16117-1744020000-1744995600@octagonarts.org
SUMMARY:2025 Elementary\, Middle School\, High School Annual Student Show
DESCRIPTION:2025 Elementary\, Middle School\, High School Annual Student Show\nApril 7th – April 18th\, 2025 in the Octagon Community Gallery \nAbout this group exhibition:\nThe Annual Student Art Show highlights artwork by elementary\, middle\, and high school students from schools within 20 miles of Ames. \nLearn more on this exhibition’s webpage here \nExhibition Dates:\nApril 7th\, 2025 – Exhibition Opening Day\nApril 18th\, 2025 – Exhibition Closes
URL:https://octagonarts.org/event/2025-elementary-middle-school-high-school-annual-student-show/
LOCATION:Octagon Center for the Arts\, 427 Douglas Avenue\, Ames\, IA\, 50010\, United States
CATEGORIES:Events,Exhibits
ATTACH;FMTTYPE=image/jpeg:https://octagonarts.org/wp-content/uploads/2022/03/student-show-2022.jpg
ORGANIZER;CN="Octagon Center for the Arts":MAILTO:info@octagonarts.org
GEO:42.0257584;-93.6123172
X-APPLE-STRUCTURED-LOCATION;VALUE=URI;X-ADDRESS=Octagon Center for the Arts 427 Douglas Avenue Ames IA 50010 United States;X-APPLE-RADIUS=500;X-TITLE=427 Douglas Avenue:geo:-93.6123172,42.0257584
END:VEVENT
BEGIN:VEVENT
DTSTART;TZID=America/Chicago:20250417T180000
DTEND;TZID=America/Chicago:20250417T200000
DTSTAMP:20260425T231210
CREATED:20250401T174604Z
LAST-MODIFIED:20250401T174643Z
UID:16961-1744912800-1744920000@octagonarts.org
SUMMARY:Third Thursdays: Needle Night at the Octagon with Nittery Nook and Prairie Rose Needleworks
DESCRIPTION:Needle Night\nThursday\, April 17th 6PM – 8PM \nIt’s needle night at the Octagon! Come see local artists demonstrate a variety of needle and fiber arts\, including knitting\, crocheting\, embroidery\, felting\, quilting and mending. This come-and-go event is from 6:00-8:00 PM and is for all ages. Feel free to bring your own fiber projects to work on as you sit alongside our artists. No need to have experience or skill – enjoy seeing the work of others and possibly try something new! Co-sponsored by Prairie Rose Needleworks and Knittery Nook. \nArtists: Amanda Zagloba\, Rochelle Nickolay\, Teddy Stark\, Jill Guffy\, Marilyn Andersen\, Kristen Roach
URL:https://octagonarts.org/event/needle-night-at-the-octagon-with-nittery-nook-and-prairie-rose-needleworks/
LOCATION:Octagon Center for the Arts\, 427 Douglas Avenue\, Ames\, IA\, 50010\, United States
CATEGORIES:Events
ATTACH;FMTTYPE=image/jpeg:https://octagonarts.org/wp-content/uploads/2025/03/new-needle-night-banner.jpg
ORGANIZER;CN="Octagon Center for the Arts":MAILTO:info@octagonarts.org
GEO:42.0257584;-93.6123172
X-APPLE-STRUCTURED-LOCATION;VALUE=URI;X-ADDRESS=Octagon Center for the Arts 427 Douglas Avenue Ames IA 50010 United States;X-APPLE-RADIUS=500;X-TITLE=427 Douglas Avenue:geo:-93.6123172,42.0257584
END:VEVENT
BEGIN:VEVENT
DTSTART;TZID=America/Chicago:20250422T100000
DTEND;TZID=America/Chicago:20250510T170000
DTSTAMP:20260425T231210
CREATED:20250401T175241Z
LAST-MODIFIED:20250421T205824Z
UID:16964-1745316000-1746896400@octagonarts.org
SUMMARY:Group Exhibition: Round Up
DESCRIPTION:Round Up\nGroup Exhibition by Various Artists \nExhibition Dates:\nApril 22nd\, 2025 – Exhibition Opening Day\nApril 25th\, 2025 – Exhibition Public Reception\, 6:00PM – 7:30PM in the Community Gallery\nMay 10th\, 2025 – Exhibition Closes \nAbout This Exhibition:\nA “round-up” of a few like-minded artists living and working in Iowa. \nArtist List:\nSean Thornton\nRuby Walker\nRat Tunnel\nJuan Gomez\nLydia Nong\nZack Bukovich\nRafa\nSpike Dupree
URL:https://octagonarts.org/event/group-exhibition-round-up/
LOCATION:Octagon Center for the Arts\, 427 Douglas Avenue\, Ames\, IA\, 50010\, United States
CATEGORIES:Events,Exhibits
ATTACH;FMTTYPE=image/png:https://octagonarts.org/wp-content/uploads/2025/04/Round-Up-Banner.png
ORGANIZER;CN="Octagon Center for the Arts":MAILTO:info@octagonarts.org
GEO:42.0257584;-93.6123172
X-APPLE-STRUCTURED-LOCATION;VALUE=URI;X-ADDRESS=Octagon Center for the Arts 427 Douglas Avenue Ames IA 50010 United States;X-APPLE-RADIUS=500;X-TITLE=427 Douglas Avenue:geo:-93.6123172,42.0257584
END:VEVENT
BEGIN:VEVENT
DTSTART;TZID=America/Chicago:20250424T180000
DTEND;TZID=America/Chicago:20250424T190000
DTSTAMP:20260425T231210
CREATED:20250401T174353Z
LAST-MODIFIED:20250401T174411Z
UID:16958-1745517600-1745521200@octagonarts.org
SUMMARY:Live Jewelry Making Demo with Featured Artist\, Margie Magnuson
DESCRIPTION:Live Jewelry Making Demo with Margie Magnuson\nApril 24th at 6PM at the Octagon Center for the Arts \nMargie Magnuson\, a goldsmith from Omaha\, NE designs and creates her own jewelry line of pendants\, earrings\, and rings.  She uses sterling silver\, 14kt. gold and precious and semi-precious gemstones.  Margie says her formal training stressed clean\, simple design\, employing hand forging techniques using a hammer and anvil to form her creations.   \nMargie will travel to Ames on April 24th and demonstrate some of her techniques at 6pm. Please join us and meet Margie in person! \nCLICK HERE for the Facebook Event Page
URL:https://octagonarts.org/event/live-jewelry-making-demo-with-featured-artist-margie-magnuson/
LOCATION:Octagon Center for the Arts\, 427 Douglas Avenue\, Ames\, IA\, 50010\, United States
CATEGORIES:Events
ATTACH;FMTTYPE=image/jpeg:https://octagonarts.org/wp-content/uploads/2025/04/jeweltry-demo-poster-2-scaled.jpg
ORGANIZER;CN="Octagon Center for the Arts":MAILTO:info@octagonarts.org
GEO:42.0257584;-93.6123172
X-APPLE-STRUCTURED-LOCATION;VALUE=URI;X-ADDRESS=Octagon Center for the Arts 427 Douglas Avenue Ames IA 50010 United States;X-APPLE-RADIUS=500;X-TITLE=427 Douglas Avenue:geo:-93.6123172,42.0257584
END:VEVENT
END:VCALENDAR