BEGIN:VCALENDAR
VERSION:2.0
PRODID:-//Octagon Center for the Arts - ECPv6.15.18//NONSGML v1.0//EN
CALSCALE:GREGORIAN
METHOD:PUBLISH
X-ORIGINAL-URL:https://octagonarts.org
X-WR-CALDESC:Events for Octagon Center for the Arts
REFRESH-INTERVAL;VALUE=DURATION:PT1H
X-Robots-Tag:noindex
X-PUBLISHED-TTL:PT1H
BEGIN:VTIMEZONE
TZID:America/Chicago
BEGIN:DAYLIGHT
TZOFFSETFROM:-0600
TZOFFSETTO:-0500
TZNAME:CDT
DTSTART:20250309T080000
END:DAYLIGHT
BEGIN:STANDARD
TZOFFSETFROM:-0500
TZOFFSETTO:-0600
TZNAME:CST
DTSTART:20251102T070000
END:STANDARD
BEGIN:DAYLIGHT
TZOFFSETFROM:-0600
TZOFFSETTO:-0500
TZNAME:CDT
DTSTART:20260308T080000
END:DAYLIGHT
BEGIN:STANDARD
TZOFFSETFROM:-0500
TZOFFSETTO:-0600
TZNAME:CST
DTSTART:20261101T070000
END:STANDARD
BEGIN:DAYLIGHT
TZOFFSETFROM:-0600
TZOFFSETTO:-0500
TZNAME:CDT
DTSTART:20270314T080000
END:DAYLIGHT
BEGIN:STANDARD
TZOFFSETFROM:-0500
TZOFFSETTO:-0600
TZNAME:CST
DTSTART:20271107T070000
END:STANDARD
END:VTIMEZONE
BEGIN:VEVENT
DTSTART;TZID=America/Chicago:20260108T100000
DTEND;TZID=America/Chicago:20260110T173000
DTSTAMP:20260423T081108
CREATED:20260113T214214Z
LAST-MODIFIED:20260113T214248Z
UID:17830-1767866400-1768066200@octagonarts.org
SUMMARY:Winter Sidewalk Sales
DESCRIPTION:Holiday Ornaments 20% Off & Select Artist’s Works 20-50% Off \nGet ready… Set… Shop local!\nWinter Sidewalk Sales in Downtown Ames are a semi-annual sale held by businesses in the Downtown district. Not only will you find great deals\, you’ll be supporting the local community by shopping local! You’ll find discounts\, promotions\, sales and many other good deals! Take a stroll in Downtown Ames and check out what our local businesses have to offer.\nDon’t forget – Parking is FREE in the Downtown district on Saturday\, January 10!
URL:https://octagonarts.org/event/winter-sidewalk-sales/
LOCATION:Octagon Center for the Arts\, 427 Douglas Avenue\, Ames\, IA\, 50010\, United States
CATEGORIES:Events,Shop
ATTACH;FMTTYPE=image/webp:https://octagonarts.org/wp-content/uploads/2026/01/Winter-Sidewalk-Sales-FB-header-1024x576-1.webp
ORGANIZER;CN="Octagon Center for the Arts":MAILTO:info@octagonarts.org
GEO:42.0257584;-93.6123172
X-APPLE-STRUCTURED-LOCATION;VALUE=URI;X-ADDRESS=Octagon Center for the Arts 427 Douglas Avenue Ames IA 50010 United States;X-APPLE-RADIUS=500;X-TITLE=427 Douglas Avenue:geo:-93.6123172,42.0257584
END:VEVENT
BEGIN:VEVENT
DTSTART;TZID=America/Chicago:20260115T180000
DTEND;TZID=America/Chicago:20260115T200000
DTSTAMP:20260423T081108
CREATED:20260113T213730Z
LAST-MODIFIED:20260113T213730Z
UID:17828-1768500000-1768507200@octagonarts.org
SUMMARY:Third Thursdays: Snack\, Sip\, and Sparkle! Jewelry Night
DESCRIPTION:  \nSnack\, Sip\, and Sparkle! Jewelry Night\nThursday\, January 15th\, 6:00pm – 8:00pm \nJoin us for a metal jewelry demonstration by Terrie Hoefer and an opportunity to make your own jewelry. For $5\, adults have an opportunity to create a metal piece with Terrie – pre-registration required. Click Tickets to register.\nWe will also have a free jewelry option for anyone who attends. Open to all ages with a variety of snacks and drinks.
URL:https://octagonarts.org/event/third-thursdays-snack-sip-and-sparkle-jewelry-night/
LOCATION:Octagon Center for the Arts\, 427 Douglas Avenue\, Ames\, IA\, 50010\, United States
CATEGORIES:Events
ATTACH;FMTTYPE=image/png:https://octagonarts.org/wp-content/uploads/2026/01/TT-January-Banner-scaled.png
ORGANIZER;CN="Octagon Center for the Arts":MAILTO:info@octagonarts.org
GEO:42.0257584;-93.6123172
X-APPLE-STRUCTURED-LOCATION;VALUE=URI;X-ADDRESS=Octagon Center for the Arts 427 Douglas Avenue Ames IA 50010 United States;X-APPLE-RADIUS=500;X-TITLE=427 Douglas Avenue:geo:-93.6123172,42.0257584
END:VEVENT
BEGIN:VEVENT
DTSTART;TZID=America/Chicago:20260119T100000
DTEND;TZID=America/Chicago:20260314T170000
DTSTAMP:20260423T081108
CREATED:20260113T203150Z
LAST-MODIFIED:20260113T205205Z
UID:17226-1768816800-1773507600@octagonarts.org
SUMMARY:Octagonal: The All Media Show
DESCRIPTION:Octagonal: The All Media Show \nGroup Exhibition by Various Artists \n  \nExhibition Dates: \nJanuary 19\, 2026 – Exhibition Opening DayJanuary 22\, 2026– Exhibition ReceptionMarch 14\, 2026 – Exhibition Closes \n  \nExhibiting Artist List: \n			\n			\n				\n				\n				\n				\n			\n				\n				\n				\n				\n				\n				\n				\n				\n				\n				\n				Joanne Alberda – Lunar LandscapeShelly Bales – WonderlustJasmine Beul – Rose Window BottleAmanda Brown – SpaceBetsy Busby – Behold the OnionMaureen Burke – AweTroy Cannon – Osprey’s CrySara Carlson – Too Close To The SunTroy Chebuhar – Waste GeocentricismNatalie Deam – Swim SwarmPamela Douglas – Red Lily PadsLinda Emmerson – LondonJoani Feiner – Enticing RufflesElaina Fredrickson – Chaotic ExposureJill Guffy– Abstract Duet: Coming and Going \n			\n			\n				\n				\n				\n				\n				\n				\n				\n				\n				\n				Kaitlin Harvey – Forget Me Nots & MarigoldsJoanna Haug – It’s Over Why Scream?Jim Heemstra – Decay of the MightyHeather Hicks – Neck CrackWill Hildebrandt – FloraDiane Holland Rickerl – Mary JaneEvan Hoyt – Ascent from SlumberMarcia Joffe-Bouska – THE UNRAVELINGPeggy Johnston – Party at Nick’sAnnie Laursen – Gray VLinda Lewis – Comfortable in her own skinIngrid Lilligren – TumblingSarah Loch-Test – Mining NecklaceDiane Michaud Lowry – UnityGenevieve Moritz – Cats in Bloom \n			\n			\n				\n				\n				\n				\n				\n				\n				\n				\n				\n				Lydia Nong – Oranges Smell GoodDeb O’Brien – BirdsongGeoff Paulline – Playin’ PossumSarah Perkins – Barnacle ContainerIsaac Prior – Aeons WaltzSara Rieger – Sinking by the Bow at MidnightLiona Rocca – Image BearerKarl Schecht – Cosmic Marble #9Hongci Shih – Ephemeral BlessingAudrey Stirling – Glowing in the ShadowsSydney Thompson – PenumbraMattea Whetstone – DoneAlicia Wilkinson – The TreasureGraham Young – Renting on Pluto\, Dreaming of Saturn
URL:https://octagonarts.org/event/octagonal-the-all-media-show/
LOCATION:Octagon Center for the Arts\, 427 Douglas Avenue\, Ames\, IA\, 50010\, United States
CATEGORIES:Events,Exhibits
ATTACH;FMTTYPE=image/png:https://octagonarts.org/wp-content/uploads/2026/01/Octagonal-Carousel.png
ORGANIZER;CN="Octagon Center for the Arts":MAILTO:info@octagonarts.org
GEO:42.0257584;-93.6123172
X-APPLE-STRUCTURED-LOCATION;VALUE=URI;X-ADDRESS=Octagon Center for the Arts 427 Douglas Avenue Ames IA 50010 United States;X-APPLE-RADIUS=500;X-TITLE=427 Douglas Avenue:geo:-93.6123172,42.0257584
END:VEVENT
BEGIN:VEVENT
DTSTART;TZID=America/Chicago:20260122T173000
DTEND;TZID=America/Chicago:20260122T190000
DTSTAMP:20260423T081108
CREATED:20260113T205903Z
LAST-MODIFIED:20260122T180751Z
UID:17808-1769103000-1769108400@octagonarts.org
SUMMARY:Octagonal Artists' Reception
DESCRIPTION:Octagonal: The All Media Show \nGroup Exhibition by Various Artists \n  \nExhibition Dates: \nJanuary 19\, 2026 – Exhibition Opening DayJanuary 22\, 2026 – Exhibition Reception       Awards announced at 6:15pmMarch 14\, 2026 – Exhibition Closes \n  \nExhibiting Artist List: \n			\n			\n				\n				\n				\n				\n			\n				\n				\n				\n				\n				\n				\n				\n				\n				\n				\n				Joanne Alberda – Lunar LandscapeShelly Bales – WonderlustJasmine Beul – Rose Window BottleAmanda Brown – SpaceBetsy Busby – Behold the OnionMaureen Burke – AweTroy Cannon – Osprey’s CrySara Carlson – Too Close To The SunTroy Chebuhar – Waste GeocentricismNatalie Deam – Swim SwarmPamela Douglas – Red Lily PadsLinda Emmerson – LondonJoani Feiner – Enticing RufflesElaina Fredrickson – Chaotic ExposureJill Guffy– Abstract Duet: Coming and Going \n			\n			\n				\n				\n				\n				\n				\n				\n				\n				\n				\n				Kaitlin Harvey – Forget Me Nots & MarigoldsJoanna Haug – It’s Over Why Scream?Jim Heemstra – Decay of the MightyHeather Hicks – Neck CrackWill Hildebrandt – FloraDiane Holland Rickerl – Mary JaneEvan Hoyt – Ascent from SlumberMarcia Joffe-Bouska – THE UNRAVELINGPeggy Johnston – Party at Nick’sAnnie Laursen – Gray VLinda Lewis – Comfortable in her own skinIngrid Lilligren – TumblingSarah Loch-Test – Mining NecklaceDiane Michaud Lowry – UnityGenevieve Moritz – Cats in Bloom \n			\n			\n				\n				\n				\n				\n				\n				\n				\n				\n				\n				Lydia Nong – Oranges Smell GoodDeb O’Brien – BirdsongGeoff Paulline – Playin’ PossumSarah Perkins – Barnacle ContainerIsaac Prior – Aeons WaltzSara Rieger – Sinking by the Bow at MidnightLiona Rocca – Image BearerKarl Schecht – Cosmic Marble #9Hongci Shih – Ephemeral BlessingAudrey Stirling – Glowing in the ShadowsSydney Thompson – PenumbraMattea Whetstone – DoneAlicia Wilkinson – The TreasureGraham Young – Renting on Pluto\, Dreaming of Saturn
URL:https://octagonarts.org/event/octagonal-artists-reception/
LOCATION:Octagon Center for the Arts\, 427 Douglas Avenue\, Ames\, IA\, 50010\, United States
CATEGORIES:Events,Exhibits
ATTACH;FMTTYPE=image/png:https://octagonarts.org/wp-content/uploads/2026/01/Octagonal-Reception-Carousel.png
ORGANIZER;CN="Octagon Center for the Arts":MAILTO:info@octagonarts.org
GEO:42.0257584;-93.6123172
X-APPLE-STRUCTURED-LOCATION;VALUE=URI;X-ADDRESS=Octagon Center for the Arts 427 Douglas Avenue Ames IA 50010 United States;X-APPLE-RADIUS=500;X-TITLE=427 Douglas Avenue:geo:-93.6123172,42.0257584
END:VEVENT
END:VCALENDAR