BEGIN:VCALENDAR
VERSION:2.0
PRODID:-//Octagon Center for the Arts - ECPv6.15.18//NONSGML v1.0//EN
CALSCALE:GREGORIAN
METHOD:PUBLISH
X-WR-CALNAME:Octagon Center for the Arts
X-ORIGINAL-URL:https://octagonarts.org
X-WR-CALDESC:Events for Octagon Center for the Arts
REFRESH-INTERVAL;VALUE=DURATION:PT1H
X-Robots-Tag:noindex
X-PUBLISHED-TTL:PT1H
BEGIN:VTIMEZONE
TZID:America/Chicago
BEGIN:DAYLIGHT
TZOFFSETFROM:-0600
TZOFFSETTO:-0500
TZNAME:CDT
DTSTART:20180311T080000
END:DAYLIGHT
BEGIN:STANDARD
TZOFFSETFROM:-0500
TZOFFSETTO:-0600
TZNAME:CST
DTSTART:20181104T070000
END:STANDARD
BEGIN:DAYLIGHT
TZOFFSETFROM:-0600
TZOFFSETTO:-0500
TZNAME:CDT
DTSTART:20190310T080000
END:DAYLIGHT
BEGIN:STANDARD
TZOFFSETFROM:-0500
TZOFFSETTO:-0600
TZNAME:CST
DTSTART:20191103T070000
END:STANDARD
BEGIN:DAYLIGHT
TZOFFSETFROM:-0600
TZOFFSETTO:-0500
TZNAME:CDT
DTSTART:20200308T080000
END:DAYLIGHT
BEGIN:STANDARD
TZOFFSETFROM:-0500
TZOFFSETTO:-0600
TZNAME:CST
DTSTART:20201101T070000
END:STANDARD
END:VTIMEZONE
BEGIN:VEVENT
DTSTART;VALUE=DATE:20190830
DTEND;VALUE=DATE:20191110
DTSTAMP:20260423T222329
CREATED:20190812T181926Z
LAST-MODIFIED:20191003T172343Z
UID:7842-1567123200-1573343999@octagonarts.org
SUMMARY:70K: The Biennial Community of Artists Exhibit
DESCRIPTION:LOCATED IN MAIN GALLERY \nLet’s do a little math! A = πr2 There are 70\,686 square miles in a circle with 150 square mile radius. Thus the name for this exhibit…  70K is a juried exhibition of artists located 150 miles from Ames or nearer. This focus on local and regional artists is an important part of the mission of the Octagon Center for the Arts. \nOpening Reception: August 30\, 2019\, 5-7pm. Awards at 6pm. \n\n \nJuror: \nAllison Sheridan\nMuseum Collections Manager\,\nPublications Coordinator\, &\nFarm House Museum Manager \nSheridan is a two-time Iowa State University graduate with a B.S. in History (’01) and a M.S. in Interdisciplinary Graduate Studies (’11). She began with University Museums at ISU in 2001 as the Education Assistant and has since moved on to the role of Collections Manager\, Publications Coordinator and Farm House Museum Manager. In that capacity\, she is in charge of the many museum collection works of art – over 30\,000! She researches\, coordinates\, authors\, edits and designs all aspects of University Museums’ publications including the popular Campus Beautiful (2015). She is the staff member in charge of the Farm House Museum\, the oldest campus building\, and routinely curates exhibitions\, presents programs and outreach\, provides tours\, and coordinates strategic planning. She has served as the chair of the Ames Public Art Commission\, on the State of Iowa Technical Advisory Network and grant review committees\, Iowa Museum Association conference planning committee\, and recently consulted with the City of Clive on their public art master plan. \n\n \nAccepted Work:\n\n\n\nPenny\nAdam\nBirch Grove 3\n \n\n\nTilda\nBrown Swanson\nOrange Maple Leaf\n \n\n\nNanette\nCatigbe\nThree’s Company\n \n\n\nAnna\nChukharevakhudilayn\nForest Ride\n \n\n\nAnna\nChukharevakhudilayn\nGolden Rider\n \n\n\nRuthellen\nCunnally\nCoral Reef\n \n\n\nRuthellen\nCunnally\nGauze\n \n\n\nJudith\nEastburn\nWild Parsnips\, Elkader Iowa\n \n\n\nCaroline\nFreese\nClaire\n \n\n\nCaroline\nFreese\nDeep Dish Pie Pan with Blue Whale Pattern\n \n\n\nCaroline\nFreese\nRed Fox Face\n \n\n\nJan\nFriedman\nEarth Series: Spiral\n \n\n\nJan\nFriedman\nBefore It’s Too Late\n \n\n\nRex\nHeer\nThinking of Flamingos\n \n\n\nRex\nHeer\nCool Flamingos\n \n\n\nVictoria\nHerring\nWoman in Havana Street\n \n\n\nMarcia\nJoffe-Bouska\nEmblem\n \n\n\nMarcia\nJoffe-Bouska\nSacrifice\n \n\n\nMarcia\nJoffe-Bouska\nEquivalence\n \n\n\nMary\nJohnson\nFaded Bouquet\n \n\n\nHolly\nKellogg\nConstruct\n \n\n\nLinda\nLewis Lieberman\nCow Henge\n \n\n\nLinda\nLewis Lieberman\nJoyous Dawn\n \n\n\nDiane\nMichaud Lowry\nFog Rolling In\n \n\n\nDiane\nMichaud Lowry\nReflections on Sullivan Lake\n \n\n\nPat\nMillin\nIdomeni\n \n\n\nChuck\nOulman\nIn Stockholm\n \n\n\nJarred\nPfeiffer\nTide Pool\n \n\n\nJarred\nPfeiffer\nArctic Circle\n \n\n\nIsaac\nPrior\nMuspelheim Gateway\n \n\n\nIsaac\nPrior\nAsgard Gateway\n \n\n\nJeremy\nRoy\nInsight: Justin and Andrew\n \n\n\nConnie\nSherman\nYellow Dress 89\n \n\n\nConnie\nSherman\nMidnight Dress\n \n\n\nAudrey\nStaples\nWintertime (Grasses)\n \n\n\nTeresa\nTownsend Miller\nMinus One\n \n\n\nRob\nWallace\nThe Naked Truth\n 
URL:https://octagonarts.org/event/70k-the-biennial-community-of-artists-exhibit/
LOCATION:Octagon Center for the Arts\, 427 Douglas Avenue\, Ames\, IA\, 50010\, United States
CATEGORIES:Exhibits
ATTACH;FMTTYPE=image/jpeg:https://octagonarts.org/wp-content/uploads/2019/08/Promo_70K-1.jpg
ORGANIZER;CN="Octagon Center for the Arts":MAILTO:info@octagonarts.org
GEO:42.0257584;-93.6123172
X-APPLE-STRUCTURED-LOCATION;VALUE=URI;X-ADDRESS=Octagon Center for the Arts 427 Douglas Avenue Ames IA 50010 United States;X-APPLE-RADIUS=500;X-TITLE=427 Douglas Avenue:geo:-93.6123172,42.0257584
END:VEVENT
END:VCALENDAR