BEGIN:VCALENDAR
VERSION:2.0
PRODID:-//Octagon Center for the Arts - ECPv6.15.18//NONSGML v1.0//EN
CALSCALE:GREGORIAN
METHOD:PUBLISH
X-ORIGINAL-URL:https://octagonarts.org
X-WR-CALDESC:Events for Octagon Center for the Arts
REFRESH-INTERVAL;VALUE=DURATION:PT1H
X-Robots-Tag:noindex
X-PUBLISHED-TTL:PT1H
BEGIN:VTIMEZONE
TZID:America/Chicago
BEGIN:DAYLIGHT
TZOFFSETFROM:-0600
TZOFFSETTO:-0500
TZNAME:CDT
DTSTART:20180311T080000
END:DAYLIGHT
BEGIN:STANDARD
TZOFFSETFROM:-0500
TZOFFSETTO:-0600
TZNAME:CST
DTSTART:20181104T070000
END:STANDARD
BEGIN:DAYLIGHT
TZOFFSETFROM:-0600
TZOFFSETTO:-0500
TZNAME:CDT
DTSTART:20190310T080000
END:DAYLIGHT
BEGIN:STANDARD
TZOFFSETFROM:-0500
TZOFFSETTO:-0600
TZNAME:CST
DTSTART:20191103T070000
END:STANDARD
BEGIN:DAYLIGHT
TZOFFSETFROM:-0600
TZOFFSETTO:-0500
TZNAME:CDT
DTSTART:20200308T080000
END:DAYLIGHT
BEGIN:STANDARD
TZOFFSETFROM:-0500
TZOFFSETTO:-0600
TZNAME:CST
DTSTART:20201101T070000
END:STANDARD
END:VTIMEZONE
BEGIN:VEVENT
DTSTART;TZID=America/Chicago:20190202T100000
DTEND;TZID=America/Chicago:20190202T120000
DTSTAMP:20260424T200610
CREATED:20190123T001325Z
LAST-MODIFIED:20190123T203253Z
UID:5145-1549101600-1549108800@octagonarts.org
SUMMARY:Drypoint Printmaking: Condensed Workshop
DESCRIPTION:Drypoint Printmaking: Condensed Workshop \nSaturday\, February 2    10am – NOON (North Studio) \nOctagon member discounts may not be used for this special workshop. \nLimit of 12 people \nInstructor: Jeanine Coupe Ryding\, School of the Art Institute of Chicago\, Print Media Department \nNote from Jeanine: workshop is for ALL levels of experience or no experience. If you can hold a pencil\, you have the skills. \nIn this workshop participants will learn the basics of drypoint intaglio printmaking including how to prepare and draw on plexiglass plates as well as inking\, wiping and printing their plates on an etching press. This is a simple\, non-toxic form of image making with many possibilities. \nSupplies for participants to bring: \nLaser prints or sketches (about 3×5” or 4×6”) of images they want to draw onto their plates. \nApron or wear old clothes \nInstructor Bio: Jeanine Coupe Ryding’ prints and artists books are in museum and private collections in the U.S\, Europe and Japan. Her work focuses primarily on woodcut prints\, etchings\, artist’s books\, drawing and collage. She founded both Shadow Press and Press 928 in Evanston\, Illinois for fine art printing and publishing. She received her BA degree from The University of Iowa and her MFA from the Universitat der Kunste\, in Berlin\, Germany. Jeanine has received various awards and residencies including Illinois Arts Council Award\, Arts Midwest Grant\, Frans Masereel Center residency in Belgium and Anchor Graphics residency in Chicago. She has been teaching in the Print Media Department at the School of the Art Institute of Chicago since 1991. \nTo register: \n\nenter the number of “tickets” you want below (one ticket per student)\nclick “add to cart”  \ncomplete the contact information form that appears after you add a ticket\ncomplete the payment information\ncheck your email for your receipt\n\nPlease contact us with any registration questions or concerns.
URL:https://octagonarts.org/event/drypoint-printmaking-condensed-workshop/
LOCATION:Octagon Center for the Arts\, 427 Douglas Avenue\, Ames\, IA\, 50010\, United States
CATEGORIES:Classes
ATTACH;FMTTYPE=image/jpeg:https://octagonarts.org/wp-content/uploads/2019/01/Leaf-Study.b-edit.jpg
ORGANIZER;CN="Octagon Center for the Arts":MAILTO:info@octagonarts.org
GEO:42.0257584;-93.6123172
X-APPLE-STRUCTURED-LOCATION;VALUE=URI;X-ADDRESS=Octagon Center for the Arts 427 Douglas Avenue Ames IA 50010 United States;X-APPLE-RADIUS=500;X-TITLE=427 Douglas Avenue:geo:-93.6123172,42.0257584
END:VEVENT
END:VCALENDAR