BEGIN:VCALENDAR
VERSION:2.0
PRODID:-//Octagon Center for the Arts - ECPv6.15.18//NONSGML v1.0//EN
CALSCALE:GREGORIAN
METHOD:PUBLISH
X-WR-CALNAME:Octagon Center for the Arts
X-ORIGINAL-URL:https://octagonarts.org
X-WR-CALDESC:Events for Octagon Center for the Arts
REFRESH-INTERVAL;VALUE=DURATION:PT1H
X-Robots-Tag:noindex
X-PUBLISHED-TTL:PT1H
BEGIN:VTIMEZONE
TZID:America/Chicago
BEGIN:DAYLIGHT
TZOFFSETFROM:-0600
TZOFFSETTO:-0500
TZNAME:CDT
DTSTART:20180311T080000
END:DAYLIGHT
BEGIN:STANDARD
TZOFFSETFROM:-0500
TZOFFSETTO:-0600
TZNAME:CST
DTSTART:20181104T070000
END:STANDARD
BEGIN:DAYLIGHT
TZOFFSETFROM:-0600
TZOFFSETTO:-0500
TZNAME:CDT
DTSTART:20190310T080000
END:DAYLIGHT
BEGIN:STANDARD
TZOFFSETFROM:-0500
TZOFFSETTO:-0600
TZNAME:CST
DTSTART:20191103T070000
END:STANDARD
BEGIN:DAYLIGHT
TZOFFSETFROM:-0600
TZOFFSETTO:-0500
TZNAME:CDT
DTSTART:20200308T080000
END:DAYLIGHT
BEGIN:STANDARD
TZOFFSETFROM:-0500
TZOFFSETTO:-0600
TZNAME:CST
DTSTART:20201101T070000
END:STANDARD
END:VTIMEZONE
BEGIN:VEVENT
DTSTART;TZID=America/Chicago:20190727T130000
DTEND;TZID=America/Chicago:20190727T170000
DTSTAMP:20260424T050245
CREATED:20190717T173656Z
LAST-MODIFIED:20190717T175926Z
UID:7561-1564232400-1564246800@octagonarts.org
SUMMARY:Visiting Artist Workshop: Creating a Tonal Image in Charcoal and Paint  
DESCRIPTION:Creating a Tonal Image in Charcoal and Paint  \nSaturday\, July 27\n1 – 5 pm (4 – 5 pm critique session)\nNorth Studio\nClass Limit: 16\n$250   Member discounts may not be applied to this special workshop.\n\n\n \nIn this workshop we will learn the basics of charcoal drawing to get a quick impression of any image. These skills are crucial for planning tonal schemes in drawing and painting. The same basics can be applied to drawing in paint. The backbone of a quick painting is a good drawing with organized values. We will make a monotone drawing in paint using the same principles of charcoal. These skills will be enormously helpful in all varieties of quick sketch. \n \nPlease bring the following supplies:\nVine or willow charcoal (paper and canvas to be supplied by me)\nSmall tube of raw umber oil paint \nA few brushes of varying size. One of those little brush kits at hobby lobby is fine. \nA small bottle of Gamsol or Odorless mineral spirit of your choice. \n \n\nVisiting Artist: Ananda Fetherston\, a Slater\, Iowa born fine artist\, was educated under Jacob Collins at the Grand Central Atelier in New York City. She has exhibited in New York where she lives with her husband\, a fellow painter. In addition to oil painting and drawing\, Ananda is a printmaker. \n\n \nAnanda will also be teaching a workshop on Thursday\, July 25\, Creating a Precise Linear Drawing for Painting.\n\n \n\n\nRegistration closes on at 5pm on 7/25/19 or when the workshop fills. \n\nTo register: \n\nenter the number of “tickets” you want below (one ticket per student)\nclick “add to cart”  \ncomplete the contact information form that appears after you add a ticket\ncomplete the payment information\ncheck your email for your receipt\n\nPlease contact us with any registration questions or concerns.
URL:https://octagonarts.org/event/visiting-artist-workshop-creating-a-tonal-image-in-charcoal-and-paint/
LOCATION:Octagon Center for the Arts\, 427 Douglas Avenue\, Ames\, IA\, 50010\, United States
CATEGORIES:Classes,Workshop
ATTACH;FMTTYPE=image/jpeg:https://octagonarts.org/wp-content/uploads/2019/07/Ananda-2-1.jpg
ORGANIZER;CN="Octagon Center for the Arts":MAILTO:info@octagonarts.org
GEO:42.0257584;-93.6123172
X-APPLE-STRUCTURED-LOCATION;VALUE=URI;X-ADDRESS=Octagon Center for the Arts 427 Douglas Avenue Ames IA 50010 United States;X-APPLE-RADIUS=500;X-TITLE=427 Douglas Avenue:geo:-93.6123172,42.0257584
END:VEVENT
BEGIN:VEVENT
DTSTART;TZID=America/Chicago:20190725T180000
DTEND;TZID=America/Chicago:20190725T200000
DTSTAMP:20260424T050245
CREATED:20190717T171005Z
LAST-MODIFIED:20190717T175824Z
UID:7554-1564077600-1564084800@octagonarts.org
SUMMARY:Visiting Artist Workshop: Creating a Precise Linear Drawing for Painting
DESCRIPTION:Creating a Precise Linear Drawing for Painting\nThursday\, July 25\n6 – 8 pm\nNorth Studio\nClass Limit: 16\n$90  Membership discounts may not be applied to this workshop.\n \n\nLearn the fundamentals of making a linear drawing in preparation for painting. We will discuss accurate shapes\, proportional agreement and identifying important information needed during the painting. We will learn the transfer process that has been used by centuries of painters to preserve an accurate drawing throughout the painting. These techniques translate particularly well to portraiture\, still life and any image involving complicated perspective. Participants need no paint or canvas for this workshop. \n \nPlease bring these supplies: Drawing Paper\, graphite pencil and sharpener\, eraser of choice\n \n\n\nVisiting Artist: Ananda Fetherston\, a Slater\, Iowa born fine artist\, was educated under Jacob Collins at the Grand Central Atelier in New York City. She has exhibited in New York where she lives with her husband\, a fellow painter. In addition to oil painting and drawing\, Ananda is a printmaker. \n\n \nAnanda will also be teaching a workshop on Saturday\, July 27\, Creating a Tonal Image in Charcoal and Paint.\n\n \n\n\nRegistration closes on at 5pm on 7/23/19 or when the workshop fills. \n\nTo register: \n\nenter the number of “tickets” you want below (one ticket per student)\nclick “add to cart”  \ncomplete the contact information form that appears after you add a ticket\ncomplete the payment information\ncheck your email for your receipt\n\nPlease contact us with any registration questions or concerns.
URL:https://octagonarts.org/event/visiting-artist-workshop-creating-a-precise-linear-drawing-for-painting/
LOCATION:Octagon Center for the Arts\, 427 Douglas Avenue\, Ames\, IA\, 50010\, United States
CATEGORIES:Classes,Workshop
ATTACH;FMTTYPE=image/jpeg:https://octagonarts.org/wp-content/uploads/2019/07/Ananda.jpg
ORGANIZER;CN="Octagon Center for the Arts":MAILTO:info@octagonarts.org
GEO:42.0257584;-93.6123172
X-APPLE-STRUCTURED-LOCATION;VALUE=URI;X-ADDRESS=Octagon Center for the Arts 427 Douglas Avenue Ames IA 50010 United States;X-APPLE-RADIUS=500;X-TITLE=427 Douglas Avenue:geo:-93.6123172,42.0257584
END:VEVENT
END:VCALENDAR