BEGIN:VCALENDAR
VERSION:2.0
PRODID:-//Octagon Center for the Arts - ECPv6.15.18//NONSGML v1.0//EN
CALSCALE:GREGORIAN
METHOD:PUBLISH
X-ORIGINAL-URL:https://octagonarts.org
X-WR-CALDESC:Events for Octagon Center for the Arts
REFRESH-INTERVAL;VALUE=DURATION:PT1H
X-Robots-Tag:noindex
X-PUBLISHED-TTL:PT1H
BEGIN:VTIMEZONE
TZID:America/Chicago
BEGIN:DAYLIGHT
TZOFFSETFROM:-0600
TZOFFSETTO:-0500
TZNAME:CDT
DTSTART:20170312T080000
END:DAYLIGHT
BEGIN:STANDARD
TZOFFSETFROM:-0500
TZOFFSETTO:-0600
TZNAME:CST
DTSTART:20171105T070000
END:STANDARD
BEGIN:DAYLIGHT
TZOFFSETFROM:-0600
TZOFFSETTO:-0500
TZNAME:CDT
DTSTART:20180311T080000
END:DAYLIGHT
BEGIN:STANDARD
TZOFFSETFROM:-0500
TZOFFSETTO:-0600
TZNAME:CST
DTSTART:20181104T070000
END:STANDARD
BEGIN:DAYLIGHT
TZOFFSETFROM:-0600
TZOFFSETTO:-0500
TZNAME:CDT
DTSTART:20190310T080000
END:DAYLIGHT
BEGIN:STANDARD
TZOFFSETFROM:-0500
TZOFFSETTO:-0600
TZNAME:CST
DTSTART:20191103T070000
END:STANDARD
BEGIN:DAYLIGHT
TZOFFSETFROM:-0600
TZOFFSETTO:-0500
TZNAME:CDT
DTSTART:20200308T080000
END:DAYLIGHT
BEGIN:STANDARD
TZOFFSETFROM:-0500
TZOFFSETTO:-0600
TZNAME:CST
DTSTART:20201101T070000
END:STANDARD
END:VTIMEZONE
BEGIN:VEVENT
DTSTART;TZID=America/Chicago:20180918T180000
DTEND;TZID=America/Chicago:20181023T210000
DTSTAMP:20260423T134927
CREATED:20180820T210821Z
LAST-MODIFIED:20180827T130252Z
UID:3270-1537293600-1540328400@octagonarts.org
SUMMARY:Ceramic Bowls & Mugs on the Wheel\, ages 16+ 
DESCRIPTION:Ceramic Bowls &Mugs on the Wheel Throwing\, ages 16+   \nTuesdays\, 6 – 9 pm \n(6 weeks) September 18 – October 23 \n$120 includes 25Lbs. of clay\, all glazes and firing. \nStudents will learn basic throwing techniques from wedging to glazing. Students will have finished bowls at the end of the course. \nInstructor: Suzy Block \nCeramics Studio \nClass Limit: 6 \n  \nTo register: \n\nenter the number of “tickets” you want below (one ticket per student)\nclick “add to cart”  \ncomplete the contact information form that appears after you add a ticket\ncomplete the payment information\ncheck your email for your receipt\n\nPlease contact us with any registration questions or concerns. \nRegistration closes on at 6am on 9/14/18.
URL:https://octagonarts.org/event/ceramic-bowls-pottery-wheel-throwing-ages-16/
LOCATION:Octagon Center for the Arts\, 427 Douglas Avenue\, Ames\, IA\, 50010\, United States
CATEGORIES:Classes
ATTACH;FMTTYPE=image/jpeg:https://octagonarts.org/wp-content/uploads/2018/08/Handbuilding-on-the-wheel-e1534866294323.jpg
ORGANIZER;CN="Octagon Center for the Arts":MAILTO:info@octagonarts.org
GEO:42.0257584;-93.6123172
X-APPLE-STRUCTURED-LOCATION;VALUE=URI;X-ADDRESS=Octagon Center for the Arts 427 Douglas Avenue Ames IA 50010 United States;X-APPLE-RADIUS=500;X-TITLE=427 Douglas Avenue:geo:-93.6123172,42.0257584
END:VEVENT
BEGIN:VEVENT
DTSTART;TZID=America/Chicago:20181106T180000
DTEND;TZID=America/Chicago:20181113T210000
DTSTAMP:20260423T134927
CREATED:20180904T210931Z
LAST-MODIFIED:20181105T170125Z
UID:3567-1541527200-1542142800@octagonarts.org
SUMMARY:Hand Built Clay Ornaments\, ages 16+
DESCRIPTION:Hand Built Clay Ornaments\, ages 16+ \nTuesdays\, 6 – 9 pm \nNovember 6 – 13 (2 weeks) $50 \nCreate autumn and winter hand built ornaments for your holiday packages\, wreaths\, and for use in decorating. Students will learn to using slab and hand building techniques. Bring your favorite cookie cutters for shape ideas. \nInstructor: Susan Anderson \nCeramics Studio \nClass Limit 8 \nTo register: \n\nenter the number of “tickets” you want below (one ticket per student)\nclick “add to cart”  \ncomplete the contact information form that appears after you add a ticket\ncomplete the payment information\ncheck your email for your receipt\n\nPlease contact us with any registration questions or concerns. \nRegistration closes on at 6am on 11/2/18.
URL:https://octagonarts.org/event/hand-built-clay-ornaments-ages-16/
LOCATION:Octagon Center for the Arts\, 427 Douglas Avenue\, Ames\, IA\, 50010\, United States
CATEGORIES:Classes
ATTACH;FMTTYPE=image/jpeg:https://octagonarts.org/wp-content/uploads/2018/09/hand-build-ornaments.jpg
ORGANIZER;CN="Octagon Center for the Arts":MAILTO:info@octagonarts.org
GEO:42.0257584;-93.6123172
X-APPLE-STRUCTURED-LOCATION;VALUE=URI;X-ADDRESS=Octagon Center for the Arts 427 Douglas Avenue Ames IA 50010 United States;X-APPLE-RADIUS=500;X-TITLE=427 Douglas Avenue:geo:-93.6123172,42.0257584
END:VEVENT
BEGIN:VEVENT
DTSTART;TZID=America/Chicago:20181106T180000
DTEND;TZID=America/Chicago:20181127T210000
DTSTAMP:20260423T134927
CREATED:20180822T012119Z
LAST-MODIFIED:20180825T002352Z
UID:3301-1541527200-1543352400@octagonarts.org
SUMMARY:Make Your own Mugs\, ages 16+
DESCRIPTION:Make Your own Mugs\, ages 16+ \nTuesdays\, 6 – 9 pm \nNovember 6 – 27 (3 weeks)  No class November 20 \n$80 includes 25Lbs. of clay\, all glazes and firing. \nLearn to wheel throw the base of the mugs\, attach handles and finish your piece with glaze. Everyone will have mugs to take home and enjoy! \nInstructor: Jackie Comito \nCeramics Studio \nClass Limit: 6 \n  \nTo register: \n\nenter the number of “tickets” you want below (one ticket per student)\nclick “add to cart”  \ncomplete the contact information form that appears after you add a ticket\ncomplete the payment information\ncheck your email for your receipt\n\nPlease contact us with any registration questions or concerns. \nRegistration closes on at 6am on 11/4/18.
URL:https://octagonarts.org/event/make-your-own-mugs-ages-16/
LOCATION:Octagon Center for the Arts\, 427 Douglas Avenue\, Ames\, IA\, 50010\, United States
CATEGORIES:Classes
ATTACH;FMTTYPE=image/jpeg:https://octagonarts.org/wp-content/uploads/2018/08/pottery-wheel.jpg
ORGANIZER;CN="Octagon Center for the Arts":MAILTO:info@octagonarts.org
GEO:42.0257584;-93.6123172
X-APPLE-STRUCTURED-LOCATION;VALUE=URI;X-ADDRESS=Octagon Center for the Arts 427 Douglas Avenue Ames IA 50010 United States;X-APPLE-RADIUS=500;X-TITLE=427 Douglas Avenue:geo:-93.6123172,42.0257584
END:VEVENT
BEGIN:VEVENT
DTSTART;TZID=America/Chicago:20190204T180000
DTEND;TZID=America/Chicago:20190204T210000
DTSTAMP:20260423T134927
CREATED:20190108T220655Z
LAST-MODIFIED:20190108T220655Z
UID:4681-1549303200-1549314000@octagonarts.org
SUMMARY:Make Your Own Mugs – all skill levels: February 4 – 18
DESCRIPTION:Make Your Own Mugs – all skill levels\, ages 16+ \nMondays\, 6 – 9 pm \nFebruary 4 – 18 (3 weeks) $85 \nBeginning students will learn basic wheel throwing techniques to create mugs\, and learn the fundamentals of wedging clay and glazing. Intermediate and advanced students will be guided to continue and practice their artistic pursuits. All skill levels will have finished functional pieces at the end of class. Finished pieces may be picked up two weeks after class ends. \nInstructor: Suzy Block \nCeramics Studio \nClass Limit: 7 \nTo register: \n\nenter the number of “tickets” you want below (one ticket per student)\nclick “add to cart”  \ncomplete the contact information form that appears after you add a ticket\ncomplete the payment information\ncheck your email for your receipt\n\nPlease contact us with any registration questions or concerns. \nRegistration closes on at 6am on 2/1/19.
URL:https://octagonarts.org/event/make-your-own-mugs-all-skill-levels-february-4-18/
LOCATION:Octagon Center for the Arts\, 427 Douglas Avenue\, Ames\, IA\, 50010\, United States
CATEGORIES:Classes
ATTACH;FMTTYPE=image/jpeg:https://octagonarts.org/wp-content/uploads/2018/08/pottery-wheel.jpg
ORGANIZER;CN="Octagon Center for the Arts":MAILTO:info@octagonarts.org
GEO:42.0257584;-93.6123172
X-APPLE-STRUCTURED-LOCATION;VALUE=URI;X-ADDRESS=Octagon Center for the Arts 427 Douglas Avenue Ames IA 50010 United States;X-APPLE-RADIUS=500;X-TITLE=427 Douglas Avenue:geo:-93.6123172,42.0257584
END:VEVENT
BEGIN:VEVENT
DTSTART;TZID=America/Chicago:20190528T180000
DTEND;TZID=America/Chicago:20190528T210000
DTSTAMP:20260423T134927
CREATED:20190423T155814Z
LAST-MODIFIED:20190509T182733Z
UID:6308-1559066400-1559077200@octagonarts.org
SUMMARY:Make Your Own Mugs: May 28 - June 11
DESCRIPTION:Make Your Own Mugs\, ages 16+ \nTuesdays\, 6 – 9 pm \nMay 28 – June 11 (3 weeks) $85 \nAll skill levels: Beginners will learn basic wheel throwing techniques to create mugs\, and learn the fundamentals of wedging clay and glazing. Intermediate and advanced students will be guided to continue and practice their artistic pursuits. All skill levels will have finished functional pieces at the end of class. Finished pieces may be picked up two weeks after class ends. \nInstructor: Jackie Comito \nCeramics Studio \nClass Limit: 7 \nLocation: Ceramics Studio \nRegistration for this class ends May 24 at 6am (or when the class fills). \n\nTo register: \n\nenter the number of “tickets” you want below (one ticket per student)\nclick “add to cart”  \ncomplete the contact information form that appears after you add a ticket\ncomplete the payment information\ncheck your email for your receipt\n\nPlease contact us with any registration questions or concerns.
URL:https://octagonarts.org/event/make-your-own-mugs-may-26-june-11/
LOCATION:Octagon Center for the Arts\, 427 Douglas Avenue\, Ames\, IA\, 50010\, United States
CATEGORIES:Classes
ATTACH;FMTTYPE=image/jpeg:https://octagonarts.org/wp-content/uploads/2018/08/Handbuilding-on-the-wheel-e1534866294323.jpg
ORGANIZER;CN="Octagon Center for the Arts":MAILTO:info@octagonarts.org
GEO:42.0257584;-93.6123172
X-APPLE-STRUCTURED-LOCATION;VALUE=URI;X-ADDRESS=Octagon Center for the Arts 427 Douglas Avenue Ames IA 50010 United States;X-APPLE-RADIUS=500;X-TITLE=427 Douglas Avenue:geo:-93.6123172,42.0257584
END:VEVENT
BEGIN:VEVENT
DTSTART;TZID=America/Chicago:20190708T180000
DTEND;TZID=America/Chicago:20190708T210000
DTSTAMP:20260423T134927
CREATED:20190529T161706Z
LAST-MODIFIED:20190708T172103Z
UID:6874-1562608800-1562619600@octagonarts.org
SUMMARY:Wheelthrowing: Beginner Bowls (ages 16 +)\, July 8 - July 22
DESCRIPTION:Wheelthrowing: Beginner Bowls\, ages 16 + \nMondays\, 6 – 9 pm \nJuly 8 – 22 (3 weeks) $85 \nCreate beautiful bowls using the potter’s wheel. Price includes 12 lbs of clay\, glazes and firing. \nInstructor: Jackie Comito \nCeramics Studio \nClass Limit: 7 \nRegistration closes on at 5pm on 7/3/19 or when the class fills. \n\nTo register: \n\nenter the number of “tickets” you want below (one ticket per student)\nclick “add to cart”  \ncomplete the contact information form that appears after you add a ticket\ncomplete the payment information\ncheck your email for your receipt\n\nPlease contact us with any registration questions or concerns.
URL:https://octagonarts.org/event/wheelthrowing-beginner-bowls-ages-16-july-8-july-22/
LOCATION:Octagon Center for the Arts\, 427 Douglas Avenue\, Ames\, IA\, 50010\, United States
CATEGORIES:Classes
ATTACH;FMTTYPE=image/jpeg:https://octagonarts.org/wp-content/uploads/2018/08/Handbuilding-on-the-wheel-e1534866294323.jpg
ORGANIZER;CN="Octagon Center for the Arts":MAILTO:info@octagonarts.org
GEO:42.0257584;-93.6123172
X-APPLE-STRUCTURED-LOCATION;VALUE=URI;X-ADDRESS=Octagon Center for the Arts 427 Douglas Avenue Ames IA 50010 United States;X-APPLE-RADIUS=500;X-TITLE=427 Douglas Avenue:geo:-93.6123172,42.0257584
END:VEVENT
BEGIN:VEVENT
DTSTART;TZID=America/Chicago:20190711T180000
DTEND;TZID=America/Chicago:20190711T210000
DTSTAMP:20260423T134927
CREATED:20190617T023356Z
LAST-MODIFIED:20190617T023824Z
UID:7129-1562868000-1562878800@octagonarts.org
SUMMARY:Handbuilding with Clay (ages 16+)\, July 11 – July 25
DESCRIPTION:Handbuilding with Clay\, ages 16+ \nThursdays\, 6 – 9 pm \nJuly 11 – 25 (3 weeks) $120 \nLearn key handbuilding techniques including pinch\, coil and slab construction\, plus surface decoration and glazing. Instructor provides individual guidance for all levels of experience with special attention to newcomers. Experienced potters may pursue independent projects. \nInstructor: Jasmine Beul \nCeramics Studio \nClass Limit: 8 \nRegistration closes on at 5pm on 7/8/19 or when the class fills. \n\nTo register: \n\nenter the number of “tickets” you want below (one ticket per student)\nclick “add to cart”  \ncomplete the contact information form that appears after you add a ticket\ncomplete the payment information\ncheck your email for your receipt\n\nPlease contact us with any registration questions or concerns.
URL:https://octagonarts.org/event/handbuilding-with-clay-ages-16-july-11-july-25/
LOCATION:Octagon Center for the Arts\, 427 Douglas Avenue\, Ames\, IA\, 50010\, United States
CATEGORIES:Classes
ATTACH;FMTTYPE=image/png:https://octagonarts.org/wp-content/uploads/2019/06/bowl-edited.png
ORGANIZER;CN="Octagon Center for the Arts":MAILTO:info@octagonarts.org
GEO:42.0257584;-93.6123172
X-APPLE-STRUCTURED-LOCATION;VALUE=URI;X-ADDRESS=Octagon Center for the Arts 427 Douglas Avenue Ames IA 50010 United States;X-APPLE-RADIUS=500;X-TITLE=427 Douglas Avenue:geo:-93.6123172,42.0257584
END:VEVENT
BEGIN:VEVENT
DTSTART;VALUE=DATE:20190713
DTEND;VALUE=DATE:20190826
DTSTAMP:20260423T134927
CREATED:20190710T162912Z
LAST-MODIFIED:20190710T181720Z
UID:7424-1562976000-1566777599@octagonarts.org
SUMMARY:Hard and Soft: Contrasts in Nature Expressed Through Clay ELIZABETH SHRIVER
DESCRIPTION:LOCATED IN SWEENEY GALLERY \nFrom Elizabeth Shriver:\nI work with clay to create an array of graceful\, organic forms. These pieces are\nconstructed using a combination of hand-building methods such as slab-building\, coiling\,\npinching\, and forming with molds. Rarely relying on glaze\, I use textures\, stains\, and\ncolored clay to add visual and tactile interest. I am drawn toward neutral earth tones\, and\nmy work reflects the natural landscape\, plant\, and undersea life that are my inspiration.\nThe curving lines of nature inherent in my work generate an illusion of movement\, giving\neach piece an almost lifelike quality. A successful piece is one that begs to be touched as\nwell as explored visually. \n\nI am a native Iowan and a 1987 graduate of the University of Iowa. My interest in art\nbegan during my childhood\, when I would often spend my free time painting and\ndrawing. My focus turned to clay in 1985\, when my I took my first course at the University of\nIowa Ceramics Department. I became fascinated with the malleable properties of clay\,\nand the sculptural possibilities inherent in the medium. Though I was majoring in\npsychology rather than art\, my newfound interest led me to continue on through all four\nsemesters of undergraduate studio ceramics. \n\nAs I maintained my interest in ceramics into my adult life\, I set up my own studio where I\ncould hone my skills and experiment with new forms. Over the years\, I have exhibited my\nceramic sculptures in galleries\, and in both solo and group exhibitions throughout the USA.\nMost recently\, I’ve enjoyed participating in juried exhibitions exploring themes of nature or\n“biomorphism.” \nhttps://www.elizabethshriverceramics.com/
URL:https://octagonarts.org/event/hard-and-soft-contrasts-in-nature-expressed-through-clay-elizabeth-shriver/
LOCATION:Octagon Center for the Arts\, 427 Douglas Avenue\, Ames\, IA\, 50010\, United States
CATEGORIES:Exhibits
ATTACH;FMTTYPE=image/png:https://octagonarts.org/wp-content/uploads/2019/07/Shriver-1.png
ORGANIZER;CN="Octagon Center for the Arts":MAILTO:info@octagonarts.org
GEO:42.0257584;-93.6123172
X-APPLE-STRUCTURED-LOCATION;VALUE=URI;X-ADDRESS=Octagon Center for the Arts 427 Douglas Avenue Ames IA 50010 United States;X-APPLE-RADIUS=500;X-TITLE=427 Douglas Avenue:geo:-93.6123172,42.0257584
END:VEVENT
BEGIN:VEVENT
DTSTART;TZID=America/Chicago:20190805T130000
DTEND;TZID=America/Chicago:20190805T160000
DTSTAMP:20260423T134927
CREATED:20190509T204529Z
LAST-MODIFIED:20190509T212607Z
UID:6468-1565010000-1565020800@octagonarts.org
SUMMARY:Clay Workshop (ages 12 – 15) August 5-8
DESCRIPTION:Clay Workshop\, ages 12 – 15 \nAugust 5 – 8 \n1 – 4 pm \n$145 \nLearn key handbuilding techniques including pinch\, coil and slab construction\, plus surface decoration and glazing. Students will create functional and artistic projects to be glazed\, fired and picked up two weeks after class ends. \nInstructor: Jasmine Beul \nCeramics Studio \nClass Limit: 8 \nRegistration closes on at 5pm on 7/31/19 or when the workshop fills. \n\nTo register: \n\nenter the number of “tickets” you want below (one ticket per student)\nclick “add to cart”  \ncomplete the contact information form that appears after you add a ticket\ncomplete the payment information\ncheck your email for your receipt\n\nPlease contact us with any registration questions or concerns.
URL:https://octagonarts.org/event/clay-workshop/
LOCATION:Octagon Center for the Arts\, 427 Douglas Avenue\, Ames\, IA\, 50010\, United States
CATEGORIES:Classes
ATTACH;FMTTYPE=image/jpeg:https://octagonarts.org/wp-content/uploads/2018/08/Handbuilding-on-the-wheel-e1534866294323.jpg
ORGANIZER;CN="Octagon Center for the Arts":MAILTO:info@octagonarts.org
GEO:42.0257584;-93.6123172
X-APPLE-STRUCTURED-LOCATION;VALUE=URI;X-ADDRESS=Octagon Center for the Arts 427 Douglas Avenue Ames IA 50010 United States;X-APPLE-RADIUS=500;X-TITLE=427 Douglas Avenue:geo:-93.6123172,42.0257584
END:VEVENT
BEGIN:VEVENT
DTSTART;TZID=America/Chicago:20190917T180000
DTEND;TZID=America/Chicago:20191022T210000
DTSTAMP:20260423T134927
CREATED:20190814T000014Z
LAST-MODIFIED:20190828T220203Z
UID:7936-1568743200-1571778000@octagonarts.org
SUMMARY:Wheelthrowing: Ceramic Bowls and Mugs\, ages 16+ (SEPT/OCT)
DESCRIPTION:Wheelthrowing: Ceramic Bowls and Mugs\nAges: 16 years old and up \nTime/Day: Tuesdays\, 6 – 9 pm \nDates: (6 weeks) September 17 – October 22 \nCost: $165 includes 25lbs. of clay\, all glazes and firing. [Tuition: $135 + Clay/Glazes/Firing: $30] \nDescription: Students at all skill levels will learn\, review and hone wheel throwing techniques from wedging to glazing. Students will have finished bowls at the end of the course. \nInstructor: Suzy Block \nLocation: Ceramics Studio \nClass Limit: 7 \nRegistration closes when the class fills or on at 6am on 9/13/19. Students cannot be added after the registration closes. \n\nTo register: \n\nscroll down to the “Tickets” section near the bottom of this page\nenter the number of “tickets” you want  (one ticket per student)\nclick “add to cart”  \ncomplete the contact information form that appears after you add a ticket\ncomplete the payment information\ncheck your email for your receipt\n\nPlease note: \n\nStudents cannot be added after the registration closes.\nOctagon members receive class discounts. Please login before registering for classes and your discount will be applied automatically.\nIf you are not a member\, but would like to join\, click here. Purchase your membership first. Then login and proceed as noted above to receive your discount. Your discount will not be applied unless you are logged in.\n\nPlease contact us with any registration questions or concerns. Click here to send a message. Thanks for supporting arts education at the Octagon!
URL:https://octagonarts.org/event/7936/
LOCATION:Octagon Center for the Arts\, 427 Douglas Avenue\, Ames\, IA\, 50010\, United States
CATEGORIES:Classes
ATTACH;FMTTYPE=image/jpeg:https://octagonarts.org/wp-content/uploads/2019/01/make-a-plate.jpg
ORGANIZER;CN="Octagon Center for the Arts":MAILTO:info@octagonarts.org
GEO:42.0257584;-93.6123172
X-APPLE-STRUCTURED-LOCATION;VALUE=URI;X-ADDRESS=Octagon Center for the Arts 427 Douglas Avenue Ames IA 50010 United States;X-APPLE-RADIUS=500;X-TITLE=427 Douglas Avenue:geo:-93.6123172,42.0257584
END:VEVENT
BEGIN:VEVENT
DTSTART;TZID=America/Chicago:20191028T180000
DTEND;TZID=America/Chicago:20191028T210000
DTSTAMP:20260423T134927
CREATED:20191015T162126Z
LAST-MODIFIED:20191022T194806Z
UID:8872-1572285600-1572296400@octagonarts.org
SUMMARY:Wheelthrowing: Ceramic Mugs & Vases\, ages 16+ (OCT/NOV)
DESCRIPTION:Wheelthrowing: Ceramic Mugs & Vases\nAges: 16 years old and up \nTime/Day: Mondays\, 6 – 9 pm \nDates: (3 weeks) October 28 – November 11 \nCost: $95 includes 12.5 lbs. of clay\, all glazes and firing.  \nDescription: Students at all skill levels will learn\, review and hone wheel throwing techniques.  \nInstructor: Jackie Comito \nLocation: Ceramics Studio \nClass Limit: 7 \nRegistration closes when the class fills or on at 10am on 10/28/19. Students cannot be added after the registration closes. \n\nTo register: \n\nscroll down to the “Tickets” section near the bottom of this page\nenter the number of “tickets” you want  (one ticket per student)\nclick “add to cart”  \ncomplete the contact information form that appears after you add a ticket\ncomplete the payment information\ncheck your email for your receipt\n\nPlease note: \n\nStudents cannot be added after the registration closes.\nOctagon members receive class discounts. Please login before registering for classes and your discount will be applied automatically.\nIf you are not a member\, but would like to join\, click here. Purchase your membership first. Then login and proceed as noted above to receive your discount. Your discount will not be applied unless you are logged in.\n\nPlease contact us with any registration questions or concerns. Click here to send a message. Thanks for supporting arts education at the Octagon! \n\n 
URL:https://octagonarts.org/event/wheelthrowing-ceramic-mugs-vases-ages-16-oct-nov/
LOCATION:Octagon Center for the Arts\, 427 Douglas Avenue\, Ames\, IA\, 50010\, United States
CATEGORIES:Classes
ATTACH;FMTTYPE=image/jpeg:https://octagonarts.org/wp-content/uploads/2019/01/make-a-plate.jpg
ORGANIZER;CN="Octagon Center for the Arts":MAILTO:info@octagonarts.org
GEO:42.0257584;-93.6123172
X-APPLE-STRUCTURED-LOCATION;VALUE=URI;X-ADDRESS=Octagon Center for the Arts 427 Douglas Avenue Ames IA 50010 United States;X-APPLE-RADIUS=500;X-TITLE=427 Douglas Avenue:geo:-93.6123172,42.0257584
END:VEVENT
BEGIN:VEVENT
DTSTART;TZID=America/Chicago:20191112T180000
DTEND;TZID=America/Chicago:20191112T210000
DTSTAMP:20260423T134927
CREATED:20191030T161942Z
LAST-MODIFIED:20191030T163519Z
UID:9083-1573581600-1573592400@octagonarts.org
SUMMARY:Hand Built Clay Ornaments (NOV)
DESCRIPTION:Hand Built Clay Ornaments (NOV)\nAges: 16 years old and up \nDay/Date/Time: Tuesdays\, 6 – 9 pm\, November 12 – 19 (2 weeks)  \nCost: $50 \nDescription: Create autumn and winter hand built ornaments for your holiday packages\, wreaths\, and for use in decorating. Students will learn to use slab and hand building techniques. Bring your favorite cookie cutters for shape ideas. \nInstructor: Susan Anderson \nStudio: Ceramics \nClass limit: 8 \nRegistration closes when the class fills or on at 6am on 11/8/19. Students cannot be added after the registration closes. \n\nTo register: \n\nscroll down to the “Tickets” section near the bottom of this page\nenter the number of “tickets” you want  (one ticket per student)\nclick “add to cart”  \ncomplete the contact information form that appears after you add a ticket\ncomplete the payment information\ncheck your email for your receipt\n\nPlease note: \n\nStudents cannot be added after the registration closes.\nOctagon members receive class discounts. Please login before registering for classes and your discount will be applied automatically.\nIf you are not a member\, but would like to join\, click here. Purchase your membership first. Then login and proceed as noted above to receive your discount. Your discount will not be applied unless you are logged in.\n\nPlease contact us with any registration questions or concerns. Click here to send a message. Thanks for supporting arts education at the Octagon!
URL:https://octagonarts.org/event/hand-built-clay-ornaments-nov/
LOCATION:Octagon Center for the Arts\, 427 Douglas Avenue\, Ames\, IA\, 50010\, United States
CATEGORIES:Classes
ATTACH;FMTTYPE=image/jpeg:https://octagonarts.org/wp-content/uploads/2018/09/hand-build-ornaments.jpg
ORGANIZER;CN="Octagon Center for the Arts":MAILTO:info@octagonarts.org
GEO:42.0257584;-93.6123172
X-APPLE-STRUCTURED-LOCATION;VALUE=URI;X-ADDRESS=Octagon Center for the Arts 427 Douglas Avenue Ames IA 50010 United States;X-APPLE-RADIUS=500;X-TITLE=427 Douglas Avenue:geo:-93.6123172,42.0257584
END:VEVENT
BEGIN:VEVENT
DTSTART;TZID=America/Chicago:20191202T180000
DTEND;TZID=America/Chicago:20191202T210000
DTSTAMP:20260423T134927
CREATED:20191030T163225Z
LAST-MODIFIED:20191105T220436Z
UID:9086-1575309600-1575320400@octagonarts.org
SUMMARY:Wheelthrowing: Ceramic Mugs & Vases (DEC)
DESCRIPTION:Wheelthrowing: Ceramic Mugs & Vases\nAges: 16 years old and up \nTime/Day: Mondays\, 6 – 9 pm \nDates: (3 weeks)  December 2 – 16 \nCost: $95 includes 12.5 lbs. of clay\, all glazes and firing.  \nDescription: Students at all skill levels will learn\, review and hone wheel throwing techniques.  \nInstructor: Jackie Comito \nLocation: Ceramics Studio \nClass Limit: 7 \nRegistration closes when the class fills or on at 6am on 11/29/19. Students cannot be added after the registration closes. \n\nTo register: \n\nscroll down to the “Tickets” section near the bottom of this page\nenter the number of “tickets” you want  (one ticket per student)\nclick “add to cart”  \ncomplete the contact information form that appears after you add a ticket\ncomplete the payment information\ncheck your email for your receipt\n\nPlease note: \n\nStudents cannot be added after the registration closes.\nOctagon members receive class discounts. Please login before registering for classes and your discount will be applied automatically.\nIf you are not a member\, but would like to join\, click here. Purchase your membership first. Then login and proceed as noted above to receive your discount. Your discount will not be applied unless you are logged in.\n\nPlease contact us with any registration questions or concerns. Click here to send a message. Thanks for supporting arts education at the Octagon!
URL:https://octagonarts.org/event/9086/
LOCATION:Octagon Center for the Arts\, 427 Douglas Avenue\, Ames\, IA\, 50010\, United States
CATEGORIES:Classes
ATTACH;FMTTYPE=image/jpeg:https://octagonarts.org/wp-content/uploads/2019/10/jackie-pottery-e1572991440370.jpeg
ORGANIZER;CN="Octagon Center for the Arts":MAILTO:info@octagonarts.org
GEO:42.0257584;-93.6123172
X-APPLE-STRUCTURED-LOCATION;VALUE=URI;X-ADDRESS=Octagon Center for the Arts 427 Douglas Avenue Ames IA 50010 United States;X-APPLE-RADIUS=500;X-TITLE=427 Douglas Avenue:geo:-93.6123172,42.0257584
END:VEVENT
END:VCALENDAR