BEGIN:VCALENDAR
VERSION:2.0
PRODID:-//Octagon Center for the Arts - ECPv6.15.18//NONSGML v1.0//EN
CALSCALE:GREGORIAN
METHOD:PUBLISH
X-WR-CALNAME:Octagon Center for the Arts
X-ORIGINAL-URL:https://octagonarts.org
X-WR-CALDESC:Events for Octagon Center for the Arts
REFRESH-INTERVAL;VALUE=DURATION:PT1H
X-Robots-Tag:noindex
X-PUBLISHED-TTL:PT1H
BEGIN:VTIMEZONE
TZID:America/Chicago
BEGIN:DAYLIGHT
TZOFFSETFROM:-0600
TZOFFSETTO:-0500
TZNAME:CDT
DTSTART:20170312T080000
END:DAYLIGHT
BEGIN:STANDARD
TZOFFSETFROM:-0500
TZOFFSETTO:-0600
TZNAME:CST
DTSTART:20171105T070000
END:STANDARD
BEGIN:DAYLIGHT
TZOFFSETFROM:-0600
TZOFFSETTO:-0500
TZNAME:CDT
DTSTART:20180311T080000
END:DAYLIGHT
BEGIN:STANDARD
TZOFFSETFROM:-0500
TZOFFSETTO:-0600
TZNAME:CST
DTSTART:20181104T070000
END:STANDARD
BEGIN:DAYLIGHT
TZOFFSETFROM:-0600
TZOFFSETTO:-0500
TZNAME:CDT
DTSTART:20190310T080000
END:DAYLIGHT
BEGIN:STANDARD
TZOFFSETFROM:-0500
TZOFFSETTO:-0600
TZNAME:CST
DTSTART:20191103T070000
END:STANDARD
BEGIN:DAYLIGHT
TZOFFSETFROM:-0600
TZOFFSETTO:-0500
TZNAME:CDT
DTSTART:20200308T080000
END:DAYLIGHT
BEGIN:STANDARD
TZOFFSETFROM:-0500
TZOFFSETTO:-0600
TZNAME:CST
DTSTART:20201101T070000
END:STANDARD
END:VTIMEZONE
BEGIN:VEVENT
DTSTART;VALUE=DATE:20190201
DTEND;VALUE=DATE:20190331
DTSTAMP:20260423T154418
CREATED:20190111T174750Z
LAST-MODIFIED:20190312T150317Z
UID:4721-1548979200-1553990399@octagonarts.org
SUMMARY:Octagonal: The All Media Exhibit
DESCRIPTION:LOCATED IN MAIN GALLERY AND SWEENEY GALLERY (3rd floor) \nOctagonal: The All-Media Exhibit is the annual\, juried all-media exhibition at the Octagon Center for the Arts in Ames\, Iowa. Originally titled the Clay and Paper Show\, the exhibit opened in 1968 to provide an opportunity to the central Iowa arts community. Over the past 51 years\, the exhibit morphed over the decades to become the Clay\, Fiber\, Paper\, Glass\, Metal\, Wood Exhibit that has featured hundreds of artists from dozens of states. The newest version of the exhibit\, Octagonal: The All-Media Exhibit\, launched in 2018 taking a note from the past while moving forward to continue to provide an exciting opportunity for artists across Iowa\, the Midwest\, and the nation. This exhibit features a regionally-recognized juror each year\, attracts artists from across the United States\, and provides significant cash awards. \n2019 Awards \nThe following media awards are named in honor of the four women who founded the Octagon Center for the Arts in 1966. \n Special thanks to Haila Architecture\, Structure\, Planning to sponsoring the following four media awards. \nPriscilla Sage Fiber Award: Incubator (tapestry) by Betty Busby from Albuquerque\, NM \nJanet Harris Squires Clay Award: Wedding Vase (ceramic) by Jasmine Beul of Ames\, IA \nMartha Benson Metal Media Award: Mater et Filia (Raised Copper Vessel) by Gina Westergard from Lawrence\, KS \nVeronika Ruedenberg Mixed Media Award: The Sunny Day (linoleum tile sculpture\,) by Sue Berkey from Fairfield\, IA \nThe following awards are generously funded by the Brown Family Endowment Fund in honor of Donald Brown Jr. and Winifred V. Brown   \nPaper: March 28th (digital photograph) by Angela Beckwith of Ames\, IA \nGlass: Veiled Cane on a Blue & White Overlay by Art Ciccotti from Ames\, IA \nWood: One Million Rocks (rocking chair) by Matthew Obbink from Boone\, IA \nPainting: Crush No. 1 by Jeremy Roy from Grimes\, IA \nEmerging Artist Award: Scarecrow in the Garden by Robert Jinkins from Rewey\, WI \nWinifred V. Brown Best of Show Award: Drained (painting) by Josh Sorrell from Ankeny\, IA \nAward winners pictured with Juror\, Jeanine Coupe Ryding; Executive Director\, Heather Johnson; and Board President\, Sam Stagg
URL:https://octagonarts.org/event/4721/
LOCATION:Octagon Center for the Arts\, 427 Douglas Avenue\, Ames\, IA\, 50010\, United States
CATEGORIES:Exhibits
ATTACH;FMTTYPE=image/png:https://octagonarts.org/wp-content/uploads/2019/01/Octagonal-Logo.png
ORGANIZER;CN="Octagon Center for the Arts":MAILTO:info@octagonarts.org
GEO:42.0257584;-93.6123172
X-APPLE-STRUCTURED-LOCATION;VALUE=URI;X-ADDRESS=Octagon Center for the Arts 427 Douglas Avenue Ames IA 50010 United States;X-APPLE-RADIUS=500;X-TITLE=427 Douglas Avenue:geo:-93.6123172,42.0257584
END:VEVENT
BEGIN:VEVENT
DTSTART;VALUE=DATE:20180126
DTEND;VALUE=DATE:20180408
DTSTAMP:20260423T154418
CREATED:20180729T221356Z
LAST-MODIFIED:20180729T221356Z
UID:2673-1516924800-1523145599@octagonarts.org
SUMMARY:50th Annual Clay\, Fiber\, Paper\, Glass\, Metal\, Wood
DESCRIPTION:50th Annual Clay\, Fiber\, Paper\, Glass\, Metal\, Wood \nJanuary 26 – April 7\, 2018 \nMAIN GALLERY & SWEENEY GALLERY \n2018 marks the 50th annual All-Media juried exhibit at the Octagon Center for the Arts. The first Clay\, Fiber\, Paper\, Glass\, Metal\, Woodopened in 1968\, two years after the organization’s founding in 1966. The Octagon was founded out of the community’s desire to provide exciting art experiences for the public and professional opportunities for artists. This show the organization’s attempt to fully embody the founding vision. As a result\, it has a reputation for being one of the best group juried shows in Iowa due to its national reach\, high standards for jurors\, and significant cash awards. The title of the show reflects a media-focused theme. The founders believed that many art forms seen as lowly “crafts\,” such as ceramics or woodworking\, should be elevated to compete with the level of other “fine” arts. The idea of excellent craftsmanship combined with compelling ideas continues to be a central theme as artwork is selected. This is the longest repeating exhibit at the Octagon and is responsible for bringing some of the most prestigious artwork into the community. \nJuror: Peter Pinnell \nPeter Pinnell’s first professional position was as Artist in Residence at the Octagon Art Center in Ames\, Iowa\, a position he held from 1984 to 1987. “I loved the Octagon\, and my wife and I loved living in Ames. It was the perfect place for me at that point in my career”. After leaving Ames\, Pinnell spent eight years in Kansas City\, working as a studio potter and teaching part-time at the Kansas City Art Institute. In 1995 Pinnell was offered a faculty position at the University of Nebraska\, where he is now Professor of Art. \nIn addition to his teaching\, Pinnell writes\, lectures and exhibits his pottery widely. Over the last 20 years he has been an active presenter with NCECA (the National council on Education in the Ceramics Arts)\, and his ceramics column\, “As Far as I Know” has appeared in Clay Times magazine since 1998. His artwork has appeared in exhibitions across the US and in a number of venues overseas.
URL:https://octagonarts.org/event/50th-annual-clay-fiber-paper-glass-metal-wood/
LOCATION:Octagon Center for the Arts\, 427 Douglas Avenue\, Ames\, IA\, 50010\, United States
CATEGORIES:Exhibits
ATTACH;FMTTYPE=image/jpeg:https://octagonarts.org/wp-content/uploads/2018/07/clayfiber2018.jpg
ORGANIZER;CN="Octagon Center for the Arts":MAILTO:info@octagonarts.org
GEO:42.0257584;-93.6123172
X-APPLE-STRUCTURED-LOCATION;VALUE=URI;X-ADDRESS=Octagon Center for the Arts 427 Douglas Avenue Ames IA 50010 United States;X-APPLE-RADIUS=500;X-TITLE=427 Douglas Avenue:geo:-93.6123172,42.0257584
END:VEVENT
END:VCALENDAR