BEGIN:VCALENDAR
VERSION:2.0
PRODID:-//Octagon Center for the Arts - ECPv6.15.18//NONSGML v1.0//EN
CALSCALE:GREGORIAN
METHOD:PUBLISH
X-ORIGINAL-URL:https://octagonarts.org
X-WR-CALDESC:Events for Octagon Center for the Arts
REFRESH-INTERVAL;VALUE=DURATION:PT1H
X-Robots-Tag:noindex
X-PUBLISHED-TTL:PT1H
BEGIN:VTIMEZONE
TZID:America/Chicago
BEGIN:DAYLIGHT
TZOFFSETFROM:-0600
TZOFFSETTO:-0500
TZNAME:CDT
DTSTART:20200308T080000
END:DAYLIGHT
BEGIN:STANDARD
TZOFFSETFROM:-0500
TZOFFSETTO:-0600
TZNAME:CST
DTSTART:20201101T070000
END:STANDARD
BEGIN:DAYLIGHT
TZOFFSETFROM:-0600
TZOFFSETTO:-0500
TZNAME:CDT
DTSTART:20210314T080000
END:DAYLIGHT
BEGIN:STANDARD
TZOFFSETFROM:-0500
TZOFFSETTO:-0600
TZNAME:CST
DTSTART:20211107T070000
END:STANDARD
BEGIN:DAYLIGHT
TZOFFSETFROM:-0600
TZOFFSETTO:-0500
TZNAME:CDT
DTSTART:20220313T080000
END:DAYLIGHT
BEGIN:STANDARD
TZOFFSETFROM:-0500
TZOFFSETTO:-0600
TZNAME:CST
DTSTART:20221106T070000
END:STANDARD
END:VTIMEZONE
BEGIN:VEVENT
DTSTART;VALUE=DATE:20211012
DTEND;VALUE=DATE:20211107
DTSTAMP:20260424T004956
CREATED:20210112T214613Z
LAST-MODIFIED:20211011T034938Z
UID:12417-1633996800-1636243199@octagonarts.org
SUMMARY:The Art of Climate Planning
DESCRIPTION:LOCATED IN THE COMMUNITY GALLERY \nThe Art of Climate Planning is produced by The EcoTheatre Lab and funded by a City of Ames Small Art Grant. The project is inspired by the City of Ames’ commitment to developing a climate action plan in the coming months. The EcoTheatre Lab commissioned seven local artists to develop art pieces with the aim of encouraging community participation in the climate action planning process. These art pieces will be displayed in various community spaces through March 2022. A big thank you to everyone involved in the Octagon Center for the Arts’ Outrage to Change Project in Summer 2020\, which inspired the structure for The Art of Climate Planning.  \nAbout The EcoTheatre Lab: The EcoTheatre Lab is a small collective of three Ames artists (Charissa Menefee\, Taylor Sklenar\, and Vivian M Cook). They partner with fellow ISU and Ames artists and community members to produce arts events that build community and engage audiences in sustainability conversations. They approach their work from an asset-based perspective\, examining the many assets that exist within our community and identifying ways to amplify and build on those assets through art. Follow The EcoTheatre Lab on Facebook and Instagram.  \nWork in image by Keygan Sands. \n 
URL:https://octagonarts.org/event/art-of-climate-planning/
LOCATION:Octagon Center for the Arts\, 427 Douglas Avenue\, Ames\, IA\, 50010\, United States
CATEGORIES:Exhibits
ATTACH;FMTTYPE=image/png:https://octagonarts.org/wp-content/uploads/2021/01/climate-planning.png
ORGANIZER;CN="Octagon Center for the Arts":MAILTO:info@octagonarts.org
GEO:42.0257584;-93.6123172
X-APPLE-STRUCTURED-LOCATION;VALUE=URI;X-ADDRESS=Octagon Center for the Arts 427 Douglas Avenue Ames IA 50010 United States;X-APPLE-RADIUS=500;X-TITLE=427 Douglas Avenue:geo:-93.6123172,42.0257584
END:VEVENT
END:VCALENDAR