BEGIN:VCALENDAR
VERSION:2.0
PRODID:-//Octagon Center for the Arts - ECPv6.15.18//NONSGML v1.0//EN
CALSCALE:GREGORIAN
METHOD:PUBLISH
X-ORIGINAL-URL:https://octagonarts.org
X-WR-CALDESC:Events for Octagon Center for the Arts
REFRESH-INTERVAL;VALUE=DURATION:PT1H
X-Robots-Tag:noindex
X-PUBLISHED-TTL:PT1H
BEGIN:VTIMEZONE
TZID:America/Chicago
BEGIN:DAYLIGHT
TZOFFSETFROM:-0600
TZOFFSETTO:-0500
TZNAME:CDT
DTSTART:20200308T080000
END:DAYLIGHT
BEGIN:STANDARD
TZOFFSETFROM:-0500
TZOFFSETTO:-0600
TZNAME:CST
DTSTART:20201101T070000
END:STANDARD
BEGIN:DAYLIGHT
TZOFFSETFROM:-0600
TZOFFSETTO:-0500
TZNAME:CDT
DTSTART:20210314T080000
END:DAYLIGHT
BEGIN:STANDARD
TZOFFSETFROM:-0500
TZOFFSETTO:-0600
TZNAME:CST
DTSTART:20211107T070000
END:STANDARD
BEGIN:DAYLIGHT
TZOFFSETFROM:-0600
TZOFFSETTO:-0500
TZNAME:CDT
DTSTART:20220313T080000
END:DAYLIGHT
BEGIN:STANDARD
TZOFFSETFROM:-0500
TZOFFSETTO:-0600
TZNAME:CST
DTSTART:20221106T070000
END:STANDARD
END:VTIMEZONE
BEGIN:VEVENT
DTSTART;VALUE=DATE:20210821
DTEND;VALUE=DATE:20211003
DTSTAMP:20260424T113525
CREATED:20210112T214305Z
LAST-MODIFIED:20210924T214202Z
UID:12414-1629504000-1633219199@octagonarts.org
SUMMARY:Image & Text: Visual Art and Creative Writing in Partnership
DESCRIPTION:LOCATED IN COMMUNITY GALLERY \nImage & Text features visual and written artworks crafted from partnerships between visual artists and creative writers. Whether the individual artworks or the overarching concepts behind the artworks are the collaboration\, this gallery installation intends to show artwork generated by the interplay between (or among) visual artists and creative writers. A call for artists took place in the summer of 2019. Originally planned for the 2020 gallery season\, the pandemic required rescheduling of this gallery show. \nAdditionally\, throughout the month of September\, The Octagon will be hosting several events to celebrate the collaboration of visual art and writing. We would love to have you join us! \n  \nWednesday\, September 1st\, 7:00 PM  \nGallery Talk with Debra Marquart and Ingrid Lilligren \nA conversation with Ingrid and Debra involving art\, readings of poems and excerpts\, and a view into how collaboration between the artists creates new visual art. Watch the recording here: https://fb.watch/8b3U_6AZd4/ \n  \nThursday\, September 9th\, 6:00 – 8:00 PM  \nEraser Poetry + Collage and Open Mic Night \nA drop-in activity to learn about and create eraser poetry and collage alongside a public open mic night. Share the creative writing in your life. $5 suggested donation to help The Octagon cover material costs. Partnership with the Emerging Writers. \n  \nThursday\, September 16th\, 6:00 – 8:00 PM  \nGalley Show Reception \nA reception to celebrate the works of all artists in the show. Plus impromptu poetry readings of the show artists in attendance. See the Facebook event here. \n  \nThursday\, September 23rd\, 6:00 PM NEW TIME! \nWords Meet Art with Ana McCracken \n A literary arts event that demonstrates through words how art invokes feelings\, triggers memories\, and inspires conversations across divides and demographics\, plus a special announcement. \n  \nThursday\, September 29th\, TBA \nReading Night with the Emerging Writers at Dog-Eared Books \n A literary arts event that demonstrates through words how art invokes feelings\, triggers memories\, and inspires conversations across divides and demographics. \n  \nSaturday\, October 2nd\, 12:30 – 4:00 PM \nBookbinding: The Cross Structure Book\, Ages 16+ \nA class on bookbinding. The Cross Structure binding is a non-adhesive structure that offers much freedom to the text block. This 20th century design is greatly inspired by the Long Stitch bindings of the medieval era. It is suitable for conservation or new bindings\, such as travel journals or decorative bindings. The structure is uniquely constructed by interlocking the front and back covers at the spine. Instructed by Peggy Johnston. Pre-registration is required. Cost $95 class fee.
URL:https://octagonarts.org/event/image-text-visual-art-and-creative-writing-in-partnership/
LOCATION:Octagon Center for the Arts\, 427 Douglas Avenue\, Ames\, IA\, 50010\, United States
CATEGORIES:Exhibits
ATTACH;FMTTYPE=image/png:https://octagonarts.org/wp-content/uploads/2021/01/image-and-text-collage-1.png
ORGANIZER;CN="Octagon Center for the Arts":MAILTO:info@octagonarts.org
GEO:42.0257584;-93.6123172
X-APPLE-STRUCTURED-LOCATION;VALUE=URI;X-ADDRESS=Octagon Center for the Arts 427 Douglas Avenue Ames IA 50010 United States;X-APPLE-RADIUS=500;X-TITLE=427 Douglas Avenue:geo:-93.6123172,42.0257584
END:VEVENT
END:VCALENDAR