BEGIN:VCALENDAR
VERSION:2.0
PRODID:-//Octagon Center for the Arts - ECPv6.15.18//NONSGML v1.0//EN
CALSCALE:GREGORIAN
METHOD:PUBLISH
X-ORIGINAL-URL:https://octagonarts.org
X-WR-CALDESC:Events for Octagon Center for the Arts
REFRESH-INTERVAL;VALUE=DURATION:PT1H
X-Robots-Tag:noindex
X-PUBLISHED-TTL:PT1H
BEGIN:VTIMEZONE
TZID:America/Chicago
BEGIN:DAYLIGHT
TZOFFSETFROM:-0600
TZOFFSETTO:-0500
TZNAME:CDT
DTSTART:20170312T080000
END:DAYLIGHT
BEGIN:STANDARD
TZOFFSETFROM:-0500
TZOFFSETTO:-0600
TZNAME:CST
DTSTART:20171105T070000
END:STANDARD
BEGIN:DAYLIGHT
TZOFFSETFROM:-0600
TZOFFSETTO:-0500
TZNAME:CDT
DTSTART:20180311T080000
END:DAYLIGHT
BEGIN:STANDARD
TZOFFSETFROM:-0500
TZOFFSETTO:-0600
TZNAME:CST
DTSTART:20181104T070000
END:STANDARD
BEGIN:DAYLIGHT
TZOFFSETFROM:-0600
TZOFFSETTO:-0500
TZNAME:CDT
DTSTART:20190310T080000
END:DAYLIGHT
BEGIN:STANDARD
TZOFFSETFROM:-0500
TZOFFSETTO:-0600
TZNAME:CST
DTSTART:20191103T070000
END:STANDARD
END:VTIMEZONE
BEGIN:VEVENT
DTSTART;TZID=America/Chicago:20180816T170000
DTEND;TZID=America/Chicago:20180816T190000
DTSTAMP:20260423T060027
CREATED:20180725T031021Z
LAST-MODIFIED:20180806T182027Z
UID:2249-1534438800-1534446000@octagonarts.org
SUMMARY:Gallery Night with Joanne Alberda
DESCRIPTION:Join us for a FREE reception with artist Joanne Alberta in the Community Gallery! \nArtist Talk by Joanne Alberta at 6:30pm \nTales from a Ghost Town by JOANNE ALBERDA is on display August 17 – September 29\, 2018 \nVirginia City is a ghost town—the skeleton of a booming Montana gold mining camp in the late 19th century. As a museum it is the record of one of hundreds of get-rich-quick dramas related to the search for gold in the American West. Some buildings in the city and in the area around it have been abandoned and qualify as “ghosts.” When I was a child my family visited Virginia City many times\, a day long outing. Years later\, returning to Montana to visit family\, I revisited Virginia City with my camera in the fall of 2009\, 2010\, and 2011. By that time the tourists were gone\, and the place did feel like a ghost town. The silence of this “dead” place gives the viewer time to examine the drama of decay. Empty rooms and broken doorways invite speculation about the lives of people long gone\, but the decaying wood invited me to search out another story\, the life of a living material that grew and developed\, was cut and used by hands both skilled and unskilled\, and finally left to dry and rot. Documenting the evidence of time through photography I was moved to capture some of these “tales” with hand dyed fabric\, created by the ungoverned mixing of colors\, which often resembles the growth patterns observed in cut and decaying wood. I have been creating these works over the past several years with various shades of the gray and rusty reds of decaying wood. Recently I visited an exhibition of works by Clifford Still\, whose content and style reminded me very much of the decayed wood\, but his use of bright colors encouraged me to expand my color choices. \nIn this exhibition I have included a few images of the town and area as it exists today\, some digitally manipulated images of decaying wood\, and textile works that were inspired and nourished by the images of wet and decaying wood.
URL:https://octagonarts.org/event/gallery-night-with-joanne-alberda/
LOCATION:Octagon Center for the Arts\, 427 Douglas Avenue\, Ames\, IA\, 50010\, United States
CATEGORIES:Events
ORGANIZER;CN="Octagon Center for the Arts":MAILTO:info@octagonarts.org
GEO:42.0257584;-93.6123172
X-APPLE-STRUCTURED-LOCATION;VALUE=URI;X-ADDRESS=Octagon Center for the Arts 427 Douglas Avenue Ames IA 50010 United States;X-APPLE-RADIUS=500;X-TITLE=427 Douglas Avenue:geo:-93.6123172,42.0257584
END:VEVENT
BEGIN:VEVENT
DTSTART;TZID=America/Chicago:20181004T170000
DTEND;TZID=America/Chicago:20181004T190000
DTSTAMP:20260423T060027
CREATED:20180725T163106Z
LAST-MODIFIED:20180725T164252Z
UID:2274-1538672400-1538679600@octagonarts.org
SUMMARY:Gallery Night:  Aperture Awards & Smithsonian Exhibit Tailgate
DESCRIPTION:Join us for an exciting Gallery Night — FREE and open to the public! \n\nAmes Downtown will host a tailgate event on Douglas Avenue in front of the Octagon. Details to follow!\nThe awards for Aperture 2018 will be announced.\nArtist Bogumil Bronkowsk may also be with us; we are still working on this possibility.
URL:https://octagonarts.org/event/gallery-night-aperture-awards-smithsonian-exhibit-tailgate/
LOCATION:IA
CATEGORIES:Events
ORGANIZER;CN="Octagon Center for the Arts":MAILTO:info@octagonarts.org
END:VEVENT
BEGIN:VEVENT
DTSTART;TZID=America/Chicago:20181115T170000
DTEND;TZID=America/Chicago:20181115T190000
DTSTAMP:20260423T060027
CREATED:20180725T192445Z
LAST-MODIFIED:20180823T165929Z
UID:2276-1542301200-1542308400@octagonarts.org
SUMMARY:Gallery Night with Sarah Perkins & Gwen Walstrand
DESCRIPTION:Join us for Gallery Night — FREE and open to the public! \nMeet the artists and hear about how they collaborated in practice to create this exhibit. \n  \nThe holidays are just around the corner. While you’re here\, why not pop into the Gallery Shop and get a unique gift for someone special on your list. 
URL:https://octagonarts.org/event/gallery-night-with-sarah-perkins-gwen-walstrand/
LOCATION:Octagon Center for the Arts\, 427 Douglas Avenue\, Ames\, IA\, 50010\, United States
CATEGORIES:Events
ATTACH;FMTTYPE=image/jpeg:https://octagonarts.org/wp-content/uploads/2018/07/Perkins-Walstrand-Visual_Together.jpg
ORGANIZER;CN="Octagon Center for the Arts":MAILTO:info@octagonarts.org
GEO:42.0257584;-93.6123172
X-APPLE-STRUCTURED-LOCATION;VALUE=URI;X-ADDRESS=Octagon Center for the Arts 427 Douglas Avenue Ames IA 50010 United States;X-APPLE-RADIUS=500;X-TITLE=427 Douglas Avenue:geo:-93.6123172,42.0257584
END:VEVENT
END:VCALENDAR