BEGIN:VCALENDAR
VERSION:2.0
PRODID:-//Octagon Center for the Arts - ECPv6.15.18//NONSGML v1.0//EN
CALSCALE:GREGORIAN
METHOD:PUBLISH
X-ORIGINAL-URL:https://octagonarts.org
X-WR-CALDESC:Events for Octagon Center for the Arts
REFRESH-INTERVAL;VALUE=DURATION:PT1H
X-Robots-Tag:noindex
X-PUBLISHED-TTL:PT1H
BEGIN:VTIMEZONE
TZID:America/Chicago
BEGIN:DAYLIGHT
TZOFFSETFROM:-0600
TZOFFSETTO:-0500
TZNAME:CDT
DTSTART:20180311T080000
END:DAYLIGHT
BEGIN:STANDARD
TZOFFSETFROM:-0500
TZOFFSETTO:-0600
TZNAME:CST
DTSTART:20181104T070000
END:STANDARD
BEGIN:DAYLIGHT
TZOFFSETFROM:-0600
TZOFFSETTO:-0500
TZNAME:CDT
DTSTART:20190310T080000
END:DAYLIGHT
BEGIN:STANDARD
TZOFFSETFROM:-0500
TZOFFSETTO:-0600
TZNAME:CST
DTSTART:20191103T070000
END:STANDARD
BEGIN:DAYLIGHT
TZOFFSETFROM:-0600
TZOFFSETTO:-0500
TZNAME:CDT
DTSTART:20200308T080000
END:DAYLIGHT
BEGIN:STANDARD
TZOFFSETFROM:-0500
TZOFFSETTO:-0600
TZNAME:CST
DTSTART:20201101T070000
END:STANDARD
BEGIN:DAYLIGHT
TZOFFSETFROM:-0600
TZOFFSETTO:-0500
TZNAME:CDT
DTSTART:20210314T080000
END:DAYLIGHT
BEGIN:STANDARD
TZOFFSETFROM:-0500
TZOFFSETTO:-0600
TZNAME:CST
DTSTART:20211107T070000
END:STANDARD
BEGIN:DAYLIGHT
TZOFFSETFROM:-0600
TZOFFSETTO:-0500
TZNAME:CDT
DTSTART:20220313T080000
END:DAYLIGHT
BEGIN:STANDARD
TZOFFSETFROM:-0500
TZOFFSETTO:-0600
TZNAME:CST
DTSTART:20221106T070000
END:STANDARD
BEGIN:DAYLIGHT
TZOFFSETFROM:-0600
TZOFFSETTO:-0500
TZNAME:CDT
DTSTART:20230312T080000
END:DAYLIGHT
BEGIN:STANDARD
TZOFFSETFROM:-0500
TZOFFSETTO:-0600
TZNAME:CST
DTSTART:20231105T070000
END:STANDARD
BEGIN:DAYLIGHT
TZOFFSETFROM:-0600
TZOFFSETTO:-0500
TZNAME:CDT
DTSTART:20240310T080000
END:DAYLIGHT
BEGIN:STANDARD
TZOFFSETFROM:-0500
TZOFFSETTO:-0600
TZNAME:CST
DTSTART:20241103T070000
END:STANDARD
END:VTIMEZONE
BEGIN:VEVENT
DTSTART;VALUE=DATE:20230417
DTEND;VALUE=DATE:20230514
DTSTAMP:20260424T053219
CREATED:20230314T165340Z
LAST-MODIFIED:20230406T160449Z
UID:14918-1681689600-1684022399@octagonarts.org
SUMMARY:2023 Elementary/Middle/High School Annual Student Show
DESCRIPTION:The Octagon Center for the Arts highlights artwork by local elementary\, middle\, and high school students annually. \n \n\n\n\nGRADES K – 8 (Virtual):\nSHOW DETAILS: \n\n\n\nGoogle Form Submission Due: 5 pm\, Saturday\, April 1\, 2023\nVirtual Exhibit Opening: Monday\, April 17\, 2023\nArt from Grades K – 8 will be displayed virtually.\nEach elementary and middle school student may submit one piece to exhibit. \n\n\n\n\nENTRY REQUIREMENTS: \n\n\n\nAll submitted artwork must be entered into the Google Form by April 1st at 5:00 pm to be included in the show.\nAll media will be accepted.\nPhotographic reproduction of entries may be used or copied by the Octagon Center for the Arts\, without further agreement by the artists\, for exhibition and/or publication (print or online). Artwork may not be credited in publications due to space limitations.\n\n\n\n \nGRADES 9 – 12:\nIMPORTANT DATES: \n\n\n\nShow Opening in the Community Gallery: Monday\, April 17\, 2023\nReception: Thursday\, April 20\, 2023\, 4:00-5:30pm in the Community Gallery. Our juror will announce high school awards and share comments on the show.\nShow Closing in the Community Gallery: Saturday\, May 13\, 2023\n\n\n\n\nENTRY REQUIREMENTS: \n\n\n\nIf you are a 9-12 art instructor or homeschool parent and would like to enter your students’ work into the show\, please email the Gallery Director to recieve a copy of the complete submission guidellines.\nEligible high schools or homeschool students must be located within 20 miles from Ames.\n\n\n\n\n \n\n\n\n\n\n\n2023 EXHIBIT JUROR: SUSAN NORRIS \n \nSusan Norris\, an Ames artist\, is a human magpie. Walk with her and you’ll witness her exclaim as she picks up a bit of rusty metal or a shard of plastic. Variety is the spice of Norris’ life from the colors\, patterns and textures of her thrifted clothing and garden to the way she sets a table. \nShe is a scrappy collector and determined connector who can stitch Humpty-Dumpty back together again in a variety of imaginative ways. During the 2021 Ames Artist Studio tour folks asked\, “How did you think of so many different ways to put things together?” \nNorris is passionate about rescuing discarded objects\, likening them to discarded people. The process of finding\, sorting and grouping objects inspires ideas for expression through assemblage. Norris is currently experimenting with ways to combine her lifelong love of hand stitching and her newfound interest in mending with found object art. \n\n\n\n\n  \nQUESTIONS?\nContact: Casey Bridgham\, Gallery Director \nAddress: 427 Douglas Avenue\, Ames\, IA 50010 \nPhone: 515-232-5331 \nEmail: exhibits@octagonarts.org \n 
URL:https://octagonarts.org/event/2023-elementary-middle-high-school-annual-student-show/
LOCATION:Octagon Center for the Arts\, 427 Douglas Avenue\, Ames\, IA\, 50010\, United States
CATEGORIES:Events,Exhibits
ATTACH;FMTTYPE=image/jpeg:https://octagonarts.org/wp-content/uploads/2023/03/studentshows.jpg
ORGANIZER;CN="Octagon Center for the Arts":MAILTO:info@octagonarts.org
GEO:42.0257584;-93.6123172
X-APPLE-STRUCTURED-LOCATION;VALUE=URI;X-ADDRESS=Octagon Center for the Arts 427 Douglas Avenue Ames IA 50010 United States;X-APPLE-RADIUS=500;X-TITLE=427 Douglas Avenue:geo:-93.6123172,42.0257584
END:VEVENT
BEGIN:VEVENT
DTSTART;VALUE=DATE:20220430
DTEND;VALUE=DATE:20220515
DTSTAMP:20260424T053219
CREATED:20220329T215723Z
LAST-MODIFIED:20220506T191229Z
UID:13688-1651276800-1652572799@octagonarts.org
SUMMARY:2022 Elementary/Middle/High School Annual Student Show
DESCRIPTION:Located in the Community Gallery/Virtual \nThe Octagon Center for the Arts highlights artwork by local elementary\, middle\, and high school students annually.  \n\n2022 Kindergarten – 8th Grade Student Show\nSee the K – 8th Grade Show virtually! Visit our YouTube channel to see the Show: https://youtu.be/l_N0KeDsDNI \n\n2022 High School Student Show\nSee the High School Show in the Community Gallery April 30 – May 14\, 2022. The reception for High School Show was held on Thursday\, May 5\, 2022\, 6:00 – 7:30pm in the Community Gallery. Our juror announced high school awards and share comments on the show. The award presentation and comments can be viewed on the Octagon Facebook page. \n2022 High School Show Juror: JAMIE MALONE \nJamie Malone (they/them) is an Iowan traditional and graphic illustrator who graduated with a B.A. in Biological/Pre-Medical Illustration in 2019 from Iowa State University. They have been working as a freelance illustrator for many non-profits\, authors\, and schools in the central Iowa area. Their art is heavily influenced by celestial bodies\, music\, mysticism\, and the natural world. \nJamie worked at the Octagon Center for the Arts as the 2021 Curator in Residence. \n  \n2022 High School Show Award Winners \nJeffrey L. Brown Memorial Photography Award: “Cue!” by Derek Peng\, Senior\, Ames High School (Art Instructor: Lindsay Wede) \nDavid Burton Stone Memorial Painting/Drawing Award: “Self Portrait” by Cecilia Moyer\, Senior\, Nevada High School (Art Instructor: Mark Beauchene) \nJuror’s Choice (Sponsored by Ames Silversmithing): “Beautiful Wonders” by Emma Brockman\, Freshman\, Ames High School (Art Instructor: Lindsay Wede) \nJuror’s Choice (Sponsored by Ames Silversmithing): “Starlights” by Emma Hudnell\, Freshman\, Madrid High School (Art Instructor: Danielle Dalluge) \nJuror’s Choice (Sponsored by Ames Silversmithing): “First Night” by Carter Wolfe\, Junior\, Ballard High School (Art Instructor: Lisa Bell) \nJeffrey L. Brown Best of Show Award: “Ancestry Nesting Dolls” by Lorna Schuckert\, Senior\, Ames High School (Art Instructor: Lindsay Wede) \n  \n\n\n\n\n\nTHANK YOU TO OUR GENEROUS 2022 SPONSORS:\n\n\n\n\n\n\n\n\nThe Brown Family Endowment Fund\nThe Stone Family Endowment Fund\n\n\n\n\n\n\n\n 
URL:https://octagonarts.org/event/elementary-middle-high-school-annual-student-show/
LOCATION:Octagon Center for the Arts\, 427 Douglas Avenue\, Ames\, IA\, 50010\, United States
CATEGORIES:Exhibits
ATTACH;FMTTYPE=image/jpeg:https://octagonarts.org/wp-content/uploads/2022/03/student-show-2022.jpg
ORGANIZER;CN="Octagon Center for the Arts":MAILTO:info@octagonarts.org
GEO:42.0257584;-93.6123172
X-APPLE-STRUCTURED-LOCATION;VALUE=URI;X-ADDRESS=Octagon Center for the Arts 427 Douglas Avenue Ames IA 50010 United States;X-APPLE-RADIUS=500;X-TITLE=427 Douglas Avenue:geo:-93.6123172,42.0257584
END:VEVENT
BEGIN:VEVENT
DTSTART;VALUE=DATE:20210213
DTEND;VALUE=DATE:20210228
DTSTAMP:20260424T053219
CREATED:20210215T035716Z
LAST-MODIFIED:20210215T035716Z
UID:12488-1613174400-1614470399@octagonarts.org
SUMMARY:2021 Elementary / Middle / High Exhibit: An Exhibition of Local Elementary\, Middle\, and High School Students
DESCRIPTION:COMMUNITY GALLERY AND VIRTUAL \n\n  \nThe Octagon Center for the Arts is highlights artwork by local elementary\, middle\, and high school students annually. The Octagon loves loves hosting the work of these young emerging artists. \nSee the K – 8 Virtual Show here! The High School Show is in the Octagon Community Gallery\, Feb. 13 – 27\, 2021\, at the Octagon Center for the Arts in Ames\, Iowa. \n\n \n2021 Jurors: Cathie Gebhart\, Nancy Gebhart\, & Lydia Mae \nCathie Gebhart is a former public school teacher teaching all grades preK- college\, including high school art classes. After retiring\, she taught the preK art class at the Octagon for two years. Author of several children’s books\, she manages Dan the Fish Publishing which gives a voice for new writers and artists. Cathie’s favorite artist is Vincent Van Gogh. Cathie is the Mema to nine grands and mother of four\, including Nancy Gebhart. \nNancy Gebhart is currently a PhD student at Iowa State working on her doctorate in Social and Cultural Studies of Education with a focus on the intersection of art and social justice. She was the Education Director at University Museums for ten years and has curated many exhibits both in Ames and Des Moines. Prior to coming to Iowa State\, Nancy worked at the Lyman Museum in Hilo\, HI and the Saint Louis Art Museum in Missouri. Nancy has received numerous awards including Art Educator of the Year from the Ames Community Arts Council\, and the Woman of Achievement Award from the YWCA. Nancy’s favorite artist is Keith Haring. Nancy is the proud mother of Lydia Mae. \nLydia Mae is 2019 Octagon winner in the Kindergarten division for her wood block print on handmade paper. She has taken art classes at the Octagon since the age of two. She has also taken art classes at the Workspace\, Reiman Gardens\, and at Fused\, a glass fusing studio in Roslyn\, WA. Lydia has traveled to 16 states\, visiting museums across the country. Her favorite artist is Georgia O’Keefe. Her favorite living artist is Yayoi Kusama\, and her favorite artist that she knows is Cameron Gray. 
URL:https://octagonarts.org/event/2021-elementary-middle-high-exhibit-an-exhibition-of-local-elementary-middle-and-high-school-students-2/
LOCATION:Octagon Center for the Arts\, 427 Douglas Avenue\, Ames\, IA\, 50010\, United States
CATEGORIES:Exhibits
ATTACH;FMTTYPE=application/pdf:https://octagonarts.org/wp-content/uploads/2021/02/E_M_HS-Poster-REVISED-PRINT-ME.pdf
ORGANIZER;CN="Octagon Center for the Arts":MAILTO:info@octagonarts.org
GEO:42.0257584;-93.6123172
X-APPLE-STRUCTURED-LOCATION;VALUE=URI;X-ADDRESS=Octagon Center for the Arts 427 Douglas Avenue Ames IA 50010 United States;X-APPLE-RADIUS=500;X-TITLE=427 Douglas Avenue:geo:-93.6123172,42.0257584
END:VEVENT
BEGIN:VEVENT
DTSTART;VALUE=DATE:20190418
DTEND;VALUE=DATE:20190512
DTSTAMP:20260424T053219
CREATED:20190416T192616Z
LAST-MODIFIED:20190422T192655Z
UID:6239-1555545600-1557619199@octagonarts.org
SUMMARY:Elementary / Middle / High Annual Exhibit:  An Exhibition of Local Elementary\, Middle\, and High School Students
DESCRIPTION:LOCATED IN MAIN & SWEENEY GALLERIES. The Octagon Center for the Arts showcases artwork by local elementary\, middle\, and high school students annually. High School art instructors from schools within 20 miles of the Octagon Center for the Arts are welcome to register students in their fall and spring classes for participation. (Home-school students are also welcome to register).  \nThe opening reception and awards are April 18\, 4:30 – 6:30pm with awards being announced at 5:30pm. All are welcome to attend and encourage these young artists! \n  \n2019 Juror:  Naomi Friend\nArtist Bio \nNaomi Friend is a professional artist in Central Iowa. She makes art about the land and life based on farming\, or “agrarian” art. She is most interested in the intersection of wild\, urban\, and rural environments and the work of humans as caretakers of creation.\n \n\nHer work has been shown in solo shows in Iowa\, California\, and Nebraska\, and other group shows. It is recognized in local radio\, newspaper\, published in Diffusion magazine\, and resides in public and private art collections. It has received awards in national juried art exhibits. She exhibits in a variety outdoor public art events including the Des Moines Arts Festival. \n \nShe earned a Masters of Fine Art in Integrated Visual Arts at Iowa State University in 2013 and grew up in the community of Sioux Center\, Iowa. Her undergraduate degree is from Dordt College where she studied fine art and graphic design. Naomi worked for three years at the Octagon Center for the Arts as the Exhibits Director. Naomi operates a small 3 acre farm\, Friends Flowers\, where she grows flowers for local markets.   \n \n \n2019 AWARD WINNERS KINDERGARTEN THROUGH – 11TH GRADE:\n \n\n\n\n\nGrade\n1st Place\n2nd Place\n3rd Place\nHonorable Mention\nHonorable Mention\nHonorable Mention\nHonorable Mention\nHonorable Mention\nHonorable Mention\n\n\nK\nLydia Girard\nWilbert Zhang\nAtesh McKilligan\nJack Patten\n \n \n \n \n \n\n\n1\nAmelia Luo\nEmma Chen\nSophia Elsberry\nGeorge Logan\n \n \n \n \n \n\n\n2\nMiles Nutini\nNoelle Kibbe\nAda McKilligan\nAbigail Nott\n \n \n \n \n \n\n\n3\nReinaldo Correa\nLynneah Pickering\nKhlloe Graham\nJenny LaMar\n \n \n \n \n \n\n\n4\nQimeng Li\nJoy Zhang\nArtie Helmers\nBrooke Weisbrod\n \n \n \n \n \n\n\n5\nBetsy Winderfeldt-Rodriguez\nLaura Chen\nAshlyn Carr\n \n \n \n \n \n \n\n\n6\nHannah Harvey\nGrace Helmers  \nLucy Read\nChantel Enlenstein\nErica Lin\nEliza Teske\n \n \n \n\n\n7\nMaddison Geater\nAutumn Wild\nGary Schultz\nLucas Wuebker\nBraden Vinson\nAleesia Miller\nKiera Kreider\n \n \n\n\n8\nDelaney Kreider\nJackson Hufford\nLeslie Kim\nCapri Cory\nKennedy Downs\nElla Sirna\nAngelina Chen\nThomas\nLehmkuhl\nKelsey Gartin\n\n\n9\nEmily Kaminski\nIsabella Soriano\nJosiah Teske\n \n \n \n \n \n \n\n\n10\nJackson Bryant\nEden Bruner\nErin Murphy\nNatalie Weber\nTayte Johnson\n \n \n \n \n\n\n11\nAustin Argutsinger\nKaitlyn Kilstoffe\nKaitlyn Kilstoffe\n \n \n \n \n \n \n\n\n\n  \n2019 HIGH SCHOOL SENIOR AWARD WINNERS:  \n  \nWinifred V. and Jeffrey Brown Best of Show Award \nBest of Show:    Laura Hansen\, Face to Dress\, Roland Story High School                                                  \n  \nAmes Silversmithing Jewelry/Metalsmith Awards \nFirst Tied:            Laura Lynch\, Earrings\, Gilbert High School                                                                                            \nFirst Tied:            Olivia Sterling Chase\, Dragon\, Ames High School                                                                              \nFirst Tied:            Eun Pyo Joo\, Butterfly\, Ames High School                                                                                             \n  \nJeffrey Brown Memorial Photography Awards \nFirst:      T’Ana Smith\, Speak Black\, Ames High School                                                                                                       \nSecond:                Alejandro Rico-Gomez\, Untitled\, Gilbert High School                                                                     \nThird:                    Josh McCunn\, Aunt Tia\, Ames High School                                                                                           \n  \nOctagon Ceramic and Sculpture Awards \nFirst:      Lauren Hansen\, Beaded Burgundy\, Roland Story High School                                                                      \nSecond:                Dorothy Vernon\, Recycled Dress\, Ames High School                                                                        \nThird:    Koby Hassebrock\, Concept Swing\, Roland Story High School                                                                        \n  \nOctagon Mixed Media and Digital Collage Awards \nFirst:      Preston Witte\, Experiment 1\, Ames High School                                                                                               \nSecond:                Grace Teig\, Inspire\, Roland Story High School                                                                                     \nThird:    Koby Hassebrock\, Arctic Cat Personalized\, Roland Story High School                                                       \n  \nDavid Burton Stone Awards in Painting \nFirst:      Alejandro Rico-Gomez\, Construction #1\, Gilbert High School                                                                      \nSecond:                Courtney Thompson\, Too Much for Now\, Ames High School                                                        \nThird:    Caylee Fuqua\, Who’s Who\, Ames High School                                                                                                   \n  \nDavid Burton Stone Awards in Drawing  \nFirst:      Katie Murray\, Calla Lilies\, Gilbert High School                                                                                                    \nSecond:                Mercury Fuhs\, Release the Kraken\, Ames High School                                                                    \nThird:    Katie Murray\, Dishes\, Gilbert High School                                                                                                            \n 
URL:https://octagonarts.org/event/elementary-middle-high-annual-exhibit-an-exhibition-of-local-elementary-middle-and-high-school-students/
LOCATION:Octagon Center for the Arts\, 427 Douglas Avenue\, Ames\, IA\, 50010\, United States
CATEGORIES:Exhibits
ATTACH;FMTTYPE=image/jpeg:https://octagonarts.org/wp-content/uploads/2019/04/ElemMiddleHigh-19.jpg
ORGANIZER;CN="Octagon Center for the Arts":MAILTO:info@octagonarts.org
GEO:42.0257584;-93.6123172
X-APPLE-STRUCTURED-LOCATION;VALUE=URI;X-ADDRESS=Octagon Center for the Arts 427 Douglas Avenue Ames IA 50010 United States;X-APPLE-RADIUS=500;X-TITLE=427 Douglas Avenue:geo:-93.6123172,42.0257584
END:VEVENT
END:VCALENDAR