BEGIN:VCALENDAR
VERSION:2.0
PRODID:-//Octagon Center for the Arts - ECPv6.15.18//NONSGML v1.0//EN
CALSCALE:GREGORIAN
METHOD:PUBLISH
X-ORIGINAL-URL:https://octagonarts.org
X-WR-CALDESC:Events for Octagon Center for the Arts
REFRESH-INTERVAL;VALUE=DURATION:PT1H
X-Robots-Tag:noindex
X-PUBLISHED-TTL:PT1H
BEGIN:VTIMEZONE
TZID:America/Chicago
BEGIN:DAYLIGHT
TZOFFSETFROM:-0600
TZOFFSETTO:-0500
TZNAME:CDT
DTSTART:20180311T080000
END:DAYLIGHT
BEGIN:STANDARD
TZOFFSETFROM:-0500
TZOFFSETTO:-0600
TZNAME:CST
DTSTART:20181104T070000
END:STANDARD
BEGIN:DAYLIGHT
TZOFFSETFROM:-0600
TZOFFSETTO:-0500
TZNAME:CDT
DTSTART:20190310T080000
END:DAYLIGHT
BEGIN:STANDARD
TZOFFSETFROM:-0500
TZOFFSETTO:-0600
TZNAME:CST
DTSTART:20191103T070000
END:STANDARD
BEGIN:DAYLIGHT
TZOFFSETFROM:-0600
TZOFFSETTO:-0500
TZNAME:CDT
DTSTART:20200308T080000
END:DAYLIGHT
BEGIN:STANDARD
TZOFFSETFROM:-0500
TZOFFSETTO:-0600
TZNAME:CST
DTSTART:20201101T070000
END:STANDARD
END:VTIMEZONE
BEGIN:VEVENT
DTSTART;TZID=America/Chicago:20190516T183000
DTEND;TZID=America/Chicago:20190516T203000
DTSTAMP:20260423T131340
CREATED:20190423T151912Z
LAST-MODIFIED:20190515T200449Z
UID:6302-1558031400-1558038600@octagonarts.org
SUMMARY:Easy Silver Earrings: May 16
DESCRIPTION:Easy Silver Earrings\, 16+ \nThursday\, May 16 \n6:30 – 8:30 pm \n$35 materials included \nLearn about wire work and make your own earrings.  Learn about metals\, wire\, gauges\, tools\, and also learn about gemstones\, wrapped eye loops and how to make head pins\, bead links and dangles. Each participant will be able to create one pair of earrings from silver wire and beads. You may bring your own beads\, or use ours. \nInstructor: Terrie Hoefer \nLocation: Adams Studio \nMinimum class limit: 4 Maximum class limit: 12 \nRegistration for this class closes on May 14 at 9pm. \n\nTo register: \n\nenter the number of “tickets” you want below (one ticket per student)\nclick “add to cart”  \ncomplete the contact information form that appears after you add a ticket\ncomplete the payment information\ncheck your email for your receipt\n\nPlease contact us with any registration questions or concerns. \n 
URL:https://octagonarts.org/event/easy-silver-earrings-may-16/
LOCATION:Octagon Center for the Arts\, 427 Douglas Avenue\, Ames\, IA\, 50010\, United States
CATEGORIES:Classes
ATTACH;FMTTYPE=image/jpeg:https://octagonarts.org/wp-content/uploads/2018/08/Hoefer-jasper-earrings.jpg
GEO:42.0257584;-93.6123172
X-APPLE-STRUCTURED-LOCATION;VALUE=URI;X-ADDRESS=Octagon Center for the Arts 427 Douglas Avenue Ames IA 50010 United States;X-APPLE-RADIUS=500;X-TITLE=427 Douglas Avenue:geo:-93.6123172,42.0257584
END:VEVENT
END:VCALENDAR