BEGIN:VCALENDAR
VERSION:2.0
PRODID:-//Octagon Center for the Arts - ECPv6.15.18//NONSGML v1.0//EN
CALSCALE:GREGORIAN
METHOD:PUBLISH
X-WR-CALNAME:Octagon Center for the Arts
X-ORIGINAL-URL:https://octagonarts.org
X-WR-CALDESC:Events for Octagon Center for the Arts
REFRESH-INTERVAL;VALUE=DURATION:PT1H
X-Robots-Tag:noindex
X-PUBLISHED-TTL:PT1H
BEGIN:VTIMEZONE
TZID:America/Chicago
BEGIN:DAYLIGHT
TZOFFSETFROM:-0600
TZOFFSETTO:-0500
TZNAME:CDT
DTSTART:20170312T080000
END:DAYLIGHT
BEGIN:STANDARD
TZOFFSETFROM:-0500
TZOFFSETTO:-0600
TZNAME:CST
DTSTART:20171105T070000
END:STANDARD
BEGIN:DAYLIGHT
TZOFFSETFROM:-0600
TZOFFSETTO:-0500
TZNAME:CDT
DTSTART:20180311T080000
END:DAYLIGHT
BEGIN:STANDARD
TZOFFSETFROM:-0500
TZOFFSETTO:-0600
TZNAME:CST
DTSTART:20181104T070000
END:STANDARD
BEGIN:DAYLIGHT
TZOFFSETFROM:-0600
TZOFFSETTO:-0500
TZNAME:CDT
DTSTART:20190310T080000
END:DAYLIGHT
BEGIN:STANDARD
TZOFFSETFROM:-0500
TZOFFSETTO:-0600
TZNAME:CST
DTSTART:20191103T070000
END:STANDARD
END:VTIMEZONE
BEGIN:VEVENT
DTSTART;VALUE=DATE:20180312
DTEND;VALUE=DATE:20180401
DTSTAMP:20260423T151258
CREATED:20180729T222343Z
LAST-MODIFIED:20180806T174211Z
UID:2677-1520812800-1522540799@octagonarts.org
SUMMARY:Metamorphosis  DAN JOHNSON
DESCRIPTION:Metamorphosis \nDAN JOHNSON \nMarch 12 – 31\, 2018 \nCOMMUNITY GALLERY \nClosing reception: Friday\, March 30 5-7 PM \nMetamorphosis relates to my broader theme of the possibilities of change and transformation as expressed through the human figure\, focusing on explorations of transformative or fugitive ideas about the human figure. Using line\, I want to discover the energy possible through gesture and improvisation. My work of the past few years has also focused on using layering and reductive processes to discover new textures and effects\, followed by drawing forms again on those new surfaces. Current work relates to past work by using similar methods and ideas but also builds on those by altering the surface textures and the spontaneously created subject matter. Line is very important to my work\, stressing the expressive qualities possible when drawing from memory. Inspiration is drawn from memory and relates to the human figure\, natural objects like rocks and trees\, and fabricated structures like buildings.
URL:https://octagonarts.org/event/dan-johnsons-metamorphosis/
LOCATION:Octagon Center for the Arts\, 427 Douglas Avenue\, Ames\, IA\, 50010\, United States
CATEGORIES:Exhibits
ATTACH;FMTTYPE=image/jpeg:https://octagonarts.org/wp-content/uploads/2018/07/Dan-Johnson-1.jpg
ORGANIZER;CN="Octagon Center for the Arts":MAILTO:info@octagonarts.org
GEO:42.0257584;-93.6123172
X-APPLE-STRUCTURED-LOCATION;VALUE=URI;X-ADDRESS=Octagon Center for the Arts 427 Douglas Avenue Ames IA 50010 United States;X-APPLE-RADIUS=500;X-TITLE=427 Douglas Avenue:geo:-93.6123172,42.0257584
END:VEVENT
END:VCALENDAR