BEGIN:VCALENDAR
VERSION:2.0
PRODID:-//Octagon Center for the Arts - ECPv6.15.18//NONSGML v1.0//EN
CALSCALE:GREGORIAN
METHOD:PUBLISH
X-ORIGINAL-URL:https://octagonarts.org
X-WR-CALDESC:Events for Octagon Center for the Arts
REFRESH-INTERVAL;VALUE=DURATION:PT1H
X-Robots-Tag:noindex
X-PUBLISHED-TTL:PT1H
BEGIN:VTIMEZONE
TZID:America/Chicago
BEGIN:DAYLIGHT
TZOFFSETFROM:-0600
TZOFFSETTO:-0500
TZNAME:CDT
DTSTART:20180311T080000
END:DAYLIGHT
BEGIN:STANDARD
TZOFFSETFROM:-0500
TZOFFSETTO:-0600
TZNAME:CST
DTSTART:20181104T070000
END:STANDARD
BEGIN:DAYLIGHT
TZOFFSETFROM:-0600
TZOFFSETTO:-0500
TZNAME:CDT
DTSTART:20190310T080000
END:DAYLIGHT
BEGIN:STANDARD
TZOFFSETFROM:-0500
TZOFFSETTO:-0600
TZNAME:CST
DTSTART:20191103T070000
END:STANDARD
BEGIN:DAYLIGHT
TZOFFSETFROM:-0600
TZOFFSETTO:-0500
TZNAME:CDT
DTSTART:20200308T080000
END:DAYLIGHT
BEGIN:STANDARD
TZOFFSETFROM:-0500
TZOFFSETTO:-0600
TZNAME:CST
DTSTART:20201101T070000
END:STANDARD
END:VTIMEZONE
BEGIN:VEVENT
DTSTART;VALUE=DATE:20190518
DTEND;VALUE=DATE:20190707
DTSTAMP:20260424T192903
CREATED:20190510T150246Z
LAST-MODIFIED:20190515T191536Z
UID:6506-1558137600-1562457599@octagonarts.org
SUMMARY:States of I  MARY JONES & JOLYNN REIGELUTH
DESCRIPTION:LOCATED IN THE SWEENEY GALLERY \nArtist Statement and Bio: Mary Jones\nMary Jones makes maps of the wilderness of personal history. Images and words are layered out of time and perspective; space is described by the inhabitants\, whose journeys are being told. Details get piled on in the way that life is lived– in steps\, notes\, beats\, breaths\, and marks. Jones is a scavenger\, and whether drawing or working in print media\, collage is always an element. \n\nPrior to moving to the Des Moines area\, Jones lived in Chicago\, where she exhibited at Ann Nathan Gallery. She was employed as an illustrator and designer\, with work published by the Chicago Tribune\, Playboy Magazine\, and the Philadelphia Enquirer\, among other publications. She was awarded residencies with the Ragdale Foundation\, and with Anchor Graphics in Chicago. Twice she has taught photopolymer intaglio workshops for Frogman’s Print Workshops in Omaha\, NE. For the past 14 years\, she taught printmaking\, design\, and book arts courses Grand View University in Des Moines. She has work in several public collections\, including the Illinois State Museum\, and the Alter Collection of Art by Women at PAFA in Philadelphia. She is represented by Tory Folliard Gallery in Milwaukee and Moberg Gallery in Des Moines. She is a 2018-19 Iowa Arts Council Fellow. \nArtist Statement and Bio: Jolynn Reigeluth\nJolynn Reigeluth is an artist originally from Des Moines\, Iowa currently living and working in Indianapolis\, Indiana. She earned her MFA in printmaking from Kansas State University in 2015. Currently she teaches courses at Indiana Wesleyan University\, and annually curates a national printmaking exhibition and portfolio for the Kurt Vonnegut Museum and Library in Indianapolis. In recent years\, her work has been included in exhibitions across the United States including the Bradley International Print and Drawing Exhibition\, Pacific States Biennial North American Printmaking Exhibition\, and others \nReigeluth’s work has long been influenced by a wide range of art\, music\, TV\, movies\, etcetera emerging from the 1920s to 1960s\, despite being born in the late 80s. She grew up watching cartoons from Fleishcer Studios like Betty Boop\, Bimbo\, Felix the Cat\, Popeye and others. She also senses an influence from a range of blues and jazz artists from the 1920s to 40s like Lil’ Johnson and Cats and the Fiddle\, who performed songs with titles such as Hot Nuts and Sam\, the Hot Dog Man. These influences play an important role in her work which has been described as evocative of “the atomic and plastics age of the mid-century.” (Michaela Mullin\, Moberg Gallery.) Reigeluth has a distinct affinity for the absurd and scatological that manifests in these introspective self-portraits. The imagery is fueled by humor and spontaneity\, and is filled with an inventiveness and ambiguity of subject that ranges from cheekily adolescent to darkly absurd. \nCurrent Work: https://www.jolynnreigeluth.com/prints-and-drawings
URL:https://octagonarts.org/event/mary-jones-jolynn-reigeluth/
LOCATION:Octagon Center for the Arts\, 427 Douglas Avenue\, Ames\, IA\, 50010\, United States
CATEGORIES:Exhibits
ATTACH;FMTTYPE=image/png:https://octagonarts.org/wp-content/uploads/2019/05/Jones-Reigeluth-1.png
ORGANIZER;CN="Octagon Center for the Arts":MAILTO:info@octagonarts.org
GEO:42.0257584;-93.6123172
X-APPLE-STRUCTURED-LOCATION;VALUE=URI;X-ADDRESS=Octagon Center for the Arts 427 Douglas Avenue Ames IA 50010 United States;X-APPLE-RADIUS=500;X-TITLE=427 Douglas Avenue:geo:-93.6123172,42.0257584
END:VEVENT
END:VCALENDAR