BEGIN:VCALENDAR
VERSION:2.0
PRODID:-//Octagon Center for the Arts - ECPv6.15.18//NONSGML v1.0//EN
CALSCALE:GREGORIAN
METHOD:PUBLISH
X-WR-CALNAME:Octagon Center for the Arts
X-ORIGINAL-URL:https://octagonarts.org
X-WR-CALDESC:Events for Octagon Center for the Arts
REFRESH-INTERVAL;VALUE=DURATION:PT1H
X-Robots-Tag:noindex
X-PUBLISHED-TTL:PT1H
BEGIN:VTIMEZONE
TZID:America/Chicago
BEGIN:DAYLIGHT
TZOFFSETFROM:-0600
TZOFFSETTO:-0500
TZNAME:CDT
DTSTART:20180311T080000
END:DAYLIGHT
BEGIN:STANDARD
TZOFFSETFROM:-0500
TZOFFSETTO:-0600
TZNAME:CST
DTSTART:20181104T070000
END:STANDARD
BEGIN:DAYLIGHT
TZOFFSETFROM:-0600
TZOFFSETTO:-0500
TZNAME:CDT
DTSTART:20190310T080000
END:DAYLIGHT
BEGIN:STANDARD
TZOFFSETFROM:-0500
TZOFFSETTO:-0600
TZNAME:CST
DTSTART:20191103T070000
END:STANDARD
BEGIN:DAYLIGHT
TZOFFSETFROM:-0600
TZOFFSETTO:-0500
TZNAME:CDT
DTSTART:20200308T080000
END:DAYLIGHT
BEGIN:STANDARD
TZOFFSETFROM:-0500
TZOFFSETTO:-0600
TZNAME:CST
DTSTART:20201101T070000
END:STANDARD
END:VTIMEZONE
BEGIN:VEVENT
DTSTART;TZID=America/Chicago:20191024T183000
DTEND;TZID=America/Chicago:20191024T203000
DTSTAMP:20260423T100021
CREATED:20190828T205833Z
LAST-MODIFIED:20191015T154214Z
UID:8161-1571941800-1571949000@octagonarts.org
SUMMARY:Paper Marbling\, ages 16+ (OCT)
DESCRIPTION:Paper Marbling\nAges: 16+ \nDay / Date / Time: Thursday\, October 24\, 6:30 – 8:30 pm \nCost: $40 \nDescription: Join Rhonda Scott in creating a collection of beautiful marbled papers using the traditional Turkish form of paper marbling\, Ebru. \nMinimum class limit: 6 Maximum class limit: 12 \nInstructor: Rhonda Scott \nStudio: TBA \nRegistration closes when the class fills or on at 6am on 10/22/19. Students cannot be added after the registration closes. \n\nTo register: \n\nscroll down to the “Tickets” section near the bottom of this page\nenter the number of “tickets” you want  (one ticket per student)\nclick “add to cart”  \ncomplete the contact information form that appears after you add a ticket\ncomplete the payment information\ncheck your email for your receipt\n\nPlease note: \n\nStudents cannot be added after the registration closes.\nOctagon members receive class discounts. Please login before registering for classes and your discount will be applied automatically.\nIf you are not a member\, but would like to join\, click here. Purchase your membership first. Then login and proceed as noted above to receive your discount. Your discount will not be applied unless you are logged in.\n\nPlease contact us with any registration questions or concerns. Click here to send a message. Thanks for supporting arts education at the Octagon!
URL:https://octagonarts.org/event/8161/
LOCATION:Octagon Center for the Arts\, 427 Douglas Avenue\, Ames\, IA\, 50010\, United States
CATEGORIES:Classes
ATTACH;FMTTYPE=image/jpeg:https://octagonarts.org/wp-content/uploads/2018/08/paper-marbling.jpg
ORGANIZER;CN="Octagon Center for the Arts":MAILTO:info@octagonarts.org
GEO:42.0257584;-93.6123172
X-APPLE-STRUCTURED-LOCATION;VALUE=URI;X-ADDRESS=Octagon Center for the Arts 427 Douglas Avenue Ames IA 50010 United States;X-APPLE-RADIUS=500;X-TITLE=427 Douglas Avenue:geo:-93.6123172,42.0257584
END:VEVENT
END:VCALENDAR