BEGIN:VCALENDAR
VERSION:2.0
PRODID:-//Octagon Center for the Arts - ECPv6.15.18//NONSGML v1.0//EN
CALSCALE:GREGORIAN
METHOD:PUBLISH
X-WR-CALNAME:Octagon Center for the Arts
X-ORIGINAL-URL:https://octagonarts.org
X-WR-CALDESC:Events for Octagon Center for the Arts
REFRESH-INTERVAL;VALUE=DURATION:PT1H
X-Robots-Tag:noindex
X-PUBLISHED-TTL:PT1H
BEGIN:VTIMEZONE
TZID:America/Chicago
BEGIN:DAYLIGHT
TZOFFSETFROM:-0600
TZOFFSETTO:-0500
TZNAME:CDT
DTSTART:20180311T080000
END:DAYLIGHT
BEGIN:STANDARD
TZOFFSETFROM:-0500
TZOFFSETTO:-0600
TZNAME:CST
DTSTART:20181104T070000
END:STANDARD
BEGIN:DAYLIGHT
TZOFFSETFROM:-0600
TZOFFSETTO:-0500
TZNAME:CDT
DTSTART:20190310T080000
END:DAYLIGHT
BEGIN:STANDARD
TZOFFSETFROM:-0500
TZOFFSETTO:-0600
TZNAME:CST
DTSTART:20191103T070000
END:STANDARD
BEGIN:DAYLIGHT
TZOFFSETFROM:-0600
TZOFFSETTO:-0500
TZNAME:CDT
DTSTART:20200308T080000
END:DAYLIGHT
BEGIN:STANDARD
TZOFFSETFROM:-0500
TZOFFSETTO:-0600
TZNAME:CST
DTSTART:20201101T070000
END:STANDARD
END:VTIMEZONE
BEGIN:VEVENT
DTSTART;VALUE=DATE:20190824
DTEND;VALUE=DATE:20190922
DTSTAMP:20260424T213520
CREATED:20190812T175804Z
LAST-MODIFIED:20190812T175804Z
UID:7838-1566604800-1569110399@octagonarts.org
SUMMARY:A Few of My Favorite Things MEGAN ANDERSON
DESCRIPTION:LOCATED IN THE SMALL WALL GALLERY \nFrom Megan Anderson:\nI have always been in awe of nature and its beauty. I see the world through a\nphotographer’s eyes and always wish I had a camera permanently attached to my hand.\nWith the invention of cell phones\, my dream came true. I want to show that it doesn’t\nmatter what fancy equipment you possess\, you can still capture beautiful and interesting\nphotography. Art is what you make of it. I have been fortunate enough to be able to\ncapture my every day experiences involving my animals and the nature around me\, and\nturn that into a creative outlet. \n\nI don’t typically take photos for others\, but find joy in them for myself. Over time\, family\nand friends have shown interest and I’ve been honored to give my photographs as gifts.\nThis will be the first time the public is receiving my work. I hope I can continue to grow and\nimprove in my photography skills and potentially parlay a hobby into a living. \nMegan Anderson’s Bio:\nMegan Anderson is a local amateur photographer. She feels fortunate to have grown up\non a farm in Northern Iowa where her love of animals and the outdoors was apparent from\nan early age. What started out as taking photographs for 4H\, evolved into taking photos\nfor personal entertainment. Megan attended Iowa State University and currently works as\nan equine veterinary technician. She has been able to combine her love of photography\nand animals into a hobby revolving around her own
URL:https://octagonarts.org/event/a-few-of-my-favorite-things-megan-anderson/
LOCATION:Octagon Center for the Arts\, 427 Douglas Avenue\, Ames\, IA\, 50010\, United States
CATEGORIES:Exhibits
ATTACH;FMTTYPE=image/jpeg:https://octagonarts.org/wp-content/uploads/2019/08/Anderson_Web.jpg
ORGANIZER;CN="Octagon Center for the Arts":MAILTO:info@octagonarts.org
GEO:42.0257584;-93.6123172
X-APPLE-STRUCTURED-LOCATION;VALUE=URI;X-ADDRESS=Octagon Center for the Arts 427 Douglas Avenue Ames IA 50010 United States;X-APPLE-RADIUS=500;X-TITLE=427 Douglas Avenue:geo:-93.6123172,42.0257584
END:VEVENT
END:VCALENDAR