BEGIN:VCALENDAR
VERSION:2.0
PRODID:-//Octagon Center for the Arts - ECPv6.15.18//NONSGML v1.0//EN
CALSCALE:GREGORIAN
METHOD:PUBLISH
X-WR-CALNAME:Octagon Center for the Arts
X-ORIGINAL-URL:https://octagonarts.org
X-WR-CALDESC:Events for Octagon Center for the Arts
REFRESH-INTERVAL;VALUE=DURATION:PT1H
X-Robots-Tag:noindex
X-PUBLISHED-TTL:PT1H
BEGIN:VTIMEZONE
TZID:America/Chicago
BEGIN:DAYLIGHT
TZOFFSETFROM:-0600
TZOFFSETTO:-0500
TZNAME:CDT
DTSTART:20200308T080000
END:DAYLIGHT
BEGIN:STANDARD
TZOFFSETFROM:-0500
TZOFFSETTO:-0600
TZNAME:CST
DTSTART:20201101T070000
END:STANDARD
BEGIN:DAYLIGHT
TZOFFSETFROM:-0600
TZOFFSETTO:-0500
TZNAME:CDT
DTSTART:20210314T080000
END:DAYLIGHT
BEGIN:STANDARD
TZOFFSETFROM:-0500
TZOFFSETTO:-0600
TZNAME:CST
DTSTART:20211107T070000
END:STANDARD
BEGIN:DAYLIGHT
TZOFFSETFROM:-0600
TZOFFSETTO:-0500
TZNAME:CDT
DTSTART:20220313T080000
END:DAYLIGHT
BEGIN:STANDARD
TZOFFSETFROM:-0500
TZOFFSETTO:-0600
TZNAME:CST
DTSTART:20221106T070000
END:STANDARD
BEGIN:DAYLIGHT
TZOFFSETFROM:-0600
TZOFFSETTO:-0500
TZNAME:CDT
DTSTART:20230312T080000
END:DAYLIGHT
BEGIN:STANDARD
TZOFFSETFROM:-0500
TZOFFSETTO:-0600
TZNAME:CST
DTSTART:20231105T070000
END:STANDARD
END:VTIMEZONE
BEGIN:VEVENT
DTSTART;VALUE=DATE:20210529
DTEND;VALUE=DATE:20210704
DTSTAMP:20260424T230351
CREATED:20210112T212921Z
LAST-MODIFIED:20210112T212921Z
UID:12400-1622246400-1625356799@octagonarts.org
SUMMARY:Octagon Member Show
DESCRIPTION:LOCATED IN THE COMMUNITY GALLERY \nMore information coming soon.
URL:https://octagonarts.org/event/octagon-member-show/
LOCATION:Octagon Center for the Arts\, 427 Douglas Avenue\, Ames\, IA\, 50010\, United States
CATEGORIES:Exhibits
ORGANIZER;CN="Octagon Center for the Arts":MAILTO:info@octagonarts.org
GEO:42.0257584;-93.6123172
X-APPLE-STRUCTURED-LOCATION;VALUE=URI;X-ADDRESS=Octagon Center for the Arts 427 Douglas Avenue Ames IA 50010 United States;X-APPLE-RADIUS=500;X-TITLE=427 Douglas Avenue:geo:-93.6123172,42.0257584
END:VEVENT
BEGIN:VEVENT
DTSTART;VALUE=DATE:20220709
DTEND;VALUE=DATE:20220814
DTSTAMP:20260424T230351
CREATED:20220329T220623Z
LAST-MODIFIED:20220730T200050Z
UID:13697-1657324800-1660435199@octagonarts.org
SUMMARY:Second Annual Member Show
DESCRIPTION:Located in the Community Gallery \nThis unjuried show celebrates the skills\, creativity\, and lived experiences of the Octagon community! Let’s fill the gallery and surround ourselves with our own amazing work — established artists next to emerging artists\, all media. \n \nThe Octagon’s Member Show 2022: Participating Artists \n\n\n\n\nCarolyn \n\n\nAbbott \n\n\ncarolyntabbott.smugmug.com \n\n\n\n\nPenny \n\n\nAdam \n\n\n\n\n\nRobert \n\n\nAnders \n\n\nInstagram: @bobsretirementhut  \n\n\n\n\nDeb \n\n\nAnders-Bond \n\n\n\n\n\nTiffany \n\n\nAntone \n\n\nInstagram: @My_Lil_Weirdlings  \n\n\n\n\nCarol \n\n\nBarrick \n\n\n\n\n\nLayna \n\n\nBentley \n\n\n\n\n\nTerry \n\n\nBrigman \n\n\n\n\n\nRuthellen \n\n\nCunnally \n\n\nInstagram: @CutandPasteMosaics  \n\n\n\n\nSusan \n\n\nCunningham \n\n\nInstagram: @susanacunninghamart  \n\n\n\n\nLinda \n\n\nEmmerson \n\n\nGoogle Sites: Linda Emmerson papercutting \n\n\n\n\nKristy \n\n\nEvans \n\n\nInstagram: @kristys_abstract_art  \n\n\n\n\nNaomi \n\n\nFriend \n\n\nwww.naomifriend.com \n\n\n\n\nCathie \n\n\nGebhart \n\n\ndanthefishpublishing.weebly.com/ \n\n\n\n\nLydia \n\n\nGebhart \n\n\n\n\n\nJIll \n\n\nGuffy \n\n\nFacebook: Jill Guffy \n\n\n\n\nRex \n\n\nHeer \n\n\nrexheer.com \n\n\n\n\nJim \n\n\nHellemn \n\n\njimhellemn.com \n\n\n\n\nKatharine \n\n\nHensley \n\n\n\n\n\nLaurie \n\n\nHoifeldt \n\n\nwww.etsy.com/shop/LaurieJaneArt Facebook: Laurie Hoifeldt \n\n\n\n\nJulie \n\n\nHughes \n\n\nInstagram: @juliehughesart \n\n\n\n\nLinda Cather \n\n\nJohnson \n\n\nCatherjohnson.myportfolio.com \n\n\n\n\nConnie \n\n\nJohnson \n\n\n\n\n\nLetitia \n\n\nKenemer \n\n\n\n\n\nSvetlana \n\n\nLubota \n\n\n\n\n\nEmily \n\n\nLupita \n\n\nemilylupita.com/ \n\n\n\n\nJoshua \n\n\nMcCunn \n\n\nthumbsphotography.squarespace.com/ \n\n\n\n\nSara \n\n\nMerritt \n\n\nInstagram: @papercranesara \n\n\n\n\nJon \n\n\nMuller \n\n\n\n\n\nNicole \n\n\nNevels \n\n\nFacebook.com/Nicole.Tolson.7 \n\n\n\n\nChristopher \n\n\nNorris \n\n\nInstagram: @hedrawsgood \n\n\n\n\nSusan \n\n\nNorris \n\n\nInstagram: @eccentricoldwoman \n\n\n\n\nHailey \n\n\nNyman \n\n\nEtsy: CourageXConfidence Instagram: CourageXconfidence23 \n\n\n\n\nSasha \n\n\nPhillips \n\n\nInstagram: @SashaBlu_Art  \n\n\n\n\nJoseph \n\n\nPlum \n\n\nemilylupita.com/joeplum  \n\n\n\n\nTimothy \n\n\nPross \n\n\nwww.ProssWildlifeArt.com \n\n\n\n\nKyle \n\n\nRenell \n\n\nwww.kylerenell.com \n\n\n\n\nKimberlee \n\n\nRocca \n\n\nwww.kimberleerocca.com/ \n\n\n\n\nSam \n\n\nSenti \n\n\nSkunkriverburls@gmail.com \n\n\n\n\nRichard \n\n\nShook \n\n\nwww.dickshook.com \n\n\n\n\nJill \n\n\nSneed \n\n\n\n\n\njosh \n\n\nsorrell \n\n\nwww.joshsorrell.com \n\n\n\n\nKevin \n\n\nStow \n\n\n\n\n\nRobert \n\n\nSunderman \n\n\nwww.facebook.com/RobSundermanArt \n\n\n\n\nKathy \n\n\nSvec \n\n\n\n\n\nBarb \n\n\nThompson \n\n\nwww.bthompson.studio Facebook/Instagram: @bthompson.artwork \n\n\n\n\nSean  \n\n\nThornton \n\n\n\n\n\nTheresa \n\n\nWarren \n\n\n\n\n\nAlicia \n\n\nWilkinson \n\n\naliciawilkinson.com \n\n\n\n\nKelsey \n\n\nWilson \n\n\nwww.kelseywilsonstudio.com \n\n\n\n\nNorma \n\n\nWolff \n\n\n\n\n\nIrina \n\n\nYavorskaya \n\n\nArtPal.com/impressionsByIsy \n\n\n\n\nTom \n\n\nZimmerman \n\n\n\n\n\n  \nMember Show artists respond to the question\,  \n“What does Octagon membership mean to you?” \n“The Octagon thanks each of its members and patrons when we all should be thanking them for being here!  In my opinion\, The Octagon has become the cornerstone of the art world in Ames\, Iowa.  Through their hard work they have moved the arts forward in such a way that the lives of the community members has become enriched in many ways.” – Penny Adam \n  \n“Art is important\, it feeds our souls and helps us find our place in the world. The Octagon\, by nurturing artists all ages\, enriches the fabric of life in Ames.” – Ruthellen Cunnally \n  \n“Octagon membership is an intentional way to participate in our local creative community\, which is invaluable.” – Naomi Friend \n  \n“The Octagon has been my safe space to think and create\, teach and be taught.” – Cathie Gebhart \n  \n“Octagon membership is mutually beneficial: It is gratifying to support the arts in Ames\, thereby enriching the broader community. And it is rewarding that the Octagon encourages and supports individual artists and engages those who appreciate art.” – Rex Heer \n  \n“My membership means that I have a place to belong in the community. Where I can experience art and create art.” – Katharine Hensley  \n  \n“The arts are essential to the human experience\, and membership is just a tiny way to show support for local art and artists.  The Octagon has made dramatic\, intentional changes over the past few years and is now I think the most relevant and necessary it has ever been – it is often art that builds empathy within a community\, creates space for dialogue\, and elevates expression so we can connect to each other in meaningful and transformative ways. I am proud to be a member\, and hope to see the arts in Ames expand even more with the Octagon leading the way.” – Sara Merritt \n  \n“Octagon membership means that I can partner with and learn from the greater art community here in Ames and beyond in an accessible and accepting space.” – Sasha Phillips \n  \n“I get to be a part of a great art organization that I can help support\, while it also supports me.” – Josh Sorrell \n \n  \nThe Details \n\n\n\n\n\nEach current member may submit one of their own original works\, any media. This is work created by the member.\nA simple form must be completed (form coming soon!). Let us know if you need a little help signing up.\nThis is an unjuried\, all media show; all submissions will be accepted (one per member) as long as the instructions\, including hanging requirements\, are followed. \nTraditional hanging requirements must be followed; full instructions for accepted works are here. Let us know if you need to talk about this.\nPlease label your work carefully with your name\, e.g.\, the back bottom right corner for a 2D piece.\nDrop off June 11 – July 2\, 2022\nThe Octagon will not take a commission on any work sold in the Member Show\, as a benefit to members. Work may also be submitted as “not for sale.” Work must be picked up August 16 – 20\, 2022.\nKeep in mind \, any artwork that is shown in the Octagon galleries will not be eligible for future Octagonal or other Octagon juried exhibits.\n\n\n\n\n\n			\n			\n				\n				\n				\n				\n			\n				\n				\n				\n				\n				\n				\n				\n				\n				\n				\n				If you want to join next year’s show by signing up for a membership\, visit https://octagonarts.org/home/membership/ \nFor further information\, please contact us at exhibits@octagonarts.org
URL:https://octagonarts.org/event/second-annual-member-show/
LOCATION:Octagon Center for the Arts\, 427 Douglas Avenue\, Ames\, IA\, 50010\, United States
CATEGORIES:Exhibits
ORGANIZER;CN="Octagon Center for the Arts":MAILTO:info@octagonarts.org
GEO:42.0257584;-93.6123172
X-APPLE-STRUCTURED-LOCATION;VALUE=URI;X-ADDRESS=Octagon Center for the Arts 427 Douglas Avenue Ames IA 50010 United States;X-APPLE-RADIUS=500;X-TITLE=427 Douglas Avenue:geo:-93.6123172,42.0257584
END:VEVENT
END:VCALENDAR