BEGIN:VCALENDAR
VERSION:2.0
PRODID:-//Octagon Center for the Arts - ECPv6.15.18//NONSGML v1.0//EN
CALSCALE:GREGORIAN
METHOD:PUBLISH
X-ORIGINAL-URL:https://octagonarts.org
X-WR-CALDESC:Events for Octagon Center for the Arts
REFRESH-INTERVAL;VALUE=DURATION:PT1H
X-Robots-Tag:noindex
X-PUBLISHED-TTL:PT1H
BEGIN:VTIMEZONE
TZID:America/Chicago
BEGIN:DAYLIGHT
TZOFFSETFROM:-0600
TZOFFSETTO:-0500
TZNAME:CDT
DTSTART:20180311T080000
END:DAYLIGHT
BEGIN:STANDARD
TZOFFSETFROM:-0500
TZOFFSETTO:-0600
TZNAME:CST
DTSTART:20181104T070000
END:STANDARD
BEGIN:DAYLIGHT
TZOFFSETFROM:-0600
TZOFFSETTO:-0500
TZNAME:CDT
DTSTART:20190310T080000
END:DAYLIGHT
BEGIN:STANDARD
TZOFFSETFROM:-0500
TZOFFSETTO:-0600
TZNAME:CST
DTSTART:20191103T070000
END:STANDARD
BEGIN:DAYLIGHT
TZOFFSETFROM:-0600
TZOFFSETTO:-0500
TZNAME:CDT
DTSTART:20200308T080000
END:DAYLIGHT
BEGIN:STANDARD
TZOFFSETFROM:-0500
TZOFFSETTO:-0600
TZNAME:CST
DTSTART:20201101T070000
END:STANDARD
END:VTIMEZONE
BEGIN:VEVENT
DTSTART;TZID=America/Chicago:20190530T183000
DTEND;TZID=America/Chicago:20190530T210000
DTSTAMP:20260423T145100
CREATED:20190423T160428Z
LAST-MODIFIED:20190423T160428Z
UID:6313-1559241000-1559250000@octagonarts.org
SUMMARY:Maker Night -- Mosaics: May 30
DESCRIPTION:Maker Night: Mosaics\, ages 21+ \nThursday\, May 30 \n6:30 – 9 pm \n$50 \nBring a friend\, snacks and a beverage of your choice and get creative with glass mosaics. Each student will learn basics of designing and laying down glass on backing. Pieces will be grouted by the Octagon staff and ready for pick up two weeks after class ends. \nStudio: TBA \nClass limit: 12 \nRegistration for this class ends May 28 at 6am (or when the class fills). \n\nTo register: \n\nenter the number of “tickets” you want below (one ticket per student)\nclick “add to cart”  \ncomplete the contact information form that appears after you add a ticket\ncomplete the payment information\ncheck your email for your receipt\n\nPlease contact us with any registration questions or concerns.
URL:https://octagonarts.org/event/maker-night-mosaics-may-30/
LOCATION:Octagon Center for the Arts\, 427 Douglas Avenue\, Ames\, IA\, 50010\, United States
CATEGORIES:Classes
ORGANIZER;CN="Octagon Center for the Arts":MAILTO:info@octagonarts.org
GEO:42.0257584;-93.6123172
X-APPLE-STRUCTURED-LOCATION;VALUE=URI;X-ADDRESS=Octagon Center for the Arts 427 Douglas Avenue Ames IA 50010 United States;X-APPLE-RADIUS=500;X-TITLE=427 Douglas Avenue:geo:-93.6123172,42.0257584
END:VEVENT
END:VCALENDAR