BEGIN:VCALENDAR
VERSION:2.0
PRODID:-//Octagon Center for the Arts - ECPv6.15.18//NONSGML v1.0//EN
CALSCALE:GREGORIAN
METHOD:PUBLISH
X-ORIGINAL-URL:https://octagonarts.org
X-WR-CALDESC:Events for Octagon Center for the Arts
REFRESH-INTERVAL;VALUE=DURATION:PT1H
X-Robots-Tag:noindex
X-PUBLISHED-TTL:PT1H
BEGIN:VTIMEZONE
TZID:America/Chicago
BEGIN:DAYLIGHT
TZOFFSETFROM:-0600
TZOFFSETTO:-0500
TZNAME:CDT
DTSTART:20170312T080000
END:DAYLIGHT
BEGIN:STANDARD
TZOFFSETFROM:-0500
TZOFFSETTO:-0600
TZNAME:CST
DTSTART:20171105T070000
END:STANDARD
BEGIN:DAYLIGHT
TZOFFSETFROM:-0600
TZOFFSETTO:-0500
TZNAME:CDT
DTSTART:20180311T080000
END:DAYLIGHT
BEGIN:STANDARD
TZOFFSETFROM:-0500
TZOFFSETTO:-0600
TZNAME:CST
DTSTART:20181104T070000
END:STANDARD
BEGIN:DAYLIGHT
TZOFFSETFROM:-0600
TZOFFSETTO:-0500
TZNAME:CDT
DTSTART:20190310T080000
END:DAYLIGHT
BEGIN:STANDARD
TZOFFSETFROM:-0500
TZOFFSETTO:-0600
TZNAME:CST
DTSTART:20191103T070000
END:STANDARD
END:VTIMEZONE
BEGIN:VEVENT
DTSTART;TZID=America/Chicago:20180819T130000
DTEND;TZID=America/Chicago:20180819T150000
DTSTAMP:20260423T191354
CREATED:20180723T214257Z
LAST-MODIFIED:20180814T011201Z
UID:2196-1534683600-1534690800@octagonarts.org
SUMMARY:Natural Dyes: Serendipity Dyeing with Flowers\, Berries\, Leaves and More
DESCRIPTION:Natural Dyes: Serendipity Dyeing with Flowers\, Berries\, Leaves\, and More\nSunday\, August 19\n1 – 3 pm\n$55\nLearn to dye silk scarves and cotton fabric with a huge variety of easy to obtain dye materials. We will use fresh garden flowers\, herbs\, and leaves\, as well as a variety of materials (copper pennies\, spent teabags\, berries\, kitchen spices and much more). You will create and take home your own custom dyed 11” x 60” silk scarf and one fat quarter of cotton fabric. Take advantage of the dyestuff and dye as many scarves/fabric you like for an extra small fee.\nInstructor: Maggie Howe\nNorth Studio
URL:https://octagonarts.org/event/natural-dyes-serendipity-dyeing-with-flowers-berries-leaves-and-more/
LOCATION:Octagon Center for the Arts\, 427 Douglas Avenue\, Ames\, IA\, 50010\, United States
CATEGORIES:Classes
ATTACH;FMTTYPE=image/jpeg:https://octagonarts.org/wp-content/uploads/2018/07/maggie-howe.jpg
ORGANIZER;CN="Octagon Center for the Arts":MAILTO:info@octagonarts.org
GEO:42.0257584;-93.6123172
X-APPLE-STRUCTURED-LOCATION;VALUE=URI;X-ADDRESS=Octagon Center for the Arts 427 Douglas Avenue Ames IA 50010 United States;X-APPLE-RADIUS=500;X-TITLE=427 Douglas Avenue:geo:-93.6123172,42.0257584
END:VEVENT
END:VCALENDAR