BEGIN:VCALENDAR
VERSION:2.0
PRODID:-//Octagon Center for the Arts - ECPv6.15.18//NONSGML v1.0//EN
CALSCALE:GREGORIAN
METHOD:PUBLISH
X-ORIGINAL-URL:https://octagonarts.org
X-WR-CALDESC:Events for Octagon Center for the Arts
REFRESH-INTERVAL;VALUE=DURATION:PT1H
X-Robots-Tag:noindex
X-PUBLISHED-TTL:PT1H
BEGIN:VTIMEZONE
TZID:America/Chicago
BEGIN:DAYLIGHT
TZOFFSETFROM:-0600
TZOFFSETTO:-0500
TZNAME:CDT
DTSTART:20180311T080000
END:DAYLIGHT
BEGIN:STANDARD
TZOFFSETFROM:-0500
TZOFFSETTO:-0600
TZNAME:CST
DTSTART:20181104T070000
END:STANDARD
BEGIN:DAYLIGHT
TZOFFSETFROM:-0600
TZOFFSETTO:-0500
TZNAME:CDT
DTSTART:20190310T080000
END:DAYLIGHT
BEGIN:STANDARD
TZOFFSETFROM:-0500
TZOFFSETTO:-0600
TZNAME:CST
DTSTART:20191103T070000
END:STANDARD
BEGIN:DAYLIGHT
TZOFFSETFROM:-0600
TZOFFSETTO:-0500
TZNAME:CDT
DTSTART:20200308T080000
END:DAYLIGHT
BEGIN:STANDARD
TZOFFSETFROM:-0500
TZOFFSETTO:-0600
TZNAME:CST
DTSTART:20201101T070000
END:STANDARD
BEGIN:DAYLIGHT
TZOFFSETFROM:-0600
TZOFFSETTO:-0500
TZNAME:CDT
DTSTART:20210314T080000
END:DAYLIGHT
BEGIN:STANDARD
TZOFFSETFROM:-0500
TZOFFSETTO:-0600
TZNAME:CST
DTSTART:20211107T070000
END:STANDARD
END:VTIMEZONE
BEGIN:VEVENT
DTSTART;VALUE=DATE:20201010
DTEND;VALUE=DATE:20201101
DTSTAMP:20260425T090510
CREATED:20201007T021254Z
LAST-MODIFIED:20201007T021254Z
UID:11929-1602288000-1604188799@octagonarts.org
SUMMARY:Southwest Visions TERRY BRIGMAN
DESCRIPTION:LOCATED IN THE COMMUNITY GALLERY\n \nAbout Terry Brigman: After graduating in 1970\, I went to work for a local company as a draftsman. In my spare time\, I painted\, sketched\, and created small pieces of artwork that I sold or gave away. Art and the creation of art has wound its way through my life for the next many decades. Four years later\, I left drafting and embarked on a career in the grocery business. The pay was substantially better\, and I was able to complete some art pieces on the side. I took some classes at the local college and joined the Foothills Art Center in Golden\, Colorado where I later went on to be a part of their “Shows on Loan”\nprogram. Being part of that program\, I became responsible for a one-person show at various government buildings\, offices\, non-profits\, and private companies for one to two months at a time. During this time\, I left the grocery business and went to work for the local utility company in Denver. In 1979\, I moved to Phoenix\, Arizona and joined the local artist guild. After a while\, I decided to broaden my field\, and possibly income\, so I went back to school and got a degree in graphic design. \n\nOver the next several years\, I started my own graphic design business\, got married\, had two kids\, and still found time to do my fine art. I created paintings\, portraits\, and a line of teeshirts. In 1994\, we moved to Des Moines\, Iowa. My art work slowed to a crawl between\nmany different jobs. The kids grew up and moved away. As my wife moved further into her career\, I kept busy with writing. I had always written poetry\, but one day I got an idea for a story. Eventually my writing became an obsession and my painting took a hiatus. I\npublished one book\, another followed as well as a half-dozen short stories. Since that time\, my writing has faded\, and I now paint more than I have in years. My artwork has been accepted into the Iowa State Fair for five years\, and I received an honorable mention in\n2017. I have also shown my work at the Octagon\, in the All Media Show\, three times. \n\nAbout Terry’s Artwork: I have gone from duplicating and practicing with my artwork\, in an attempt to hone my abilities and further my career\, to starting a conversation with my audience. I feel that with my later work\, I have succeeded somewhat in trying to communicate a thought or strike up a conversation. My work became my voice for how I feel about the world around me and how I try to make sense of it all. This work can be large and bold or small and demure. At times\, it is bright and colorful; other times drab and stark. I try to fit the medium with the tone of the content\, so my work reflects a mix of\nmedia. The results are a point of view that I would like to share. \n\nThe few pieces I am showing\, here\, are just some of my Southwest themed work; a discussion on the landscape and the indigenous people as I perceive it in today’s world. One piece\, in particular a portrait of my uncle\, Blackie\, speaks of my heritage. He is half Osage and quarter Cherokee.
URL:https://octagonarts.org/event/southwest-visions-terry-brigman/
LOCATION:Octagon Center for the Arts\, 427 Douglas Avenue\, Ames\, IA\, 50010\, United States
CATEGORIES:Exhibits
ATTACH;FMTTYPE=image/jpeg:https://octagonarts.org/wp-content/uploads/2020/10/IMG_1334-1.jpg
ORGANIZER;CN="Octagon Center for the Arts":MAILTO:info@octagonarts.org
GEO:42.0257584;-93.6123172
X-APPLE-STRUCTURED-LOCATION;VALUE=URI;X-ADDRESS=Octagon Center for the Arts 427 Douglas Avenue Ames IA 50010 United States;X-APPLE-RADIUS=500;X-TITLE=427 Douglas Avenue:geo:-93.6123172,42.0257584
END:VEVENT
BEGIN:VEVENT
DTSTART;TZID=America/Chicago:20190126T140000
DTEND;TZID=America/Chicago:20190126T160000
DTSTAMP:20260425T090510
CREATED:20181211T024248Z
LAST-MODIFIED:20181211T024248Z
UID:4419-1548511200-1548518400@octagonarts.org
SUMMARY:Basic Paint Mixing/Color Workshop: Jan 26
DESCRIPTION:Basic Paint Mixing/Color Workshop \nSaturday\, January 26 \n2 – 4 pm \n$45 \nLearn the basics of setting up your paint palette in either oil or acrylic media then create some painted sketches putting into practice how certain colors react each other. All materials provided. \nInstructor: Dick Shook \nNorth Studio \nTo register: \n\nenter the number of “tickets” you want below (one ticket per student)\nclick “add to cart”  \ncomplete the contact information form that appears after you add a ticket\ncomplete the payment information\ncheck your email for your receipt\n\nPlease contact us with any registration questions or concerns. \nRegistration closes on at 6am on 1/24/19.
URL:https://octagonarts.org/event/basic-paint-mixing-color-workshop-jan-26/
LOCATION:Octagon Center for the Arts\, 427 Douglas Avenue\, Ames\, IA\, 50010\, United States
CATEGORIES:Classes
ATTACH;FMTTYPE=image/jpeg:https://octagonarts.org/wp-content/uploads/2018/12/oil-paint-840x480.jpg
ORGANIZER;CN="Octagon Center for the Arts":MAILTO:info@octagonarts.org
GEO:42.0257584;-93.6123172
X-APPLE-STRUCTURED-LOCATION;VALUE=URI;X-ADDRESS=Octagon Center for the Arts 427 Douglas Avenue Ames IA 50010 United States;X-APPLE-RADIUS=500;X-TITLE=427 Douglas Avenue:geo:-93.6123172,42.0257584
END:VEVENT
END:VCALENDAR