BEGIN:VCALENDAR
VERSION:2.0
PRODID:-//Octagon Center for the Arts - ECPv6.15.18//NONSGML v1.0//EN
CALSCALE:GREGORIAN
METHOD:PUBLISH
X-WR-CALNAME:Octagon Center for the Arts
X-ORIGINAL-URL:https://octagonarts.org
X-WR-CALDESC:Events for Octagon Center for the Arts
REFRESH-INTERVAL;VALUE=DURATION:PT1H
X-Robots-Tag:noindex
X-PUBLISHED-TTL:PT1H
BEGIN:VTIMEZONE
TZID:America/Chicago
BEGIN:DAYLIGHT
TZOFFSETFROM:-0600
TZOFFSETTO:-0500
TZNAME:CDT
DTSTART:20170312T080000
END:DAYLIGHT
BEGIN:STANDARD
TZOFFSETFROM:-0500
TZOFFSETTO:-0600
TZNAME:CST
DTSTART:20171105T070000
END:STANDARD
BEGIN:DAYLIGHT
TZOFFSETFROM:-0600
TZOFFSETTO:-0500
TZNAME:CDT
DTSTART:20180311T080000
END:DAYLIGHT
BEGIN:STANDARD
TZOFFSETFROM:-0500
TZOFFSETTO:-0600
TZNAME:CST
DTSTART:20181104T070000
END:STANDARD
BEGIN:DAYLIGHT
TZOFFSETFROM:-0600
TZOFFSETTO:-0500
TZNAME:CDT
DTSTART:20190310T080000
END:DAYLIGHT
BEGIN:STANDARD
TZOFFSETFROM:-0500
TZOFFSETTO:-0600
TZNAME:CST
DTSTART:20191103T070000
END:STANDARD
END:VTIMEZONE
BEGIN:VEVENT
DTSTART;VALUE=DATE:20180406
DTEND;VALUE=DATE:20180520
DTSTAMP:20260424T005607
CREATED:20180729T220421Z
LAST-MODIFIED:20180806T174108Z
UID:2667-1522972800-1526774399@octagonarts.org
SUMMARY:Nice Life  DAVID PARKER
DESCRIPTION:Nice Life \nDAVID PARKER \nApril 6 – May 19\, 2018 \nCOMMUNITY GALLERY \nUsing a limited palette of pine\, maple\, vinyl\, griptape\, and spray enamel I’m looking at the material language of subculture. The work is an abstract look at the outsiders: skaters\, rockers\, hippies\, artists\, stoners\, goths\, shoegazers… and how they project their identity to outsiders and signal their place within their own community. The work has been limited to four standard sizes referencing how they adorn their bodies and our personal spaces sizes 6”x 8” Pins/Patches\, 13” x 11” T-shirts\, 40” x 40” Posters\, and 40” x 84“ Banners.
URL:https://octagonarts.org/event/david-parkers-nice-life/
LOCATION:Octagon Center for the Arts\, 427 Douglas Avenue\, Ames\, IA\, 50010\, United States
CATEGORIES:Exhibits
ATTACH;FMTTYPE=image/jpeg:https://octagonarts.org/wp-content/uploads/2018/07/picture-1.jpg
ORGANIZER;CN="Octagon Center for the Arts":MAILTO:info@octagonarts.org
GEO:42.0257584;-93.6123172
X-APPLE-STRUCTURED-LOCATION;VALUE=URI;X-ADDRESS=Octagon Center for the Arts 427 Douglas Avenue Ames IA 50010 United States;X-APPLE-RADIUS=500;X-TITLE=427 Douglas Avenue:geo:-93.6123172,42.0257584
END:VEVENT
END:VCALENDAR