BEGIN:VCALENDAR
VERSION:2.0
PRODID:-//Octagon Center for the Arts - ECPv6.15.18//NONSGML v1.0//EN
CALSCALE:GREGORIAN
METHOD:PUBLISH
X-ORIGINAL-URL:https://octagonarts.org
X-WR-CALDESC:Events for Octagon Center for the Arts
REFRESH-INTERVAL;VALUE=DURATION:PT1H
X-Robots-Tag:noindex
X-PUBLISHED-TTL:PT1H
BEGIN:VTIMEZONE
TZID:America/Chicago
BEGIN:DAYLIGHT
TZOFFSETFROM:-0600
TZOFFSETTO:-0500
TZNAME:CDT
DTSTART:20190310T080000
END:DAYLIGHT
BEGIN:STANDARD
TZOFFSETFROM:-0500
TZOFFSETTO:-0600
TZNAME:CST
DTSTART:20191103T070000
END:STANDARD
BEGIN:DAYLIGHT
TZOFFSETFROM:-0600
TZOFFSETTO:-0500
TZNAME:CDT
DTSTART:20200308T080000
END:DAYLIGHT
BEGIN:STANDARD
TZOFFSETFROM:-0500
TZOFFSETTO:-0600
TZNAME:CST
DTSTART:20201101T070000
END:STANDARD
BEGIN:DAYLIGHT
TZOFFSETFROM:-0600
TZOFFSETTO:-0500
TZNAME:CDT
DTSTART:20210314T080000
END:DAYLIGHT
BEGIN:STANDARD
TZOFFSETFROM:-0500
TZOFFSETTO:-0600
TZNAME:CST
DTSTART:20211107T070000
END:STANDARD
END:VTIMEZONE
BEGIN:VEVENT
DTSTART;TZID=America/Chicago:20200720T080000
DTEND;TZID=America/Chicago:20200818T170000
DTSTAMP:20260423T165136
CREATED:20200716T012335Z
LAST-MODIFIED:20200717T014517Z
UID:11483-1595232000-1597770000@octagonarts.org
SUMMARY:Found Object Sculpture Project (Ages 5 - 15)
DESCRIPTION:Summer 2020 Art Camps [At Home Edition]\n\nProject Box: Found Object Sculpture Project: $10\nMixed bag of stuff! Plastic things\, wooden spools\, pipe cleaners/Chenille stems\, feathers\, beads\, bric-a-brac\, the works! \n\nGENERAL INFORMATION ABOUT PROJECT BOXES \nThe Octagon will supply the activities/projects\, supplies\, a short video tutorial\, and some written information (when needed). Depending on the project\, we will also have live “studio hours” via zoom for any questions\, critiques or show and tell. Tutorial links and any virtual information will be sent out once registration is complete. Sign up any time before the end date.  \nPlease allow 2 business days to receive the tutorial links and other information.  \nThe listed projects below are perfect for anyone who likes to work at their own pace when it fits best with their schedule. Campers will be introduced to a variety of disciplines in mixed media\, painting\, drawing\, and textile arts during these fun projects. Project Boxes will contain most* art supplies and materials. Pick and choose your projects that interest you. Or\, pick a curated theme containing a group of projects by media type. \nSupplies: \nMost supplies are included in the Project Boxes with the exception of scissors\, watercolor paints\, glue\, pencils (things you may have from the school year). However\, we can offer some gently used items (crayons\, markers\, colored pencils\, pastels\, and some watercolor paint trays\, etc..) for a small donation upon pick up. \nPick Up: \nProject Boxes will be available for contactless pick-up at the Octagon Center for the Arts Gallery Shop Tuesdays – Thursdays from 10 am – 5:30 pm. No delivery available. Materials will be available for pick up 2 business days after registration is complete.  \nEmail education@octagonarts.org for more information.
URL:https://octagonarts.org/event/a-la-carte-project-box-found-object-sculpture-project-ages-5-15/
LOCATION:Octagon Center for the Arts\, 427 Douglas Avenue\, Ames\, IA\, 50010\, United States
CATEGORIES:Classes
ORGANIZER;CN="Octagon Center for the Arts":MAILTO:info@octagonarts.org
GEO:42.0257584;-93.6123172
X-APPLE-STRUCTURED-LOCATION;VALUE=URI;X-ADDRESS=Octagon Center for the Arts 427 Douglas Avenue Ames IA 50010 United States;X-APPLE-RADIUS=500;X-TITLE=427 Douglas Avenue:geo:-93.6123172,42.0257584
END:VEVENT
BEGIN:VEVENT
DTSTART;TZID=America/Chicago:20200720T080000
DTEND;TZID=America/Chicago:20200815T170000
DTSTAMP:20260423T165136
CREATED:20200716T033629Z
LAST-MODIFIED:20200717T015435Z
UID:11531-1595232000-1597510800@octagonarts.org
SUMMARY:Tassel Pack (Ages 5 - 15)
DESCRIPTION:Summer 2020 Art Camps [At Home Edition]\n\nProject Box: Tassel Pack: $10\nEmbroidery floss\, colored yarn\, key chain fob\, pony beads (video tutorial included) \n\nGENERAL INFORMATION ABOUT PROJECT BOXES \nThe Octagon will supply the activities/projects\, supplies\, a short video tutorial\, and some written information (when needed). Depending on the project\, we will also have live “studio hours” via zoom for any questions\, critiques or show and tell. Tutorial links and any virtual information will be sent out once registration is complete. Sign up any time before the end date.  \nPlease allow 2 business days to receive the tutorial links and other information.  \nThe listed projects below are perfect for anyone who likes to work at their own pace when it fits best with their schedule. Campers will be introduced to a variety of disciplines in mixed media\, painting\, drawing\, and textile arts during these fun projects. Project Boxes will contain most* art supplies and materials. Pick and choose your projects that interest you. Or\, pick a curated theme containing a group of projects by media type. \nSupplies: \nMost supplies are included in the Project Boxes with the exception of scissors\, watercolor paints\, glue\, pencils (things you may have from the school year). However\, we can offer some gently used items (crayons\, markers\, colored pencils\, pastels\, and some watercolor paint trays\, etc..) for a small donation upon pick up. \nPick Up: \nProject Boxes will be available for contactless pick-up at the Octagon Center for the Arts Gallery Shop Tuesdays – Thursdays from 10 am – 5:30 pm. No delivery available. Materials will be available for pick up 2 business days after registration is complete.  \nEmail education@octagonarts.org for more information.
URL:https://octagonarts.org/event/a-la-carte-project-box-tassel-pack-ages-5-15/
LOCATION:Octagon Center for the Arts\, 427 Douglas Avenue\, Ames\, IA\, 50010\, United States
CATEGORIES:Classes
ATTACH;FMTTYPE=image/jpeg:https://octagonarts.org/wp-content/uploads/2020/07/tassel-pack.jpg
ORGANIZER;CN="Octagon Center for the Arts":MAILTO:info@octagonarts.org
GEO:42.0257584;-93.6123172
X-APPLE-STRUCTURED-LOCATION;VALUE=URI;X-ADDRESS=Octagon Center for the Arts 427 Douglas Avenue Ames IA 50010 United States;X-APPLE-RADIUS=500;X-TITLE=427 Douglas Avenue:geo:-93.6123172,42.0257584
END:VEVENT
BEGIN:VEVENT
DTSTART;TZID=America/Chicago:20200720T080000
DTEND;TZID=America/Chicago:20200815T170000
DTSTAMP:20260423T165136
CREATED:20200716T032844Z
LAST-MODIFIED:20200717T015554Z
UID:11526-1595232000-1597510800@octagonarts.org
SUMMARY:Print Pack (Ages 5 - 15)
DESCRIPTION:Summer 2020 Art Camps [At Home Edition]\n\nProject Box: Print Pack $15\nPre Cut matboard\, cardboard and corrugated cardboard for print plate construction\, papers\, and rubber bands\, and texture materials for monoprints (video tutorial included\, paints not included) \n\nGENERAL INFORMATION ABOUT PROJECT BOXES \nThe Octagon will supply the activities/projects\, supplies\, a short video tutorial\, and some written information (when needed). Depending on the project\, we will also have live “studio hours” via zoom for any questions\, critiques or show and tell. Tutorial links and any virtual information will be sent out once registration is complete. Sign up any time before the end date.  \nPlease allow 2 business days to receive the tutorial links and other information.  \nThe listed projects below are perfect for anyone who likes to work at their own pace when it fits best with their schedule. Campers will be introduced to a variety of disciplines in mixed media\, painting\, drawing\, and textile arts during these fun projects. Project Boxes will contain most* art supplies and materials. Pick and choose your projects that interest you. Or\, pick a curated theme containing a group of projects by media type. \nSupplies: \nMost supplies are included in the Project Boxes with the exception of scissors\, watercolor paints\, glue\, pencils (things you may have from the school year). However\, we can offer some gently used items (crayons\, markers\, colored pencils\, pastels\, and some watercolor paint trays\, etc..) for a small donation upon pick up. \nPick Up: \nProject Boxes will be available for contactless pick-up at the Octagon Center for the Arts Gallery Shop Tuesdays – Thursdays from 10 am – 5:30 pm. No delivery available. Materials will be available for pick up 2 business days after registration is complete.  \nEmail education@octagonarts.org for more information.
URL:https://octagonarts.org/event/a-la-carte-project-box-print-pack-ages-5-15/
LOCATION:Octagon Center for the Arts\, 427 Douglas Avenue\, Ames\, IA\, 50010\, United States
CATEGORIES:Classes
ATTACH;FMTTYPE=image/jpeg:https://octagonarts.org/wp-content/uploads/2020/07/printmaking-stamps.jpg
ORGANIZER;CN="Octagon Center for the Arts":MAILTO:info@octagonarts.org
GEO:42.0257584;-93.6123172
X-APPLE-STRUCTURED-LOCATION;VALUE=URI;X-ADDRESS=Octagon Center for the Arts 427 Douglas Avenue Ames IA 50010 United States;X-APPLE-RADIUS=500;X-TITLE=427 Douglas Avenue:geo:-93.6123172,42.0257584
END:VEVENT
BEGIN:VEVENT
DTSTART;TZID=America/Chicago:20200720T080000
DTEND;TZID=America/Chicago:20200815T170000
DTSTAMP:20260423T165136
CREATED:20200716T031946Z
LAST-MODIFIED:20200717T015713Z
UID:11522-1595232000-1597510800@octagonarts.org
SUMMARY:Pom Pons Pack (Ages 5 - 15)
DESCRIPTION:Summer 2020 Art Camps [At Home Edition]\n\nProject Box: Pom Pons Pack: $10\nVariety of colored yarn for a few pom pons\, pom pon making templates (video tutorial included) \n\nGENERAL INFORMATION ABOUT PROJECT BOXES \nThe Octagon will supply the activities/projects\, supplies\, a short video tutorial\, and some written information (when needed). Depending on the project\, we will also have live “studio hours” via zoom for any questions\, critiques or show and tell. Tutorial links and any virtual information will be sent out once registration is complete. Sign up any time before the end date.  \nPlease allow 2 business days to receive the tutorial links and other information.  \nThe listed projects below are perfect for anyone who likes to work at their own pace when it fits best with their schedule. Campers will be introduced to a variety of disciplines in mixed media\, painting\, drawing\, and textile arts during these fun projects. Project Boxes will contain most* art supplies and materials. Pick and choose your projects that interest you. Or\, pick a curated theme containing a group of projects by media type. \nSupplies: \nMost supplies are included in the Project Boxes with the exception of scissors\, watercolor paints\, glue\, pencils (things you may have from the school year). However\, we can offer some gently used items (crayons\, markers\, colored pencils\, pastels\, and some watercolor paint trays\, etc..) for a small donation upon pick up. \nPick Up: \nProject Boxes will be available for contactless pick-up at the Octagon Center for the Arts Gallery Shop Tuesdays – Thursdays from 10 am – 5:30 pm. No delivery available. Materials will be available for pick up 2 business days after registration is complete.  \nEmail education@octagonarts.org for more information.
URL:https://octagonarts.org/event/a-la-carte-project-box-pom-pons-pack-ages-5-15/
LOCATION:Octagon Center for the Arts\, 427 Douglas Avenue\, Ames\, IA\, 50010\, United States
CATEGORIES:Classes
ATTACH;FMTTYPE=image/jpeg:https://octagonarts.org/wp-content/uploads/2020/07/pom-pon-pack.jpg
ORGANIZER;CN="Octagon Center for the Arts":MAILTO:info@octagonarts.org
GEO:42.0257584;-93.6123172
X-APPLE-STRUCTURED-LOCATION;VALUE=URI;X-ADDRESS=Octagon Center for the Arts 427 Douglas Avenue Ames IA 50010 United States;X-APPLE-RADIUS=500;X-TITLE=427 Douglas Avenue:geo:-93.6123172,42.0257584
END:VEVENT
BEGIN:VEVENT
DTSTART;TZID=America/Chicago:20200720T080000
DTEND;TZID=America/Chicago:20200815T170000
DTSTAMP:20260423T165136
CREATED:20200716T030930Z
LAST-MODIFIED:20200717T015859Z
UID:11518-1595232000-1597510800@octagonarts.org
SUMMARY:Plushie Pack (Ages 5 - 15)
DESCRIPTION:Summer 2020 Art Camps [At Home Edition]\n\nProject Box: Plushie Pack: $15\nPlushie pattern\, colored felt\, needle\, thread\, wiggle eyes\, polyfil stuffing (video tutorial included) \n\nGENERAL INFORMATION ABOUT PROJECT BOXES \nThe Octagon will supply the activities/projects\, supplies\, a short video tutorial\, and some written information (when needed). Depending on the project\, we will also have live “studio hours” via zoom for any questions\, critiques or show and tell. Tutorial links and any virtual information will be sent out once registration is complete. Sign up any time before the end date.  \nPlease allow 2 business days to receive the tutorial links and other information.  \nThe listed projects below are perfect for anyone who likes to work at their own pace when it fits best with their schedule. Campers will be introduced to a variety of disciplines in mixed media\, painting\, drawing\, and textile arts during these fun projects. Project Boxes will contain most* art supplies and materials. Pick and choose your projects that interest you. Or\, pick a curated theme containing a group of projects by media type. \nSupplies: \nMost supplies are included in the Project Boxes with the exception of scissors\, watercolor paints\, glue\, pencils (things you may have from the school year). However\, we can offer some gently used items (crayons\, markers\, colored pencils\, pastels\, and some watercolor paint trays\, etc..) for a small donation upon pick up. \nPick Up: \nProject Boxes will be available for contactless pick-up at the Octagon Center for the Arts Gallery Shop Tuesdays – Thursdays from 10 am – 5:30 pm. No delivery available. Materials will be available for pick up 2 business days after registration is complete.  \nEmail education@octagonarts.org for more information.
URL:https://octagonarts.org/event/a-la-carte-project-box-plushie-pack-ages-5-15/
LOCATION:Octagon Center for the Arts\, 427 Douglas Avenue\, Ames\, IA\, 50010\, United States
CATEGORIES:Classes
ATTACH;FMTTYPE=image/jpeg:https://octagonarts.org/wp-content/uploads/2020/07/plushie-pack.jpg
ORGANIZER;CN="Octagon Center for the Arts":MAILTO:info@octagonarts.org
GEO:42.0257584;-93.6123172
X-APPLE-STRUCTURED-LOCATION;VALUE=URI;X-ADDRESS=Octagon Center for the Arts 427 Douglas Avenue Ames IA 50010 United States;X-APPLE-RADIUS=500;X-TITLE=427 Douglas Avenue:geo:-93.6123172,42.0257584
END:VEVENT
BEGIN:VEVENT
DTSTART;TZID=America/Chicago:20200720T080000
DTEND;TZID=America/Chicago:20200815T170000
DTSTAMP:20260423T165136
CREATED:20200716T024013Z
LAST-MODIFIED:20200717T020133Z
UID:11510-1595232000-1597510800@octagonarts.org
SUMMARY:Painters Pack (Ages 5 - 15)
DESCRIPTION:Summer 2020 Art Camps [At Home Edition]\n\nProject Box: Painters Pack: $25\n1\, 11” x 14” pre stretched canvas\, 3\, artist inspired drawing and painting projects (Heather Galler\, Jasper Johns\, Sandra Silberzweig)\,color wheel\, samples\, sharpie or ink dauber\, paper. (Video tutorials included\, paints or pastels not included) Canvas not shown. \n\nGENERAL INFORMATION ABOUT PROJECT BOXES \nThe Octagon will supply the activities/projects\, supplies\, a short video tutorial\, and some written information (when needed). Depending on the project\, we will also have live “studio hours” via zoom for any questions\, critiques or show and tell. Tutorial links and any virtual information will be sent out once registration is complete. Sign up any time before the end date.  \nPlease allow 2 business days to receive the tutorial links and other information.  \nThe listed projects below are perfect for anyone who likes to work at their own pace when it fits best with their schedule. Campers will be introduced to a variety of disciplines in mixed media\, painting\, drawing\, and textile arts during these fun projects. Project Boxes will contain most* art supplies and materials. Pick and choose your projects that interest you. Or\, pick a curated theme containing a group of projects by media type. \nSupplies: \nMost supplies are included in the Project Boxes with the exception of scissors\, watercolor paints\, glue\, pencils (things you may have from the school year). However\, we can offer some gently used items (crayons\, markers\, colored pencils\, pastels\, and some watercolor paint trays\, etc..) for a small donation upon pick up. \nPick Up: \nProject Boxes will be available for contactless pick-up at the Octagon Center for the Arts Gallery Shop Tuesdays – Thursdays from 10 am – 5:30 pm. No delivery available. Materials will be available for pick up 2 business days after registration is complete.  \nEmail education@octagonarts.org for more information.
URL:https://octagonarts.org/event/a-la-carte-project-box-painters-pack-ages-5-15/
LOCATION:Octagon Center for the Arts\, 427 Douglas Avenue\, Ames\, IA\, 50010\, United States
CATEGORIES:Classes
ATTACH;FMTTYPE=image/jpeg:https://octagonarts.org/wp-content/uploads/2020/07/selfies-project.jpg
ORGANIZER;CN="Octagon Center for the Arts":MAILTO:info@octagonarts.org
GEO:42.0257584;-93.6123172
X-APPLE-STRUCTURED-LOCATION;VALUE=URI;X-ADDRESS=Octagon Center for the Arts 427 Douglas Avenue Ames IA 50010 United States;X-APPLE-RADIUS=500;X-TITLE=427 Douglas Avenue:geo:-93.6123172,42.0257584
END:VEVENT
BEGIN:VEVENT
DTSTART;TZID=America/Chicago:20200720T080000
DTEND;TZID=America/Chicago:20200815T170000
DTSTAMP:20260423T165136
CREATED:20200716T021903Z
LAST-MODIFIED:20200717T020330Z
UID:11505-1595232000-1597510800@octagonarts.org
SUMMARY:Painted Animal Jar (Ages 5 - 15)
DESCRIPTION:Summer 2020 Art Camps [At Home Edition]\n\nProject Box: Painted Animal Jar: $15\n1 glass jar/lid with attached\, unpainted toy animal miniature\, 1\, 2 oz.bottle craft paint (surprise color) \n\nGENERAL INFORMATION ABOUT PROJECT BOXES \nThe Octagon will supply the activities/projects\, supplies\, a short video tutorial\, and some written information (when needed). Depending on the project\, we will also have live “studio hours” via zoom for any questions\, critiques or show and tell. Tutorial links and any virtual information will be sent out once registration is complete. Sign up any time before the end date.  \nPlease allow 2 business days to receive the tutorial links and other information.  \nThe listed projects below are perfect for anyone who likes to work at their own pace when it fits best with their schedule. Campers will be introduced to a variety of disciplines in mixed media\, painting\, drawing\, and textile arts during these fun projects. Project Boxes will contain most* art supplies and materials. Pick and choose your projects that interest you. Or\, pick a curated theme containing a group of projects by media type. \nSupplies: \nMost supplies are included in the Project Boxes with the exception of scissors\, watercolor paints\, glue\, pencils (things you may have from the school year). However\, we can offer some gently used items (crayons\, markers\, colored pencils\, pastels\, and some watercolor paint trays\, etc..) for a small donation upon pick up. \nPick Up: \nProject Boxes will be available for contactless pick-up at the Octagon Center for the Arts Gallery Shop Tuesdays – Thursdays from 10 am – 5:30 pm. No delivery available. Materials will be available for pick up 2 business days after registration is complete.  \nEmail education@octagonarts.org for more information.
URL:https://octagonarts.org/event/a-la-carte-project-box-painted-animal-jar-ages-5-15/
LOCATION:Octagon Center for the Arts\, 427 Douglas Avenue\, Ames\, IA\, 50010\, United States
CATEGORIES:Classes
ATTACH;FMTTYPE=image/jpeg:https://octagonarts.org/wp-content/uploads/2020/07/animal-jar.jpg
ORGANIZER;CN="Octagon Center for the Arts":MAILTO:info@octagonarts.org
GEO:42.0257584;-93.6123172
X-APPLE-STRUCTURED-LOCATION;VALUE=URI;X-ADDRESS=Octagon Center for the Arts 427 Douglas Avenue Ames IA 50010 United States;X-APPLE-RADIUS=500;X-TITLE=427 Douglas Avenue:geo:-93.6123172,42.0257584
END:VEVENT
BEGIN:VEVENT
DTSTART;TZID=America/Chicago:20200720T080000
DTEND;TZID=America/Chicago:20200815T170000
DTSTAMP:20260423T165136
CREATED:20200716T021027Z
LAST-MODIFIED:20200717T020708Z
UID:11501-1595232000-1597510800@octagonarts.org
SUMMARY:Monochromatic Self Portraits (Ages 5 - 15)
DESCRIPTION:Summer 2020 Art Camps [At Home Edition]\n\nProject Box: Monochromatic Self Portraits: $10\nPaper sheets\, skinny sharpie\, mystery color colored pencil\, facial feature idea guide (video tutorial included)\n\n\nGENERAL INFORMATION ABOUT PROJECT BOXES \nThe Octagon will supply the activities/projects\, supplies\, a short video tutorial\, and some written information (when needed). Depending on the project\, we will also have live “studio hours” via zoom for any questions\, critiques or show and tell. Tutorial links and any virtual information will be sent out once registration is complete. Sign up any time before the end date.  \nPlease allow 2 business days to receive the tutorial links and other information.  \nThe listed projects below are perfect for anyone who likes to work at their own pace when it fits best with their schedule. Campers will be introduced to a variety of disciplines in mixed media\, painting\, drawing\, and textile arts during these fun projects. Project Boxes will contain most* art supplies and materials. Pick and choose your projects that interest you. Or\, pick a curated theme containing a group of projects by media type. \nSupplies: \nMost supplies are included in the Project Boxes with the exception of scissors\, watercolor paints\, glue\, pencils (things you may have from the school year). However\, we can offer some gently used items (crayons\, markers\, colored pencils\, pastels\, and some watercolor paint trays\, etc..) for a small donation upon pick up. \nPick Up: \nProject Boxes will be available for contactless pick-up at the Octagon Center for the Arts Gallery Shop Tuesdays – Thursdays from 10 am – 5:30 pm. No delivery available. Materials will be available for pick up 2 business days after registration is complete.  \nEmail education@octagonarts.org for more information.
URL:https://octagonarts.org/event/a-la-carte-project-box-monochromatic-self-portraits-ages-5-15/
LOCATION:Octagon Center for the Arts\, 427 Douglas Avenue\, Ames\, IA\, 50010\, United States
CATEGORIES:Classes
ATTACH;FMTTYPE=image/jpeg:https://octagonarts.org/wp-content/uploads/2020/07/self-portrait-beth.jpg
ORGANIZER;CN="Octagon Center for the Arts":MAILTO:info@octagonarts.org
GEO:42.0257584;-93.6123172
X-APPLE-STRUCTURED-LOCATION;VALUE=URI;X-ADDRESS=Octagon Center for the Arts 427 Douglas Avenue Ames IA 50010 United States;X-APPLE-RADIUS=500;X-TITLE=427 Douglas Avenue:geo:-93.6123172,42.0257584
END:VEVENT
BEGIN:VEVENT
DTSTART;TZID=America/Chicago:20200720T080000
DTEND;TZID=America/Chicago:20200815T170000
DTSTAMP:20260423T165136
CREATED:20200716T015622Z
LAST-MODIFIED:20200717T021014Z
UID:11497-1595232000-1597510800@octagonarts.org
SUMMARY:Mini Gnome Garden (Ages 5 - 15)
DESCRIPTION:Summer 2020 Art Camps [At Home Edition]\n\nProject Box: Mini Gnome Garden: $15\nMini gnome figure\, 3 artificial succulents\, Spanish moss\, craft brown tag board garden container\, magic stones \n\nGENERAL INFORMATION ABOUT PROJECT BOXES \nThe Octagon will supply the activities/projects\, supplies\, a short video tutorial\, and some written information (when needed). Depending on the project\, we will also have live “studio hours” via zoom for any questions\, critiques or show and tell. Tutorial links and any virtual information will be sent out once registration is complete. Sign up any time before the end date.  \nPlease allow 2 business days to receive the tutorial links and other information.  \nThe listed projects below are perfect for anyone who likes to work at their own pace when it fits best with their schedule. Campers will be introduced to a variety of disciplines in mixed media\, painting\, drawing\, and textile arts during these fun projects. Project Boxes will contain most* art supplies and materials. Pick and choose your projects that interest you. Or\, pick a curated theme containing a group of projects by media type. \nSupplies: \nMost supplies are included in the Project Boxes with the exception of scissors\, watercolor paints\, glue\, pencils (things you may have from the school year). However\, we can offer some gently used items (crayons\, markers\, colored pencils\, pastels\, and some watercolor paint trays\, etc..) for a small donation upon pick up. \nPick Up: \nProject Boxes will be available for contactless pick-up at the Octagon Center for the Arts Gallery Shop Tuesdays – Thursdays from 10 am – 5:30 pm. No delivery available. Materials will be available for pick up 2 business days after registration is complete.  \nEmail education@octagonarts.org for more information.
URL:https://octagonarts.org/event/a-la-carte-project-box-mini-gnome-garden-ages-5-15/
LOCATION:Octagon Center for the Arts\, 427 Douglas Avenue\, Ames\, IA\, 50010\, United States
CATEGORIES:Classes
ATTACH;FMTTYPE=image/jpeg:https://octagonarts.org/wp-content/uploads/2020/07/gnome-gardeb.jpg
ORGANIZER;CN="Octagon Center for the Arts":MAILTO:info@octagonarts.org
GEO:42.0257584;-93.6123172
X-APPLE-STRUCTURED-LOCATION;VALUE=URI;X-ADDRESS=Octagon Center for the Arts 427 Douglas Avenue Ames IA 50010 United States;X-APPLE-RADIUS=500;X-TITLE=427 Douglas Avenue:geo:-93.6123172,42.0257584
END:VEVENT
BEGIN:VEVENT
DTSTART;TZID=America/Chicago:20200720T080000
DTEND;TZID=America/Chicago:20200815T170000
DTSTAMP:20260423T165136
CREATED:20200716T003545Z
LAST-MODIFIED:20200722T153632Z
UID:11459-1595232000-1597510800@octagonarts.org
SUMMARY:Book Arts Pack (Ages 5 - 15)
DESCRIPTION:Summer 2020 Art Camps [At Home Edition]\n\nProject Box:  Book Arts Pack (Ages 5 – 15)  $15\nSupplies to create 2 mini accordion books\, 1 Turkish map fold book\, and 1medium size concertina folded book (video tutorial included for concertina book). \n\nGENERAL INFORMATION ABOUT PROJECT BOXES \nThe Octagon will supply the activities/projects\, supplies\, a short video tutorial\, and some written information (when needed). Depending on the project\, we will also have live “studio hours” via zoom for any questions\, critiques or show and tell. Tutorial links and any virtual information will be sent out once registration is complete. Sign up any time before the end date.  \nPlease allow 2 business days to receive the tutorial links and other information.  \nThe listed projects below are perfect for anyone who likes to work at their own pace when it fits best with their schedule. Campers will be introduced to a variety of disciplines in mixed media\, painting\, drawing\, and textile arts during these fun projects. Project Boxes will contain most* art supplies and materials. Pick and choose your projects that interest you. Or\, pick a curated theme containing a group of projects by media type. \nSupplies: \nMost supplies are included in the Project Boxes with the exception of scissors\, watercolor paints\, glue\, pencils (things you may have from the school year). However\, we can offer some gently used items (crayons\, markers\, colored pencils\, pastels\, and some watercolor paint trays\, etc..) for a small donation upon pick up. \nPick Up: \nProject Boxes will be available for contactless pick-up at the Octagon Center for the Arts Gallery Shop Tuesdays – Thursdays from 10 am – 5:30 pm. No delivery available. Materials will be available for pick up 2 business days after registration is complete.  \nEmail education@octagonarts.org for more information.
URL:https://octagonarts.org/event/a-la-carte-project-box-book-arts-pack-ages-5-15/
LOCATION:Octagon Center for the Arts\, 427 Douglas Avenue\, Ames\, IA\, 50010\, United States
CATEGORIES:Classes
ATTACH;FMTTYPE=image/jpeg:https://octagonarts.org/wp-content/uploads/2020/07/mini-books-beth-crop-1.jpg
ORGANIZER;CN="Octagon Center for the Arts":MAILTO:info@octagonarts.org
GEO:42.0257584;-93.6123172
X-APPLE-STRUCTURED-LOCATION;VALUE=URI;X-ADDRESS=Octagon Center for the Arts 427 Douglas Avenue Ames IA 50010 United States;X-APPLE-RADIUS=500;X-TITLE=427 Douglas Avenue:geo:-93.6123172,42.0257584
END:VEVENT
END:VCALENDAR