BEGIN:VCALENDAR
VERSION:2.0
PRODID:-//Octagon Center for the Arts - ECPv6.15.18//NONSGML v1.0//EN
CALSCALE:GREGORIAN
METHOD:PUBLISH
X-ORIGINAL-URL:https://octagonarts.org
X-WR-CALDESC:Events for Octagon Center for the Arts
REFRESH-INTERVAL;VALUE=DURATION:PT1H
X-Robots-Tag:noindex
X-PUBLISHED-TTL:PT1H
BEGIN:VTIMEZONE
TZID:America/Chicago
BEGIN:DAYLIGHT
TZOFFSETFROM:-0600
TZOFFSETTO:-0500
TZNAME:CDT
DTSTART:20160313T080000
END:DAYLIGHT
BEGIN:STANDARD
TZOFFSETFROM:-0500
TZOFFSETTO:-0600
TZNAME:CST
DTSTART:20161106T070000
END:STANDARD
BEGIN:DAYLIGHT
TZOFFSETFROM:-0600
TZOFFSETTO:-0500
TZNAME:CDT
DTSTART:20170312T080000
END:DAYLIGHT
BEGIN:STANDARD
TZOFFSETFROM:-0500
TZOFFSETTO:-0600
TZNAME:CST
DTSTART:20171105T070000
END:STANDARD
BEGIN:DAYLIGHT
TZOFFSETFROM:-0600
TZOFFSETTO:-0500
TZNAME:CDT
DTSTART:20180311T080000
END:DAYLIGHT
BEGIN:STANDARD
TZOFFSETFROM:-0500
TZOFFSETTO:-0600
TZNAME:CST
DTSTART:20181104T070000
END:STANDARD
END:VTIMEZONE
BEGIN:VEVENT
DTSTART;VALUE=DATE:20170818
DTEND;VALUE=DATE:20171001
DTSTAMP:20260423T153748
CREATED:20180806T173044Z
LAST-MODIFIED:20180806T173044Z
UID:3065-1503014400-1506815999@octagonarts.org
SUMMARY:Saw You On The Sidewalks of Russia KAREN COOPER
DESCRIPTION:Saw You On The Sidewalks of Russia \n(видел тебя на тротуарах России!) \nOn Display August 18 – September 30\, 2017\, Community Gallery \nOpening Reception: Saturday\, August 26 from 3-5 P.M. \nDoesn’t matter if it’s the guy who walks in the door while we wait at the dentist’s office\, or the couple who walk by our table into the café\, the twenty-ish aged girl in the really short skirt and 4 inch heels\, or even the biker doing a wheelie on his BMX.  It’s a worldwide occupation\, this people watching gig. \nSaw You On The Sidewalks Of Russia  (видел тебя на тротуарах России!) is images\, paintings\,  of people that we want to be different\, because they live in a country on the other side of the world.  Are they so very different?  Not really – their hopes and dreams are a lot like ours.  \nWe are pulled in to see.  We are all human\, and no matter which side of the earth we live on\, no matter what the name of our country of residence\, no matter which side of the border we’re confined to – we watch. With this exhibit I give you the opportunity to watch through my artist eyes – to people watch with me.   Yes\, it’s a grand adventure. – Karen Cooper
URL:https://octagonarts.org/event/saw-you-on-the-sidewalks-of-russia-karen-cooper/
LOCATION:Octagon Center for the Arts\, 427 Douglas Avenue\, Ames\, IA\, 50010\, United States
CATEGORIES:Exhibits
ATTACH;FMTTYPE=image/jpeg:https://octagonarts.org/wp-content/uploads/2018/08/Cooper_HowSoonBeforeImTooOldForADuc.jpg
ORGANIZER;CN="Octagon Center for the Arts":MAILTO:info@octagonarts.org
GEO:42.0257584;-93.6123172
X-APPLE-STRUCTURED-LOCATION;VALUE=URI;X-ADDRESS=Octagon Center for the Arts 427 Douglas Avenue Ames IA 50010 United States;X-APPLE-RADIUS=500;X-TITLE=427 Douglas Avenue:geo:-93.6123172,42.0257584
END:VEVENT
END:VCALENDAR