BEGIN:VCALENDAR
VERSION:2.0
PRODID:-//Octagon Center for the Arts - ECPv6.15.18//NONSGML v1.0//EN
CALSCALE:GREGORIAN
METHOD:PUBLISH
X-ORIGINAL-URL:https://octagonarts.org
X-WR-CALDESC:Events for Octagon Center for the Arts
REFRESH-INTERVAL;VALUE=DURATION:PT1H
X-Robots-Tag:noindex
X-PUBLISHED-TTL:PT1H
BEGIN:VTIMEZONE
TZID:America/Chicago
BEGIN:DAYLIGHT
TZOFFSETFROM:-0600
TZOFFSETTO:-0500
TZNAME:CDT
DTSTART:20180311T080000
END:DAYLIGHT
BEGIN:STANDARD
TZOFFSETFROM:-0500
TZOFFSETTO:-0600
TZNAME:CST
DTSTART:20181104T070000
END:STANDARD
BEGIN:DAYLIGHT
TZOFFSETFROM:-0600
TZOFFSETTO:-0500
TZNAME:CDT
DTSTART:20190310T080000
END:DAYLIGHT
BEGIN:STANDARD
TZOFFSETFROM:-0500
TZOFFSETTO:-0600
TZNAME:CST
DTSTART:20191103T070000
END:STANDARD
BEGIN:DAYLIGHT
TZOFFSETFROM:-0600
TZOFFSETTO:-0500
TZNAME:CDT
DTSTART:20200308T080000
END:DAYLIGHT
BEGIN:STANDARD
TZOFFSETFROM:-0500
TZOFFSETTO:-0600
TZNAME:CST
DTSTART:20201101T070000
END:STANDARD
END:VTIMEZONE
BEGIN:VEVENT
DTSTART;TZID=America/Chicago:20190606T183000
DTEND;TZID=America/Chicago:20190606T210000
DTSTAMP:20260424T004918
CREATED:20190513T174613Z
LAST-MODIFIED:20190513T174613Z
UID:6564-1559845800-1559854800@octagonarts.org
SUMMARY:Maker Night -- Travel Sketch Journals: Mapping it all out! June 6
DESCRIPTION:Maker Night — Travel Sketch Journals: Mapping it all out! (ages 21+) \nThursday\, June 6 (Register by May 23) \n6:30 – 9 pm \n$45 \nCreate a personal and meaningful travel journal. We will cover simple techniques on how to capture details quickly while on the move that you can apply to your journal right away. Learn to edit through your photos\, writings\, sketches and tidbits of collected ephemera; culminating in bound journal to share and treasure. We will provide hard cover bound sketch journals\, writing\, painting\, drawing\, and cutting utensils\, glue\, paint and scrap paper. \nNorth Studio \nClass limit: 12 \nRegistration closes on at 5pm on 5/23/19 or when the class fills. \n\nTo register: \n\nenter the number of “tickets” you want below (one ticket per student)\nclick “add to cart”  \ncomplete the contact information form that appears after you add a ticket\ncomplete the payment information\ncheck your email for your receipt\n\nPlease contact us with any registration questions or concerns.
URL:https://octagonarts.org/event/maker-night-travel-sketch-journals-mapping-it-all-out-june-6/
LOCATION:Octagon Center for the Arts\, 427 Douglas Avenue\, Ames\, IA\, 50010\, United States
CATEGORIES:Classes
ATTACH;FMTTYPE=image/jpeg:https://octagonarts.org/wp-content/uploads/2018/08/travel-journel.jpg
ORGANIZER;CN="Octagon Center for the Arts":MAILTO:info@octagonarts.org
GEO:42.0257584;-93.6123172
X-APPLE-STRUCTURED-LOCATION;VALUE=URI;X-ADDRESS=Octagon Center for the Arts 427 Douglas Avenue Ames IA 50010 United States;X-APPLE-RADIUS=500;X-TITLE=427 Douglas Avenue:geo:-93.6123172,42.0257584
END:VEVENT
END:VCALENDAR