BEGIN:VCALENDAR
VERSION:2.0
PRODID:-//Octagon Center for the Arts - ECPv6.15.18//NONSGML v1.0//EN
CALSCALE:GREGORIAN
METHOD:PUBLISH
X-WR-CALNAME:Octagon Center for the Arts
X-ORIGINAL-URL:https://octagonarts.org
X-WR-CALDESC:Events for Octagon Center for the Arts
REFRESH-INTERVAL;VALUE=DURATION:PT1H
X-Robots-Tag:noindex
X-PUBLISHED-TTL:PT1H
BEGIN:VTIMEZONE
TZID:America/Chicago
BEGIN:DAYLIGHT
TZOFFSETFROM:-0600
TZOFFSETTO:-0500
TZNAME:CDT
DTSTART:20160313T080000
END:DAYLIGHT
BEGIN:STANDARD
TZOFFSETFROM:-0500
TZOFFSETTO:-0600
TZNAME:CST
DTSTART:20161106T070000
END:STANDARD
BEGIN:DAYLIGHT
TZOFFSETFROM:-0600
TZOFFSETTO:-0500
TZNAME:CDT
DTSTART:20170312T080000
END:DAYLIGHT
BEGIN:STANDARD
TZOFFSETFROM:-0500
TZOFFSETTO:-0600
TZNAME:CST
DTSTART:20171105T070000
END:STANDARD
BEGIN:DAYLIGHT
TZOFFSETFROM:-0600
TZOFFSETTO:-0500
TZNAME:CDT
DTSTART:20180311T080000
END:DAYLIGHT
BEGIN:STANDARD
TZOFFSETFROM:-0500
TZOFFSETTO:-0600
TZNAME:CST
DTSTART:20181104T070000
END:STANDARD
END:VTIMEZONE
BEGIN:VEVENT
DTSTART;VALUE=DATE:20170811
DTEND;VALUE=DATE:20171029
DTSTAMP:20260423T153750
CREATED:20180806T172420Z
LAST-MODIFIED:20180806T172420Z
UID:3060-1502409600-1509235199@octagonarts.org
SUMMARY:Deeply Rooted  STUDIO ART QUILT ASSOCIATION
DESCRIPTION:Deeply Rooted \nSTUDIO ART QUILT ASSOCIATION \nON DISPLAY AUGUST 11 – OCTOBER 28\, 2017\, MAIN GALLERY \nDeeply Rooted\, a juried exhibition organized by the Studio Art Quilt Associates (SAQA)\, explores the meaning of “roots” through the quilt medium. Thirty works are featured\, all created by SAQA members from Illinois\, Iowa\, Nebraska\, and Wisconsin. SAQA\, founded in 1989\, is an organization of more than 3\,000 fiber artists devoted to the education\, exhibition\, promotion\, professional development\, and documentation of the medium. \nPat Bishop\, “Cedar Swamp #5” Fused and machine quilted\, hand-dyed linen and other materials\, silk and silk ties\, commercial fabrics\, 2015\, Collection of the Artist
URL:https://octagonarts.org/event/deeply-rooted-studio-art-quilt-association/
LOCATION:Octagon Center for the Arts\, 427 Douglas Avenue\, Ames\, IA\, 50010\, United States
CATEGORIES:Exhibits
ATTACH;FMTTYPE=image/jpeg:https://octagonarts.org/wp-content/uploads/2018/08/Pat_Bishop_CedarSwamp5.jpg
ORGANIZER;CN="Octagon Center for the Arts":MAILTO:info@octagonarts.org
GEO:42.0257584;-93.6123172
X-APPLE-STRUCTURED-LOCATION;VALUE=URI;X-ADDRESS=Octagon Center for the Arts 427 Douglas Avenue Ames IA 50010 United States;X-APPLE-RADIUS=500;X-TITLE=427 Douglas Avenue:geo:-93.6123172,42.0257584
END:VEVENT
END:VCALENDAR