BEGIN:VCALENDAR
VERSION:2.0
PRODID:-//Octagon Center for the Arts - ECPv6.15.18//NONSGML v1.0//EN
CALSCALE:GREGORIAN
METHOD:PUBLISH
X-ORIGINAL-URL:https://octagonarts.org
X-WR-CALDESC:Events for Octagon Center for the Arts
REFRESH-INTERVAL;VALUE=DURATION:PT1H
X-Robots-Tag:noindex
X-PUBLISHED-TTL:PT1H
BEGIN:VTIMEZONE
TZID:America/Chicago
BEGIN:DAYLIGHT
TZOFFSETFROM:-0600
TZOFFSETTO:-0500
TZNAME:CDT
DTSTART:20180311T080000
END:DAYLIGHT
BEGIN:STANDARD
TZOFFSETFROM:-0500
TZOFFSETTO:-0600
TZNAME:CST
DTSTART:20181104T070000
END:STANDARD
BEGIN:DAYLIGHT
TZOFFSETFROM:-0600
TZOFFSETTO:-0500
TZNAME:CDT
DTSTART:20190310T080000
END:DAYLIGHT
BEGIN:STANDARD
TZOFFSETFROM:-0500
TZOFFSETTO:-0600
TZNAME:CST
DTSTART:20191103T070000
END:STANDARD
BEGIN:DAYLIGHT
TZOFFSETFROM:-0600
TZOFFSETTO:-0500
TZNAME:CDT
DTSTART:20200308T080000
END:DAYLIGHT
BEGIN:STANDARD
TZOFFSETFROM:-0500
TZOFFSETTO:-0600
TZNAME:CST
DTSTART:20201101T070000
END:STANDARD
END:VTIMEZONE
BEGIN:VEVENT
DTSTART;TZID=America/Chicago:20190918T160000
DTEND;TZID=America/Chicago:20190918T173000
DTSTAMP:20260423T144321
CREATED:20190820T232519Z
LAST-MODIFIED:20190828T220121Z
UID:8050-1568822400-1568827800@octagonarts.org
SUMMARY:Very Silly Monster Creative Adventure\, ages 5 – 8 (SEPT)
DESCRIPTION:Very Silly Monster Creative Adventure\nAges: 5 – 8 years old \nDay/Date/Time: Wednesday\, September 18\, 4 – 5:30 pm \nCost: $40 \nDescription: Join children’s author and Illustrator Tim Read as he embarks on a Very Silly Creative Adventure. Students will learn how to draw Very Silly Monsters\, make puppets\, bookmarks\, mini books\, and more! \nInstructor: Tim Read \nLocation: Hunziker Studio \nClass limit: 8 \nRegistration closes when the class fills or on at 6am on 9/16/19. Students cannot be added after the registration closes. \n\nTo register: \n\nscroll down to the “Tickets” section near the bottom of this page\nenter the number of “tickets” you want  (one ticket per student)\nclick “add to cart”  \ncomplete the contact information form that appears after you add a ticket\ncomplete the payment information\ncheck your email for your receipt\n\nPlease note: \n\nStudents cannot be added after the registration closes.\nOctagon members receive class discounts. Please login before registering for classes and your discount will be applied automatically.\nIf you are not a member\, but would like to join\, click here. Purchase your membership first. Then login and proceed as noted above to receive your discount. Your discount will not be applied unless you are logged in.\n\nPlease contact us with any registration questions or concerns. Click here to send a message. Thanks for supporting arts education at the Octagon!
URL:https://octagonarts.org/event/very-silly-monster-creative-adventure-ages-5-8-sept/
LOCATION:Octagon Center for the Arts\, 427 Douglas Avenue\, Ames\, IA\, 50010\, United States
CATEGORIES:Classes
ATTACH;FMTTYPE=image/jpeg:https://octagonarts.org/wp-content/uploads/2018/06/Tim-Read-comics-art-camp.jpg
ORGANIZER;CN="Octagon Center for the Arts":MAILTO:info@octagonarts.org
GEO:42.0257584;-93.6123172
X-APPLE-STRUCTURED-LOCATION;VALUE=URI;X-ADDRESS=Octagon Center for the Arts 427 Douglas Avenue Ames IA 50010 United States;X-APPLE-RADIUS=500;X-TITLE=427 Douglas Avenue:geo:-93.6123172,42.0257584
END:VEVENT
BEGIN:VEVENT
DTSTART;TZID=America/Chicago:20190928T090000
DTEND;TZID=America/Chicago:20191012T103000
DTSTAMP:20260423T144321
CREATED:20190814T004353Z
LAST-MODIFIED:20190925T161539Z
UID:7951-1569661200-1570876200@octagonarts.org
SUMMARY:Comic Book Class\, ages 8-13 (SEPT/OCT)
DESCRIPTION:Comic Book Class\nAges: 8-13 years old \nDay/Time: Saturdays\, 9 – 10:30 am \nDates: September 28 – October 12 (3 weeks) \nCost: $70 \nDescription: Learn the basics of what it takes to create your very own comic book. Students will learn basic layout and design\, Story structure\, and how to create effective dialogue.  \nInstructor: Tim Read \nLocation: Adams Studio \nClass limit: 12 \nRegistration closes when the class fills or on at noon on 9/26/19. Students cannot be added after the registration closes. \n\nTo register: \n\nscroll down to the “Tickets” section near the bottom of this page\nenter the number of “tickets” you want  (one ticket per student)\nclick “add to cart”  \ncomplete the contact information form that appears after you add a ticket\ncomplete the payment information\ncheck your email for your receipt\n\nPlease note: \n\nStudents cannot be added after the registration closes.\nOctagon members receive class discounts. Please login before registering for classes and your discount will be applied automatically.\nIf you are not a member\, but would like to join\, click here. Purchase your membership first. Then login and proceed as noted above to receive your discount. Your discount will not be applied unless you are logged in.\n\nPlease contact us with any registration questions or concerns. Click here to send a message. Thanks for supporting arts education at the Octagon!
URL:https://octagonarts.org/event/comic-book-class-ages-8-13-sept-oct/
LOCATION:Octagon Center for the Arts\, 427 Douglas Avenue\, Ames\, IA\, 50010\, United States
CATEGORIES:Classes
ATTACH;FMTTYPE=image/jpeg:https://octagonarts.org/wp-content/uploads/2018/06/comic-bood.jpg
ORGANIZER;CN="Octagon Center for the Arts":MAILTO:info@octagonarts.org
GEO:42.0257584;-93.6123172
X-APPLE-STRUCTURED-LOCATION;VALUE=URI;X-ADDRESS=Octagon Center for the Arts 427 Douglas Avenue Ames IA 50010 United States;X-APPLE-RADIUS=500;X-TITLE=427 Douglas Avenue:geo:-93.6123172,42.0257584
END:VEVENT
BEGIN:VEVENT
DTSTART;TZID=America/Chicago:20191107T180000
DTEND;TZID=America/Chicago:20191107T193000
DTSTAMP:20260423T144321
CREATED:20190814T011207Z
LAST-MODIFIED:20190828T210604Z
UID:7957-1573149600-1573155000@octagonarts.org
SUMMARY:Caricature\, Ages 13+ (NOV)
DESCRIPTION:Caricature\nAges: 13 years old and up \nDay/Date/Time: Thursday\, November 7\, 6 – 7:30 pm \nCost: $60 \nDescription: Have you ever wondered how caricature artist do what they do? Learn basic techniques of caricature art and that of famous artists in the field. Students will learn how to see their subject through the eyes of a caricaturist and with a little practice be able to impress their friends and family with their new found skills. Note: Some drawing skill helpful but not required. Portrait drawing is helpful but again…not required. \nInstructor: Tim Read \nStudio: TBA \nClass limit: 16 \nRegistration closes when the class fills or on at 6am on 11/5/19. Students cannot be added after the registration closes. \n\nTo register: \n\nscroll down to the “Tickets” section near the bottom of this page\nenter the number of “tickets” you want  (one ticket per student)\nclick “add to cart”  \ncomplete the contact information form that appears after you add a ticket\ncomplete the payment information\ncheck your email for your receipt\n\nPlease note: \n\nStudents cannot be added after the registration closes.\nOctagon members receive class discounts. Please login before registering for classes and your discount will be applied automatically.\nIf you are not a member\, but would like to join\, click here. Purchase your membership first. Then login and proceed as noted above to receive your discount. Your discount will not be applied unless you are logged in.\n\nPlease contact us with any registration questions or concerns. Click here to send a message. Thanks for supporting arts education at the Octagon!
URL:https://octagonarts.org/event/caricature-ages-13-nov/
LOCATION:Octagon Center for the Arts\, 427 Douglas Avenue\, Ames\, IA\, 50010\, United States
CATEGORIES:Classes
ATTACH;FMTTYPE=image/jpeg:https://octagonarts.org/wp-content/uploads/2018/06/Tim-Read-comics-art-camp.jpg
ORGANIZER;CN="Octagon Center for the Arts":MAILTO:info@octagonarts.org
GEO:42.0257584;-93.6123172
X-APPLE-STRUCTURED-LOCATION;VALUE=URI;X-ADDRESS=Octagon Center for the Arts 427 Douglas Avenue Ames IA 50010 United States;X-APPLE-RADIUS=500;X-TITLE=427 Douglas Avenue:geo:-93.6123172,42.0257584
END:VEVENT
BEGIN:VEVENT
DTSTART;TZID=America/Chicago:20191207T100000
DTEND;TZID=America/Chicago:20191207T140000
DTSTAMP:20260423T144321
CREATED:20190814T012420Z
LAST-MODIFIED:20190828T210246Z
UID:7960-1575712800-1575727200@octagonarts.org
SUMMARY:Children’s Picture Book Design and Self-publishing\, ages 15+ (DEC)
DESCRIPTION:Children’s Picture Book Design and Self-publishing\nAges: 15 years old and up \nDay/Date/Time: Saturday\, December 7\, 10 am – 2 pm (30 minute break at 12 pm) \nCost: $135 \nDescription:  \nHave you always wanted to create you very own children’s book but just don’t know how to get it off the ground? Self-published children’s author and Illustrator of My Very Silly Monster\, Tim Read will share what he has learned on his creative journey into children’s publishing. He will talk about the ins and outs of self-publishing as well as the challenges of the genre. \nStudents will have an opportunity to share their manuscript and receive positive constructive feedback from other classmates and the instructor. Students will learn the basics of layout/design and benefits of online print-on-demand publishing. \nInstructor: Tim Read \nStudio: TBA \nClass limit: 25 \nRegistration closes when the class fills or on at 6am on 12/5/19. Students cannot be added after the registration closes. \n\nTo register: \n\nscroll down to the “Tickets” section near the bottom of this page\nenter the number of “tickets” you want  (one ticket per student)\nclick “add to cart”  \ncomplete the contact information form that appears after you add a ticket\ncomplete the payment information\ncheck your email for your receipt\n\nPlease note: \n\nStudents cannot be added after the registration closes.\nOctagon members receive class discounts. Please login before registering for classes and your discount will be applied automatically.\nIf you are not a member\, but would like to join\, click here. Purchase your membership first. Then login and proceed as noted above to receive your discount. Your discount will not be applied unless you are logged in.\n\nPlease contact us with any registration questions or concerns. Click here to send a message. Thanks for supporting arts education at the Octagon!
URL:https://octagonarts.org/event/childrens-picture-book-design-and-self-publishing-ages-15-dec/
LOCATION:Octagon Center for the Arts\, 427 Douglas Avenue\, Ames\, IA\, 50010\, United States
CATEGORIES:Classes
ATTACH;FMTTYPE=image/jpeg:https://octagonarts.org/wp-content/uploads/2019/08/tim-read.jpg
ORGANIZER;CN="Octagon Center for the Arts":MAILTO:info@octagonarts.org
GEO:42.0257584;-93.6123172
X-APPLE-STRUCTURED-LOCATION;VALUE=URI;X-ADDRESS=Octagon Center for the Arts 427 Douglas Avenue Ames IA 50010 United States;X-APPLE-RADIUS=500;X-TITLE=427 Douglas Avenue:geo:-93.6123172,42.0257584
END:VEVENT
END:VCALENDAR