BEGIN:VCALENDAR
VERSION:2.0
PRODID:-//Octagon Center for the Arts - ECPv6.15.18//NONSGML v1.0//EN
CALSCALE:GREGORIAN
METHOD:PUBLISH
X-ORIGINAL-URL:https://octagonarts.org
X-WR-CALDESC:Events for Octagon Center for the Arts
REFRESH-INTERVAL;VALUE=DURATION:PT1H
X-Robots-Tag:noindex
X-PUBLISHED-TTL:PT1H
BEGIN:VTIMEZONE
TZID:America/Chicago
BEGIN:DAYLIGHT
TZOFFSETFROM:-0600
TZOFFSETTO:-0500
TZNAME:CDT
DTSTART:20180311T080000
END:DAYLIGHT
BEGIN:STANDARD
TZOFFSETFROM:-0500
TZOFFSETTO:-0600
TZNAME:CST
DTSTART:20181104T070000
END:STANDARD
BEGIN:DAYLIGHT
TZOFFSETFROM:-0600
TZOFFSETTO:-0500
TZNAME:CDT
DTSTART:20190310T080000
END:DAYLIGHT
BEGIN:STANDARD
TZOFFSETFROM:-0500
TZOFFSETTO:-0600
TZNAME:CST
DTSTART:20191103T070000
END:STANDARD
BEGIN:DAYLIGHT
TZOFFSETFROM:-0600
TZOFFSETTO:-0500
TZNAME:CDT
DTSTART:20200308T080000
END:DAYLIGHT
BEGIN:STANDARD
TZOFFSETFROM:-0500
TZOFFSETTO:-0600
TZNAME:CST
DTSTART:20201101T070000
END:STANDARD
END:VTIMEZONE
BEGIN:VEVENT
DTSTART;TZID=America/Chicago:20190917T180000
DTEND;TZID=America/Chicago:20191022T210000
DTSTAMP:20260423T131433
CREATED:20190814T000014Z
LAST-MODIFIED:20190828T220203Z
UID:7936-1568743200-1571778000@octagonarts.org
SUMMARY:Wheelthrowing: Ceramic Bowls and Mugs\, ages 16+ (SEPT/OCT)
DESCRIPTION:Wheelthrowing: Ceramic Bowls and Mugs\nAges: 16 years old and up \nTime/Day: Tuesdays\, 6 – 9 pm \nDates: (6 weeks) September 17 – October 22 \nCost: $165 includes 25lbs. of clay\, all glazes and firing. [Tuition: $135 + Clay/Glazes/Firing: $30] \nDescription: Students at all skill levels will learn\, review and hone wheel throwing techniques from wedging to glazing. Students will have finished bowls at the end of the course. \nInstructor: Suzy Block \nLocation: Ceramics Studio \nClass Limit: 7 \nRegistration closes when the class fills or on at 6am on 9/13/19. Students cannot be added after the registration closes. \n\nTo register: \n\nscroll down to the “Tickets” section near the bottom of this page\nenter the number of “tickets” you want  (one ticket per student)\nclick “add to cart”  \ncomplete the contact information form that appears after you add a ticket\ncomplete the payment information\ncheck your email for your receipt\n\nPlease note: \n\nStudents cannot be added after the registration closes.\nOctagon members receive class discounts. Please login before registering for classes and your discount will be applied automatically.\nIf you are not a member\, but would like to join\, click here. Purchase your membership first. Then login and proceed as noted above to receive your discount. Your discount will not be applied unless you are logged in.\n\nPlease contact us with any registration questions or concerns. Click here to send a message. Thanks for supporting arts education at the Octagon!
URL:https://octagonarts.org/event/7936/
LOCATION:Octagon Center for the Arts\, 427 Douglas Avenue\, Ames\, IA\, 50010\, United States
CATEGORIES:Classes
ATTACH;FMTTYPE=image/jpeg:https://octagonarts.org/wp-content/uploads/2019/01/make-a-plate.jpg
ORGANIZER;CN="Octagon Center for the Arts":MAILTO:info@octagonarts.org
GEO:42.0257584;-93.6123172
X-APPLE-STRUCTURED-LOCATION;VALUE=URI;X-ADDRESS=Octagon Center for the Arts 427 Douglas Avenue Ames IA 50010 United States;X-APPLE-RADIUS=500;X-TITLE=427 Douglas Avenue:geo:-93.6123172,42.0257584
END:VEVENT
END:VCALENDAR