BEGIN:VCALENDAR
VERSION:2.0
PRODID:-//Octagon Center for the Arts - ECPv6.15.18//NONSGML v1.0//EN
CALSCALE:GREGORIAN
METHOD:PUBLISH
X-ORIGINAL-URL:https://octagonarts.org
X-WR-CALDESC:Events for Octagon Center for the Arts
REFRESH-INTERVAL;VALUE=DURATION:PT1H
X-Robots-Tag:noindex
X-PUBLISHED-TTL:PT1H
BEGIN:VTIMEZONE
TZID:America/Chicago
BEGIN:DAYLIGHT
TZOFFSETFROM:-0600
TZOFFSETTO:-0500
TZNAME:CDT
DTSTART:20170312T080000
END:DAYLIGHT
BEGIN:STANDARD
TZOFFSETFROM:-0500
TZOFFSETTO:-0600
TZNAME:CST
DTSTART:20171105T070000
END:STANDARD
BEGIN:DAYLIGHT
TZOFFSETFROM:-0600
TZOFFSETTO:-0500
TZNAME:CDT
DTSTART:20180311T080000
END:DAYLIGHT
BEGIN:STANDARD
TZOFFSETFROM:-0500
TZOFFSETTO:-0600
TZNAME:CST
DTSTART:20181104T070000
END:STANDARD
BEGIN:DAYLIGHT
TZOFFSETFROM:-0600
TZOFFSETTO:-0500
TZNAME:CDT
DTSTART:20190310T080000
END:DAYLIGHT
BEGIN:STANDARD
TZOFFSETFROM:-0500
TZOFFSETTO:-0600
TZNAME:CST
DTSTART:20191103T070000
END:STANDARD
END:VTIMEZONE
BEGIN:VEVENT
DTSTART;TZID=America/Chicago:20181007T120000
DTEND;TZID=America/Chicago:20181028T160000
DTSTAMP:20260423T043100
CREATED:20180814T022425Z
LAST-MODIFIED:20181006T034442Z
UID:3197-1538913600-1540742400@octagonarts.org
SUMMARY:Contemporary Collage
DESCRIPTION:Contemporary Collage \nSundays\, 12 – 4 pm \nOctober 7 – 28 (4 weeks) $300 nonmember/ $270 members \n1 credit: Heartland AEA credit available $35(registration for credit at AEA website by the first day of class) \nExplore new uses of unexpected materials while introducing conceptual ideas into your art practice. Complete mixed media projects based on current issues and discover the relationship between found objects and visual art. \nInstructor: Jack Wilkes \nNorth Studio \nClass limit 20 participants \n  \nTo register: \n\nenter the number of “tickets” you want below (one ticket per student)\nclick “add to cart”  \ncomplete the contact information form that appears after you add a ticket\ncomplete the payment information\ncheck your email for your receipt\n\nPlease contact us with any registration questions or concerns. \nRegistration closes on at 6am on 10/4/18.
URL:https://octagonarts.org/event/contemporary-collage/
LOCATION:Octagon Center for the Arts\, 427 Douglas Avenue\, Ames\, IA\, 50010\, United States
CATEGORIES:Classes
ATTACH;FMTTYPE=image/jpeg:https://octagonarts.org/wp-content/uploads/2018/08/contemp-collageclouse.jpg
ORGANIZER;CN="Octagon Center for the Arts":MAILTO:info@octagonarts.org
GEO:42.0257584;-93.6123172
X-APPLE-STRUCTURED-LOCATION;VALUE=URI;X-ADDRESS=Octagon Center for the Arts 427 Douglas Avenue Ames IA 50010 United States;X-APPLE-RADIUS=500;X-TITLE=427 Douglas Avenue:geo:-93.6123172,42.0257584
END:VEVENT
END:VCALENDAR