BEGIN:VCALENDAR
VERSION:2.0
PRODID:-//Octagon Center for the Arts - ECPv6.15.18//NONSGML v1.0//EN
CALSCALE:GREGORIAN
METHOD:PUBLISH
X-WR-CALNAME:Octagon Center for the Arts
X-ORIGINAL-URL:https://octagonarts.org
X-WR-CALDESC:Events for Octagon Center for the Arts
REFRESH-INTERVAL;VALUE=DURATION:PT1H
X-Robots-Tag:noindex
X-PUBLISHED-TTL:PT1H
BEGIN:VTIMEZONE
TZID:America/Chicago
BEGIN:DAYLIGHT
TZOFFSETFROM:-0600
TZOFFSETTO:-0500
TZNAME:CDT
DTSTART:20240310T080000
END:DAYLIGHT
BEGIN:STANDARD
TZOFFSETFROM:-0500
TZOFFSETTO:-0600
TZNAME:CST
DTSTART:20241103T070000
END:STANDARD
BEGIN:DAYLIGHT
TZOFFSETFROM:-0600
TZOFFSETTO:-0500
TZNAME:CDT
DTSTART:20250309T080000
END:DAYLIGHT
BEGIN:STANDARD
TZOFFSETFROM:-0500
TZOFFSETTO:-0600
TZNAME:CST
DTSTART:20251102T070000
END:STANDARD
BEGIN:DAYLIGHT
TZOFFSETFROM:-0600
TZOFFSETTO:-0500
TZNAME:CDT
DTSTART:20260308T080000
END:DAYLIGHT
BEGIN:STANDARD
TZOFFSETFROM:-0500
TZOFFSETTO:-0600
TZNAME:CST
DTSTART:20261101T070000
END:STANDARD
END:VTIMEZONE
BEGIN:VEVENT
DTSTART;TZID=America/Chicago:20250717T170000
DTEND;TZID=America/Chicago:20250717T200000
DTSTAMP:20260425T162044
CREATED:20250616T205350Z
LAST-MODIFIED:20250616T205429Z
UID:17040-1752771600-1752782400@octagonarts.org
SUMMARY:Third Thursdays: Musical Guests on the Patio Featuring The Bone People!
DESCRIPTION:  \n\nMusical Guests on the Patio Featuring The Bone People!\nThursday\, July 17 5pm – 8pm \nThe Bone People are back! This longtime Iowa-based band is back in the studio and ready to spend an evening singing for you. Join us on the patio\, on the west side of the Octagon\, from 5-8 PM on Thursday\, July 17 for an evening of great music. This is a free event for all ages! Drinks will be available for a donation.
URL:https://octagonarts.org/event/third-thursdays/
LOCATION:Octagon Center for the Arts\, 427 Douglas Avenue\, Ames\, IA\, 50010\, United States
CATEGORIES:Events
ATTACH;FMTTYPE=application/pdf:https://octagonarts.org/wp-content/uploads/2025/06/bone-people_brick-wall-poster-1.pdf
ORGANIZER;CN="Octagon Center for the Arts":MAILTO:info@octagonarts.org
GEO:42.0257584;-93.6123172
X-APPLE-STRUCTURED-LOCATION;VALUE=URI;X-ADDRESS=Octagon Center for the Arts 427 Douglas Avenue Ames IA 50010 United States;X-APPLE-RADIUS=500;X-TITLE=427 Douglas Avenue:geo:-93.6123172,42.0257584
END:VEVENT
END:VCALENDAR