BEGIN:VCALENDAR
VERSION:2.0
PRODID:-//Octagon Center for the Arts - ECPv6.15.18//NONSGML v1.0//EN
CALSCALE:GREGORIAN
METHOD:PUBLISH
X-ORIGINAL-URL:https://octagonarts.org
X-WR-CALDESC:Events for Octagon Center for the Arts
REFRESH-INTERVAL;VALUE=DURATION:PT1H
X-Robots-Tag:noindex
X-PUBLISHED-TTL:PT1H
BEGIN:VTIMEZONE
TZID:America/Chicago
BEGIN:DAYLIGHT
TZOFFSETFROM:-0600
TZOFFSETTO:-0500
TZNAME:CDT
DTSTART:20170312T080000
END:DAYLIGHT
BEGIN:STANDARD
TZOFFSETFROM:-0500
TZOFFSETTO:-0600
TZNAME:CST
DTSTART:20171105T070000
END:STANDARD
BEGIN:DAYLIGHT
TZOFFSETFROM:-0600
TZOFFSETTO:-0500
TZNAME:CDT
DTSTART:20180311T080000
END:DAYLIGHT
BEGIN:STANDARD
TZOFFSETFROM:-0500
TZOFFSETTO:-0600
TZNAME:CST
DTSTART:20181104T070000
END:STANDARD
BEGIN:DAYLIGHT
TZOFFSETFROM:-0600
TZOFFSETTO:-0500
TZNAME:CDT
DTSTART:20190310T080000
END:DAYLIGHT
BEGIN:STANDARD
TZOFFSETFROM:-0500
TZOFFSETTO:-0600
TZNAME:CST
DTSTART:20191103T070000
END:STANDARD
BEGIN:DAYLIGHT
TZOFFSETFROM:-0600
TZOFFSETTO:-0500
TZNAME:CDT
DTSTART:20200308T080000
END:DAYLIGHT
BEGIN:STANDARD
TZOFFSETFROM:-0500
TZOFFSETTO:-0600
TZNAME:CST
DTSTART:20201101T070000
END:STANDARD
BEGIN:DAYLIGHT
TZOFFSETFROM:-0600
TZOFFSETTO:-0500
TZNAME:CDT
DTSTART:20210314T080000
END:DAYLIGHT
BEGIN:STANDARD
TZOFFSETFROM:-0500
TZOFFSETTO:-0600
TZNAME:CST
DTSTART:20211107T070000
END:STANDARD
BEGIN:DAYLIGHT
TZOFFSETFROM:-0600
TZOFFSETTO:-0500
TZNAME:CDT
DTSTART:20220313T080000
END:DAYLIGHT
BEGIN:STANDARD
TZOFFSETFROM:-0500
TZOFFSETTO:-0600
TZNAME:CST
DTSTART:20221106T070000
END:STANDARD
BEGIN:DAYLIGHT
TZOFFSETFROM:-0600
TZOFFSETTO:-0500
TZNAME:CDT
DTSTART:20230312T080000
END:DAYLIGHT
BEGIN:STANDARD
TZOFFSETFROM:-0500
TZOFFSETTO:-0600
TZNAME:CST
DTSTART:20231105T070000
END:STANDARD
BEGIN:DAYLIGHT
TZOFFSETFROM:-0600
TZOFFSETTO:-0500
TZNAME:CDT
DTSTART:20240310T080000
END:DAYLIGHT
BEGIN:STANDARD
TZOFFSETFROM:-0500
TZOFFSETTO:-0600
TZNAME:CST
DTSTART:20241103T070000
END:STANDARD
BEGIN:DAYLIGHT
TZOFFSETFROM:-0600
TZOFFSETTO:-0500
TZNAME:CDT
DTSTART:20250309T080000
END:DAYLIGHT
BEGIN:STANDARD
TZOFFSETFROM:-0500
TZOFFSETTO:-0600
TZNAME:CST
DTSTART:20251102T070000
END:STANDARD
BEGIN:DAYLIGHT
TZOFFSETFROM:-0600
TZOFFSETTO:-0500
TZNAME:CDT
DTSTART:20260308T080000
END:DAYLIGHT
BEGIN:STANDARD
TZOFFSETFROM:-0500
TZOFFSETTO:-0600
TZNAME:CST
DTSTART:20261101T070000
END:STANDARD
END:VTIMEZONE
BEGIN:VEVENT
DTSTART;TZID=America/Chicago:20251009T180000
DTEND;TZID=America/Chicago:20251009T200000
DTSTAMP:20260423T042726
CREATED:20251001T220041Z
LAST-MODIFIED:20251001T220041Z
UID:17552-1760032800-1760040000@octagonarts.org
SUMMARY:Witches Walk!
DESCRIPTION:Come out for a scary good time on Thursday\, October 9! \nDowntown businesses will be open late and hosting snacks and sips between 6:00 – 8:00pm.\nVisit us at the Octagon Shop and gift yourself with a great pair of earrings\, then come back in November for a gift for someone else! 10% off all earrings in the Octagon Shop! \nThis Downtown event is generally geared towards adults\, but all are welcome and costumes are encouraged.  If you are looking for a trick or treating opportunity for kids\, join us for Downtown Trick or Treat on October 30!\nVisit the Downtown Ames event to get more info for deals and activities at other Ames businesses
URL:https://octagonarts.org/event/witches-walk/
LOCATION:Octagon Center for the Arts\, 427 Douglas Avenue\, Ames\, IA\, 50010\, United States
CATEGORIES:Events,General,Shop
ATTACH;FMTTYPE=image/png:https://octagonarts.org/wp-content/uploads/2025/10/Witches-Walk-2025-Carousel-1.png
ORGANIZER;CN="Octagon Center for the Arts":MAILTO:info@octagonarts.org
GEO:42.0257584;-93.6123172
X-APPLE-STRUCTURED-LOCATION;VALUE=URI;X-ADDRESS=Octagon Center for the Arts 427 Douglas Avenue Ames IA 50010 United States;X-APPLE-RADIUS=500;X-TITLE=427 Douglas Avenue:geo:-93.6123172,42.0257584
END:VEVENT
BEGIN:VEVENT
DTSTART;TZID=America/Chicago:20250918T170000
DTEND;TZID=America/Chicago:20250918T200000
DTSTAMP:20260423T042726
CREATED:20250821T231529Z
LAST-MODIFIED:20250908T202241Z
UID:17215-1758214800-1758225600@octagonarts.org
SUMMARY:Third Thursdays: Downtown Ames Music Walk!
DESCRIPTION:  \nDowntown Ames Music Walk!\nThursday\, September 18th\, 5:00pm – 8:00pm \nParticipate in Music Walk\, from 5:00-8:00pm\, throughout downtown and stop by to see our featured band\, Foxpin!\nJoin us on the Octagon Patio in the alley on the west side of the building for good music and good company! \nOur Performer:\nFoxpin is a band from Ames\, Iowa that performs earnest rock music with bluesy keys and a tasteful rhythm section. Foxpin members are Ben Erbes (keys)\, Chase Abner (bass/vocals)\, Dan McClanahan (drums)\, and Lane Jahn (guitar/vocals). \nCheck our their music and socials:\nMusic LinkTree\nFacebook\nInstagram
URL:https://octagonarts.org/event/third-thursdays-downtown-ames-music-walk/
LOCATION:Octagon Center for the Arts\, 427 Douglas Avenue\, Ames\, IA\, 50010\, United States
CATEGORIES:Events
ATTACH;FMTTYPE=image/png:https://octagonarts.org/wp-content/uploads/2025/08/2025-Music-Walk-Carousel.png
ORGANIZER;CN="Octagon Center for the Arts":MAILTO:info@octagonarts.org
GEO:42.0257584;-93.6123172
X-APPLE-STRUCTURED-LOCATION;VALUE=URI;X-ADDRESS=Octagon Center for the Arts 427 Douglas Avenue Ames IA 50010 United States;X-APPLE-RADIUS=500;X-TITLE=427 Douglas Avenue:geo:-93.6123172,42.0257584
END:VEVENT
BEGIN:VEVENT
DTSTART;TZID=America/Chicago:20181004T170000
DTEND;TZID=America/Chicago:20181004T190000
DTSTAMP:20260423T042726
CREATED:20180725T163106Z
LAST-MODIFIED:20180725T164252Z
UID:2274-1538672400-1538679600@octagonarts.org
SUMMARY:Gallery Night:  Aperture Awards & Smithsonian Exhibit Tailgate
DESCRIPTION:Join us for an exciting Gallery Night — FREE and open to the public! \n\nAmes Downtown will host a tailgate event on Douglas Avenue in front of the Octagon. Details to follow!\nThe awards for Aperture 2018 will be announced.\nArtist Bogumil Bronkowsk may also be with us; we are still working on this possibility.
URL:https://octagonarts.org/event/gallery-night-aperture-awards-smithsonian-exhibit-tailgate/
CATEGORIES:Events
ORGANIZER;CN="Octagon Center for the Arts":MAILTO:info@octagonarts.org
END:VEVENT
BEGIN:VEVENT
DTSTART;VALUE=DATE:20181004
DTEND;VALUE=DATE:20181112
DTSTAMP:20260423T042726
CREATED:20180725T033850Z
LAST-MODIFIED:20181109T020655Z
UID:2257-1538611200-1541980799@octagonarts.org
SUMMARY:Smithsonian Institution's Museum on Main Street Exhibit: Hometown Teams
DESCRIPTION:Smithsonian Institution’s Museum on Main Street Exhibit \nHometown Teams \nOctober 4 – November 10 \nMAIN GALLERY \nOur love of sports begins in our hometowns. We play them on ball fields and sandlots\, on courts and on ice\, in parks and playgrounds\, even in the street. From pick-up games to organized leagues\, millions of Americans of all ages play sports. Win or lose\, we yearn to compete and play another day. \nIf we’re not playing sports\, we’re watching them. We sit in the stands and root for the local high school team\, or gather on the sideline and cheer on our sons and daughters as they take their first swing or score their first goal. \nHometown sports are more than just games—they shape our lives and unite us and celebrate who we are as Americans. \nFIND OUT MORE ABOUT THIS UNIQUE EXHIBIT HERE
URL:https://octagonarts.org/event/smithsonian-institutions-museum-on-main-street-exhibit-hometown-teams/
LOCATION:Octagon Center for the Arts\, 427 Douglas Avenue\, Ames\, IA\, 50010\, United States
CATEGORIES:Exhibits
ATTACH;FMTTYPE=image/jpeg:https://octagonarts.org/wp-content/uploads/2018/06/Hometown_Teams.jpg
ORGANIZER;CN="Octagon Center for the Arts":MAILTO:info@octagonarts.org
GEO:42.0257584;-93.6123172
X-APPLE-STRUCTURED-LOCATION;VALUE=URI;X-ADDRESS=Octagon Center for the Arts 427 Douglas Avenue Ames IA 50010 United States;X-APPLE-RADIUS=500;X-TITLE=427 Douglas Avenue:geo:-93.6123172,42.0257584
END:VEVENT
END:VCALENDAR